Workbook

Sheet 원가
A1: 공 사 원 가 계 산 서
A2: 공 사 명: | B2: 대학혁신지원사업 양궁 교육시설 구축공사(전기)
A3: 금 액 : | B3: ="일금 "&NUMBERSTRING(G26,1)&"원정 ( \ "&TEXT(G26,"#,###")&" )" -> 일금 영원정 ( \ )
A5: 비 목 | G5: 금 액 | H5: 구 성 비 | N5: 비 고
A6: 순 공 사 원 가 | B6: 재 료 비 | G6: =총괄표!I29 -> 0
B7: 노 무 비 | C7: 직 접 노 무 비 | G7: =총괄표!L29 -> 0
C8: 간 접 노 무 비 | G8: =INT(G7*K8) -> 0 | H8: 직접노무비 | J8: * | K8: 0.13
C9: [소 계] | G9: =G7+G8 -> 0
B10: 경 비 | C10: 기 계 경 비
C11: 산 재 보 험 료 | G11: 490598 | H11: 노무비 | J11: * | K11: 0.037
C12: 고 용 보 험 료 | G12: 133920 | H12: 노무비 | J12: * | K12: 0.0101
C13: 건 강 보 험 료 | H13: 직접노무비 | J13: * | K13: 0.03495
C14: 노 인 장 기 요 양 보 험 료 | H14: 건강보험료 | J14: * | K14: 0.1227
C15: 연 금 보 험 료 | H15: 직접노무비 | J15: * | K15: 0.045
C16: 퇴 직 공 제 부 금 비 | H16: 직접노무비 | J16: *
C17: 안 전 관 리 비 | G17: 375919 | H17: 재료비 + 직접노무비 | J17: * | K17: 0.0293
C18: 기 타 경 비 | H18: ( 재료비 + 노무비 ) | K18: * | L18: 0.058
C19: [소 계]
A20: 계
A21: 일 반 관 리 비 | H21: ( 재료비 + 노무비 + 경비 ) | L21: * | M21: 0.06
A22: 이 윤 | H22: ( 노무비+경비+일반관리비 ) | L22: * | M22: 0.15
A23: 공 급 가 액
A24: 부 가 가 치 세 | H24: 공급가액의 10%
A25: 도 급 공 사 비
A26: 총 공 사 비

Sheet 총괄표
A1: 총줄수-> | B1: 29 | D1: [ 대학혁신지원사업 양궁 교육시설 구축공사(전기) ] | AA1: 연속견적가로형식
A2: 번호 | B2: 공종코드 | C2: … | D2: 공 종 명 | E2: 규격 | F2: 단위 | G2: 수량 | H2: 재료비 | J2: 노무비 | M2: 경비 | P2: 계 | Q2: 비고
H3: 단가 | I3: 금액 | J3: 수량 | K3: 단가 | L3: 금액 | M3: 단가 | N3: 금액 | O3: 단가
B4: 공종줄 | D4: 대학혁신지원사업 양궁 교육시설 구축공사(전기)
B5: 01 | D5: 1. 전기설비공사 | F5: 식 | G5: 1 | H5: =내역서!I55 -> 0 | I5: =G5*H5 -> 0 | K5: =내역서!L55 -> 0 | L5: =G5*K5 -> 0 | M5: =내역서!N55 -> 0 | N5: =G5*M5 -> 0 | O5: =IF((H5+K5+M5)=0, "", (H5+K5+M5)) | P5: =SUM(I5,L5,N5) -> 0
C29: Total | D29: ( 합 계 ) | I29: =TRUNC(SUM(I4:I28)) -> 0 | L29: =TRUNC(SUM(L4:L28)) -> 0 | N29: =TRUNC(SUM(N4:N28)) -> 0 | P29: =TRUNC(SUM(P4:P28)) -> 0

Sheet 내역서
A1: 총줄수-> | B1: 55 | D1: [ 대학혁신지원사업 양궁 교육시설 구축공사(전기) ] | W1: 노임 계산 정보 | AA1: 부속재 및 손료
A2: 번호 | B2: 공종코드 | C2: 코드 | D2: 명 칭 | E2: 규 격 | F2: 단위 | G2: 수량 | H2: 재료비 | J2: 노무비 | M2: 경비 | P2: 계 | Q2: 비고 | W2: 노임계 | X2: 전체(%) | Y2: 공종별(%) | Z2: 노임 소수 | AA2: CD배관재 | AB2: 일반배관재 | AC2: 소모재 | AD2: 자재계 | AE2: 노임계
H3: 단가 | I3: 금액 | J3: 수량 | K3: 단가 | L3: 금액 | M3: 단가 | N3: 금액 | O3: 단가 | AD3: =IF(#REF! =0, "1",#REF!) -> #REF! | AE3: =IF(#REF! =0, "1",#REF!) -> #REF!
B4: 공종줄 | D4: 1.전기설비공사
A5: 59753017003 | B5: 01 | C5: 3913170620174410 | D5: 1종금속제가요전선관 | E5: 16 mm 일반-비방수 | F5: M | G5: 382 | AC5: =G5*H5 -> 0
A6: 59753017004 | B6: 01 | C6: 3913170620174411 | D6: 1종금속제가요전선관 | E6: 22 mm 일반-비방수 | F6: M | G6: 7 | AC6: =G6*H6 -> 0
A7: 59753767011 | B7: 01 | C7: 3912130810035750 | D7: 아우트렛박스 | E7: 8각 54㎜ | F7: 개 | G7: 9
A8: 59753767041 | B8: 01 | C8: 3912130810035753 | D8: 아우트렛박스 | E8: 중형4각 54㎜ | F8: 개 | G8: 26
A9: 59753767231 | B9: 01 | C9: 3912130820174713 | D9: 아우트렛박스 커버 | E9: 커버, 4각, 평형 | F9: 개 | G9: 35
A10: MM300040279 | B10: 01 | C10: 3912130820157231 | D10: 아우트렛박스 커버 | E10: 콘카바 | F10: 개 | G10: 19
A11: MM300040283 | B11: 01 | C11: 3912130320175901 | D11: 노출SW BOX | E11: 16-1방 | F11: 개 | G11: 13
A12: MM300040287 | B12: 01 | C12: 3912130320175905 | D12: 노출4각 BOX | E12: 16-1방 | F12: 개 | G12: 19
A13: MM300040388 | B13: 01 | C13: 3913171221650785 | D13: PVC MOLD | E13: 회색 3호 | F13: M | G13: 54
A14: 56950010001 | B14: 01 | C14: 3913170810037061 | D14: 전선관지지행가 | E14: 16c | F14: 개소 | G14: 135
A15: 56950010002 | B15: 01 | C15: 3913170810037062 | D15: 전선관지지행가 | E15: 22c | F15: 개소 | G15: 3
A16: E1450667012 | B16: 01 | C16: 2612162922076729 | D16: 450/750V 내열비닐절연전선 | E16: HFIX 2.5㎟ | F16: M | G16: 306 | AC16: =G16*H16 -> 0
A17: E1450667013 | B17: 01 | C17: 2612162922076730 | D17: 450/750V 내열비닐절연전선 | E17: HFIX 4㎟ | F17: M | G17: 344 | AC17: =G17*H17 -> 0
A18: E1450927201 | B18: 01 | C18: 2612152420683695 | D18: 접지용비닐절연전선(F-GV) | E18: 2.5㎟ | F18: M | G18: 131 | AC18: =G18*H18 -> 0
A19: E1450927202 | B19: 01 | C19: 2612152420683696 | D19: 접지용비닐절연전선(F-GV) | E19: 4㎟ | F19: M | G19: 172 | AC19: =G19*H19 -> 0
A20: 59301517001 | B20: 01 | C20: 3912998720170517 | D20: 매입스위치 | E20: 15A, 250V 1로1구 | F20: 개 | G20: 4
A21: 59301517002 | B21: 01 | C21: 3912998720170518 | D21: 매입스위치 | E21: 15A, 250V 1로2구 | F21: 개 | G21: 2
A22: 59350317206 | B22: 01 | C22: 3912140620170850 | D22: 콘센트 | E22: 매입-접지형, 15A 250V 2구 | F22: 개 | G22: 18
A23: 59350317121 | B23: 01 | C23: 3912140620170834 | D23: 콘센트 | E23: 노출-접지형, 15A 250V 원형 | F23: 개 | G23: 1
A24: MM700088005 | B24: 01 | C24: 3910160520220005 | D24: LED 조명등 철거 재사용 신설 | E24: 전등 지급자재 | F24: 개 | G24: 21
A25: 59350317104 | B25: 01 | C25: 3912140620170832 | D25: 콘센트 철거 | F25: 개 | G25: 1
A26: 59350317105 | B26: 01 | C26: 3912140620170833 | D26: 콘센트 철거 후 교체 | E26: 매입-접지형, 15A 250V 2구 | F26: 개 | G26: 1
A27: A0100000000 | B27: 01 | C27: RENT000000000003 | D27: [ 소모 잡자재 ] | E27: 전선, 전선관의 2 % | F27: 식 | G27: 1 | AC27: =TRUNC(TRUNC(SUM(AC4:AC26))*#REF!/100) -> #REF! | AD27: =TRUNC(SUM(I4:I26))+TRUNC(SUM(N4:N26)) -> 0
A28: 56900017016 | B28: 01 | C28: L001010101000075 | D28: 노 무 비 | E28: 내선전공 | F28: 인 | G28: 44 | AE28: =L28 -> 0
A29: A0300000000 | B29: 01 | C29: RENT000000000006 | D29: [ 공 구 손 료 ] | E29: 노무비의 3 % | F29: 식 | G29: 1
AC30: =TRUNC(AE30*#REF!/100) -> #REF! | AD30: =TRUNC(SUM(L4:L28)) -> 0 | AE30: =TRUNC(SUM(AE4:AE29)) -> 0
B55: 합계줄 | D55: ( 합 계 )

Sheet 단위일위대가
A1: 일위대가가 안 나왔나요!
B5: 일위대가를 나오게 하는 방법
B7: 1. 자료사전에서 데이터를 입력할 때 일위대가 데이터를 입력합니다.
B23: ※ 견적 또는 산출내역서에서 Tab키 두번 누른 대제목으로 자료찾기 화면의 일부 모습입니다.
B24: 좌측 첫번째 박스 하단의 일위대가를 선택하면 데이터의 일부가 일위대가로 만들어져 있습니다.
B26: 2. 관공서에서는 단일 자재 등도 모두 일위대가로 만들어야 하는 경우가 있습니다.
B28: ※ 이런 경우엔 완성된 견적 내용을 한꺼번에 일위대가로 만드는 기능을 사용하시면 됩니다.
B40: 프로그램 화면 우측 상단 [사용설명서] 버튼을 눌러 도움말 서비스의 일위대가-일위_108번을 보세요!
B68: ※ 단일자재 전부를 일위대가로 만드는 과정이 동영상으로도 제작되어 있습니다.
B70: 동영상은 이지테크 프르그램 상단 도움말 > 교육용 동영상 > XML파일 만들기를 보세요
B72: 동영상 바로보기

Sheet 합산자재
B1: 29 | C1: [ 대학혁신지원사업 양궁 교육시설 구축공사 ] - 합산자재목록
A2: 번호 | B2: … | C2: 코드 | D2: 명 칭 | E2: 규 격 | F2: 단위 | G2: 수량 | H2: 재료비 | I2: 노무비 | J2: 경비 | K2: 지급비 | L2: 계 | M2: 비고
B4: 59753017003 | C4: 3913170620174410 | D4: 1종금속제가요전선관 | E4: 16 mm 일반-비방수 | F4: M | G4: 382 | H4: =ROUNDDOWN(#REF!*#REF!, 0) -> #REF! | L4: =SUM(H4,I4,J4) -> #REF!
B5: 59753017004 | C5: 3913170620174411 | D5: 1종금속제가요전선관 | E5: 22 mm 일반-비방수 | F5: M | G5: 7 | H5: =ROUNDDOWN(#REF!*#REF!, 0) -> #REF! | L5: =SUM(H5,I5,J5) -> #REF!
B6: 59753767011 | C6: 3912130810035750 | D6: 아우트렛박스 | E6: 8각 54㎜ | F6: 개 | G6: 9 | H6: =ROUNDDOWN(#REF!*#REF!, 0) -> #REF! | L6: =SUM(H6,I6,J6) -> #REF!
B7: 59753767041 | C7: 3912130810035753 | D7: 아우트렛박스 | E7: 중형4각 54㎜ | F7: 개 | G7: 26 | H7: =ROUNDDOWN(#REF!*#REF!, 0) -> #REF! | L7: =SUM(H7,I7,J7) -> #REF!
B8: 59753767231 | C8: 3912130820174713 | D8: 아우트렛박스 커버 | E8: 커버, 4각, 평형 | F8: 개 | G8: 35 | H8: =ROUNDDOWN(#REF!*#REF!, 0) -> #REF! | L8: =SUM(H8,I8,J8) -> #REF!
B9: MM300040279 | C9: 3912130820157231 | D9: 아우트렛박스 커버 | E9: 콘카바 | F9: 개 | G9: 19 | H9: =ROUNDDOWN(#REF!*#REF!, 0) -> #REF! | L9: =SUM(H9,I9,J9) -> #REF!
B10: MM300040283 | C10: 3912130320175901 | D10: 노출SW BOX | E10: 16-1방 | F10: 개 | G10: 13 | H10: =ROUNDDOWN(#REF!*#REF!, 0) -> #REF! | L10: =SUM(H10,I10,J10) -> #REF!
B11: MM300040287 | C11: 3912130320175905 | D11: 노출4각 BOX | E11: 16-1방 | F11: 개 | G11: 19 | H11: =ROUNDDOWN(#REF!*#REF!, 0) -> #REF! | L11: =SUM(H11,I11,J11) -> #REF!
B12: MM300040388 | C12: 3913171221650785 | D12: PVC MOLD | E12: 회색 3호 | F12: M | G12: 54 | H12: =ROUNDDOWN(#REF!*#REF!, 0) -> #REF! | L12: =SUM(H12,I12,J12) -> #REF!
B13: 56950010001 | C13: 3913170810037061 | D13: 전선관지지행가 | E13: 16c | F13: 개소 | G13: 135 | H13: =ROUNDDOWN(#REF!*#REF!, 0) -> #REF! | L13: =SUM(H13,I13,J13) -> #REF!
B14: 56950010002 | C14: 3913170810037062 | D14: 전선관지지행가 | E14: 22c | F14: 개소 | G14: 3 | H14: =ROUNDDOWN(#REF!*#REF!, 0) -> #REF! | L14: =SUM(H14,I14,J14) -> #REF!
B15: E1450667012 | C15: 2612162922076729 | D15: 450/750V 내열비닐절연전선 | E15: HFIX 2.5㎟ | F15: M | G15: 306 | H15: =ROUNDDOWN(#REF!*#REF!, 0) -> #REF! | L15: =SUM(H15,I15,J15) -> #REF!
... B21: 59350317206 | C21: 3912140620170850 | D21: 콘센트 | E21: 매입-접지형, 15A 250V 2구 | F21: 개 | G21: 18 | H21: =ROUNDDOWN(#REF!*#REF!, 0) -> #REF! | L21: =SUM(H21,I21,J21) -> #REF!
B22: 59350317104 | C22: 3912140620170832 | D22: 콘센트 철거 | F22: 개 | G22: 1 | H22: =ROUNDDOWN(#REF!*#REF!, 0) -> #REF! | L22: =SUM(H22,I22,J22) -> #REF!
B23: 59350317105 | C23: 3912140620170833 | D23: 콘센트 철거 후 교체 | E23: 매입-접지형, 15A 250V 2구 | F23: 개 | G23: 1 | H23: =ROUNDDOWN(#REF!*#REF!, 0) -> #REF! | L23: =SUM(H23,I23,J23) -> #REF!
B24: 59350317121 | C24: 3912140620170834 | D24: 콘센트 | E24: 노출-접지형, 15A 250V 원형 | F24: 개 | G24: 1 | H24: =ROUNDDOWN(#REF!*#REF!, 0) -> #REF! | L24: =SUM(H24,I24,J24) -> #REF!
B25: MM700088005 | C25: 3910160520220005 | D25: LED 조명등 철거 | F25: 개 | G25: 7 | H25: =ROUNDDOWN(#REF!*#REF!, 0) -> #REF! | L25: =SUM(H25,I25,J25) -> #REF!
B26: 56900017016 | C26: L001010101000075 | D26: 노 무 비 | E26: 내선전공 | F26: 인 | G26: 50 | I26: =ROUNDDOWN(#REF!, 0) -> #REF! | L26: =SUM(H26,I26,J26) -> #REF!

Sheet 사용설명
B1: ** 반드시 다음 사항을 숙지하신 다음 수정 작업을 하십시오 **
A2: 1. | B2: 속성이 숫자인 셀을 삭제할 때는 반드시 'Delete' 키를 사용하십시오.
B3: **주의:'Space Bar' 로 지웠을 때는 '#Value' Error가 발생됩니다.
A4: 2. | B4: 일위대가(을지)는 소수점 처리 때문에 셀 속성을 '일반'으로 하였습니다.(소수점 능동 처리)
B5: **참고: (수량*단가)의 결과는 소수 한자리, 금액을 취합한 소계는 1원 이하 절사입니다.
A6: 3. | B6: 내역서에서는 수량에만 셀 속성을 '일반'으로 하였습니다.(소수점 능동 처리)
A7: 4. | B7: 단가수정은 '단가조사서'시트 에서 하십시오.
B8: a)표지와 원가 -> 총괄표 -> 내역서 ->일위대가와 합산자재 ->단가조사서 를 참조하고
B9: 있으므로 단가조사서의 결정단가를 수정하면 전체 금액이 갱신됩니다.
B10: **주의: 금액란은 공식이 걸려있으므로 조심하여 수정하십시오.
B11: b)전체 자재를 일정 요율(%)로 변경할 때는 옵션시트의 자재 적용율을 조정하면 됩니다.
A12: 5. | B12: 노임 단가는 '단가조사서'시트에서 품셈은 '노임근거'시트에서 수정하십시오.
B13: a)전체 노임을 일정 요율(%)로 변경할 때는 '옵션시트'의 전체노임 적용율을 조정하면 됩니다.
B14: b)공종별로 노임을 수정하려면 '옵션시트'의 공종별 노임 적용율을 조정하면 됩니다.
B15: c)케이블 및 전선 자재 단가를 추가로 조정하려면 그룹별 자재 적용율을 조정하면 됩니다.
B16: 그룹은 견적 프로그램에서 엑셀파일이 만들어질때 지정됩니다.
A17: 6. | B17: 겉표지의 모든 정보는 표지를 참조하였습니다.(정보 수정은 표지에서만 하시면 됩니다.)
A18: 7. | B18: 필수 :본 프로그램의 총 금액을 확인한 후 사용하십시오.
A19: 8. | B19: 본 파일의 내용을 인쇄할 경우, 미리보기를 통하여 페이지 절선을 확인 후 인쇄하십시오.
A20: 9. | B20: 관급자재 Sheet가 해당이 없을 경우엔 삭제하십시오.
A21: 10. | B21: 페이지 절선이 맞지 않으면 다음을 참고하십시오.
B33: a. 해당시트의 셀 전체를 선택합니다.
B34: b. 행높이를 적절히 가감하면 페이지 절선을 맞출 수 있습니다.
