Workbook

Sheet 원가계산서
B1: 공 사 원 가 계 산 서
B2: 공사명 : 대학혁신지원사업 유아교육과 미래교육 환경구축공사 | F2: =" 금 액 : 일금"&NUMBERSTRING(E32,1)&"원정("&DOLLAR(E32,0)&")" -> 금 액 : 일금영원정(₩0)
B3: 비 목 | E3: 금 액 | F3: 구 성 비 | G3: 비 고
A4: A1 | B4: 순 공 사 원 가 | C4: 재 료 비 | D4: 직 접 재 료 비 | E4: =TRUNC(공종별집계표!F5, 0) -> 0
A5: A2 | D5: 간 접 재 료 비 | E5: 0
A6: A3 | D6: 작업설, 부산물(△) | E6: 0
A7: AS | D7: [ 소 계 ] | E7: =TRUNC(E4+E5-E6, 0) -> 0
A8: B1 | C8: 노 무 비 | D8: 직 접 노 무 비 | E8: =TRUNC(공종별집계표!H5, 0) -> 0
A9: B2 | D9: 간 접 노 무 비 | E9: =TRUNC(E8*0.122, 0) -> 0 | F9: 직접노무비 * 12.2%
A10: BS | D10: [ 소 계 ] | E10: =TRUNC(E8+E9, 0) -> 0
A11: C2 | C11: 경 비 | D11: 경 비 | E11: =TRUNC(공종별집계표!J5, 0) -> 0
A12: C4 | D12: 산 재 보 험 료 | E12: =TRUNC(E10*0.037, 0) -> 0 | F12: 노무비 * 3.7%
A13: C5 | D13: 고 용 보 험 료 | E13: =TRUNC(E10*0.0101, 0) -> 0 | F13: 노무비 * 1.01%
A14: C6 | D14: 국민 건강 보험료 | F14: 직접노무비 * 3.545% | G14: 1개월이상 공사적용
A15: C7 | D15: 국민 연금 보험료 | F15: 직접노무비 * 4.5% | G15: 1개월이상 공사적용
A16: C8 | D16: 퇴직 공제 부금비 | F16: 직접노무비 * 2.3% | G16: 1억원이상 공사적용
A17: CA | D17: 산업안전보건관리비 | E17: 855051 | F17: (재료비+직노+도급자관급/1.1) * 2.93%
A18: CB | D18: 노인장기요양보험료 | E18: =TRUNC(E14*0.1281, 0) -> 0 | F18: 건강보험료 * 12.81% | G18: 1개월이상 공사적용
A19: CG | D19: 기 타 경 비 | E19: =TRUNC((E7+E10)*0.058, 0) -> 0 | F19: (재료비+노무비) * 5.8%
A20: CH | D20: 환 경 보 전 비 | E20: 146871 | F20: (재료비+직노+경비) * 0.5%
A21: CK | D21: 하도급지급보증수수료 | E21: =TRUNC((E7+E8+E11)*0.00081, 0) -> 0 | F21: (재료비+직노+경비) * 0.081% | G21: 최저가대상공사
A22: CL | D22: 건설기계대여금지급보증서발급수수료 | E22: =TRUNC((E7+E8+E11)*0.0007, 0) -> 0 | F22: (재료비+직노+경비) * 0.07%
A23: CS | D23: [ 소 계 ]
A24: S1 | B24: 계 | E24: =TRUNC(E7+E10+E23, 0) -> 0
A25: D1 | B25: 일 반 관 리 비 | E25: =TRUNC(E24*0.06, 0) -> 0 | F25: 계 * 6%
A26: D2 | B26: 이 윤 | E26: =TRUNC((E10+E23+E25)*0.15, 0) -> 0 | F26: (노무비+경비+일반관리비) * 15%
A27: D5 | B27: 작 업 부 산 물 | E27: =TRUNC(공종별집계표!T10, 0) -> 0
A28: D7 | B28: 폐 기 물 처 리 | E28: =TRUNC(공종별집계표!T12, 0) -> 0
A29: D9 | B29: 공 급 가 액 | E29: =TRUNC(E24+E25+E26+E27+E28, 0) -> 0
A30: DB | B30: 부 가 가 치 세 | E30: =TRUNC(E29*0.1, 0) -> 0 | F30: 공급가액 * 10%
A31: DH | B31: 도 급 액 | E31: =TRUNC(E29+E30, 0) -> 0
A32: S2 | B32: 총 공 사 비 | E32: =TRUNC(E31+0, 0) -> 0

Sheet 공종별집계표
A1: 공 종 별 집 계 표
A2: [ 대학혁신지원사업 유아교육과 미래교육 환경구축공사 ]
A3: 품 명 | B3: 규 격 | C3: 단위 | D3: 수량 | E3: 재 료 비 | G3: 노 무 비 | I3: 경 비 | K3: 합 계 | M3: 비 고 | N3: 공종코드 | O3: 변수 | P3: 상위공종 | Q3: 공종구분 | R3: 공종레벨 | S3: 공종소계 | T3: 원가계산서 연결금액
E4: 단 가 | F4: 금 액 | G4: 단 가 | H4: 금 액 | I4: 단 가 | J4: 금 액 | K4: 단 가 | L4: 금 액
A5: 01 대학혁신지원사업 학과 강의실 환경개선공사 | D5: 1 | E5: =F6 -> 0 | F5: =E5*D5 -> 0 | G5: =H6 -> 0 | H5: =G5*D5 -> 0 | I5: =J6 -> 0 | J5: =I5*D5 -> 0 | K5: =E5+G5+I5 -> 0 | L5: =F5+H5+J5 -> 0 | N5: 01 | R5: 1
A6: 0101 << 건 축 공 사 >> | D6: 1 | E6: =F7+F13+F15+F17+F19 -> 0 | F6: =E6*D6 -> 0 | G6: =H7+H13+H15+H17+H19 -> 0 | H6: =G6*D6 -> 0 | I6: =J7+J13+J15+J17+J19 -> 0 | J6: =I6*D6 -> 0 | K6: =E6+G6+I6 -> 0 | L6: =F6+H6+J6 -> 0 | N6: 0101 | P6: 01 | R6: 2
A7: 010101 ▶ 비계·구조물해체공사업 ◀ | D7: 1 | E7: =F8+F9+F11 -> 0 | F7: =E7*D7 -> 0 | G7: =H8+H9+H11 -> 0 | H7: =G7*D7 -> 0 | I7: =J8+J9+J11 -> 0 | J7: =I7*D7 -> 0 | K7: =E7+G7+I7 -> 0 | L7: =F7+H7+J7 -> 0 | N7: 010101 | P7: 0101 | R7: 3
A8: 01010101 ▷ 가 설 공 사 | D8: 1 | E8: =공종별내역서!F29 -> 0 | F8: =E8*D8 -> 0 | G8: =공종별내역서!H29 -> 0 | H8: =G8*D8 -> 0 | I8: =공종별내역서!J29 -> 0 | J8: =I8*D8 -> 0 | K8: =E8+G8+I8 -> 0 | L8: =F8+H8+J8 -> 0 | N8: 01010101 | P8: 010101 | R8: 4
A9: 01010102 ▷ 철 거 공 사 | D9: 1 | E9: =공종별내역서!F55 -> 0 | F9: =E9*D9 -> 0 | G9: =공종별내역서!H55 -> 0 | H9: =G9*D9 -> 0 | I9: =공종별내역서!J55 -> 0 | J9: =I9*D9 -> 0 | K9: =E9+G9+I9 -> 0 | L9: =F9+H9+J9 -> 0 | N9: 01010102 | P9: 010101 | R9: 4
A10: 01010103 ▷ 작 업 부 산 물 | D10: 1 | E10: =공종별내역서!F81 -> 0 | F10: =E10*D10 -> 0 | G10: =공종별내역서!H81 -> 0 | H10: =G10*D10 -> 0 | I10: =공종별내역서!J81 -> 0 | J10: =I10*D10 -> 0 | K10: =E10+G10+I10 -> 0 | L10: =F10+H10+J10 -> 0 | N10: 01010103 | Q10: 7 | R10: 4 | T10: =L10*1 -> 0
A11: 01010104 ▷ 폐 기 물 상 차 비 | D11: 1 | E11: =공종별내역서!F107 -> 0 | F11: =E11*D11 -> 0 | G11: =공종별내역서!H107 -> 0 | H11: =G11*D11 -> 0 | I11: =공종별내역서!J107 -> 0 | J11: =I11*D11 -> 0 | K11: =E11+G11+I11 -> 0 | L11: =F11+H11+J11 -> 0 | N11: 01010104 | P11: 010101 | R11: 4
A12: 01010105 ▷ 폐 기 물 처 리 비 | D12: 1 | E12: =공종별내역서!F133 -> 0 | F12: =E12*D12 -> 0 | G12: =공종별내역서!H133 -> 0 | H12: =G12*D12 -> 0 | I12: =공종별내역서!J133 -> 0 | J12: =I12*D12 -> 0 | K12: =E12+G12+I12 -> 0 | L12: =F12+H12+J12 -> 0 | N12: 01010105 | Q12: 8 | R12: 4 | T12: =L12*1 -> 0
A13: 010102 ▶ 석공사업 ◀ | D13: 1 | E13: =F14 -> 0 | F13: =E13*D13 -> 0 | G13: =H14 -> 0 | H13: =G13*D13 -> 0 | I13: =J14 -> 0 | J13: =I13*D13 -> 0 | K13: =E13+G13+I13 -> 0 | L13: =F13+H13+J13 -> 0 | N13: 010102 | P13: 0101 | R13: 3
A14: 01010201 ▷ 석 공 사 | D14: 1 | E14: =공종별내역서!F159 -> 0 | F14: =E14*D14 -> 0 | G14: =공종별내역서!H159 -> 0 | H14: =G14*D14 -> 0 | I14: =공종별내역서!J159 -> 0 | J14: =I14*D14 -> 0 | K14: =E14+G14+I14 -> 0 | L14: =F14+H14+J14 -> 0 | N14: 01010201 | P14: 010102 | R14: 4
A15: 010103 ▶ 실내건축공사업 ◀ | D15: 1 | E15: =F16 -> 0 | F15: =E15*D15 -> 0 | G15: =H16 -> 0 | H15: =G15*D15 -> 0 | I15: =J16 -> 0 | J15: =I15*D15 -> 0 | K15: =E15+G15+I15 -> 0 | L15: =F15+H15+J15 -> 0 | N15: 010103 | P15: 0101 | R15: 3
A16: 01010301 ▷ 수 장 공 사 | D16: 1 | E16: =공종별내역서!F185 -> 0 | F16: =E16*D16 -> 0 | G16: =공종별내역서!H185 -> 0 | H16: =G16*D16 -> 0 | I16: =공종별내역서!J185 -> 0 | J16: =I16*D16 -> 0 | K16: =E16+G16+I16 -> 0 | L16: =F16+H16+J16 -> 0 | N16: 01010301 | P16: 010103 | R16: 4
A17: 010104 ▶ 금속구조물·창호·온실공사업 ◀ | D17: 1 | E17: =F18 -> 0 | F17: =E17*D17 -> 0 | G17: =H18 -> 0 | H17: =G17*D17 -> 0 | I17: =J18 -> 0 | J17: =I17*D17 -> 0 | K17: =E17+G17+I17 -> 0 | L17: =F17+H17+J17 -> 0 | N17: 010104 | P17: 0101 | R17: 3
A18: 01010401 ▷ 금 속 공 사 | D18: 1 | E18: =공종별내역서!F211 -> 0 | F18: =E18*D18 -> 0 | G18: =공종별내역서!H211 -> 0 | H18: =G18*D18 -> 0 | I18: =공종별내역서!J211 -> 0 | J18: =I18*D18 -> 0 | K18: =E18+G18+I18 -> 0 | L18: =F18+H18+J18 -> 0 | N18: 01010401 | P18: 010104 | R18: 4
A19: 010105 ▶ 도장공사업 ◀ | D19: 1 | E19: =공종별내역서!F237 -> 0 | F19: =E19*D19 -> 0 | G19: =공종별내역서!H237 -> 0 | H19: =G19*D19 -> 0 | I19: =공종별내역서!J237 -> 0 | J19: =I19*D19 -> 0 | K19: =E19+G19+I19 -> 0 | L19: =F19+H19+J19 -> 0 | N19: 010105 | P19: 0101 | R19: 3
A29: [ 합 계 ] | F29: =F5 -> 0 | H29: =H5 -> 0 | J29: =J5 -> 0 | L29: =L5 -> 0

Sheet 공종별내역서
A1: [ 대학혁신지원사업 유아교육과 미래교육 환경구축공사 ]
A2: 품 명 | B2: 규 격 | C2: 단위 | D2: 수량 | E2: 재 료 비 | G2: 노 무 비 | I2: 경 비 | K2: 합 계 | M2: 비 고 | N2: 품목코드 | O2: 변수 | P2: 설정 | Q2: 공종코드 | R2: 일위 | S2: 단산 | T2: 자재 | U2: 손료적용 | V2: 손료저장 | W2: 적용율 | X2: JUK1 | Y2: JUK2 | Z2: JUK3 | AA2: JUK4 | AB2: JUK5 | AC2: JUK6 | AD2: JUK7 | AE2: JUK8 | AF2: JUK9 | AG2: JUK10 | AH2: JUK11 | AI2: JUK12 | AJ2: JUK13 | AK2: JUK14 | AL2: JUK15 | AM2: JUK16 | AN2: JUK17 | AO2: JUK18 | AP2: JUK19 | AQ2: JUK20 | AR2: 자재구분 | AS2: 공종구분 | AT2: 공종레벨 | AU2: 공종+자재 | AV2: 고유번호
E3: 단 가 | F3: 금 액 | G3: 단 가 | H3: 금 액 | I3: 단 가 | J3: 금 액 | K3: 단 가 | L3: 금 액
A4: 01010101 ▷ 가 설 공 사 | Q4: 01010101
A5: 강관 조립말비계(이동식)설치 및 해체 | B5: 높이 2m, 3개월 | C5: 대 | D5: 1 | F5: =TRUNC(E5*D5, 0) -> 0 | H5: =TRUNC(G5*D5, 0) -> 0 | J5: =TRUNC(I5*D5, 0) -> 0 | K5: =TRUNC(E5+G5+I5, 0) -> 0 | L5: =TRUNC(F5+H5+J5, 0) -> 0 | N5: 5825F5D6BE011247CC5D7F31764732 | Q5: 01010101 | R5: T | S5: F | T5: F | AU5: 010101015825F5D6BE011247CC5D7F31764732 | AV5: 5
A6: 건축물 현장정리 | B6: 개.보수공사(보통인부)-비품이설 및 준공청소 포함 | C6: 인 | D6: 1 | F6: =TRUNC(E6*D6, 0) -> 0 | H6: =TRUNC(G6*D6, 0) -> 0 | J6: =TRUNC(I6*D6, 0) -> 0 | K6: =TRUNC(E6+G6+I6, 0) -> 0 | L6: =TRUNC(F6+H6+J6, 0) -> 0 | N6: 5825F5D3E801123CDE9A4215A8CF24 | Q6: 01010101 | R6: T | S6: F | T6: F | AU6: 010101015825F5D3E801123CDE9A4215A8CF24 | AV6: 6
A29: [ 합 계 ] | F29: =SUM(F5:F28) -> 0 | H29: =SUM(H5:H28) -> 0 | J29: =SUM(J5:J28) -> 0 | L29: =SUM(L5:L28) -> 0 | N29: TOTAL
A30: 01010102 ▷ 철 거 공 사 | Q30: 01010102
A31: 칠판 철거 | B31: 5.000 ×1.600 | C31: EA | D31: 1 | F31: =TRUNC(E31*D31, 0) -> 0 | H31: =TRUNC(G31*D31, 0) -> 0 | J31: =TRUNC(I31*D31, 0) -> 0 | K31: =TRUNC(E31+G31+I31, 0) -> 0 | L31: =TRUNC(F31+H31+J31, 0) -> 0 | N31: 5824F56A340112F06BD13D7C9F50D0 | Q31: 01010102 | R31: T | S31: F | T31: F | AU31: 010101025824F56A340112F06BD13D7C9F50D0 | AV31: 51
A32: 게시판 철거 | B32: 2.400 ×1.400 | C32: EA | D32: 1 | F32: =TRUNC(E32*D32, 0) -> 0 | H32: =TRUNC(G32*D32, 0) -> 0 | J32: =TRUNC(I32*D32, 0) -> 0 | K32: =TRUNC(E32+G32+I32, 0) -> 0 | L32: =TRUNC(F32+H32+J32, 0) -> 0 | N32: 5824F56A340112F06BD13D7C9F53A4 | Q32: 01010102 | R32: T | S32: F | T32: F | AU32: 010101025824F56A340112F06BD13D7C9F53A4 | AV32: 52
A33: 블라인드 철거 | B33: 3.150 ×1.800 | C33: EA | D33: 3 | F33: =TRUNC(E33*D33, 0) -> 0 | H33: =TRUNC(G33*D33, 0) -> 0 | J33: =TRUNC(I33*D33, 0) -> 0 | K33: =TRUNC(E33+G33+I33, 0) -> 0 | L33: =TRUNC(F33+H33+J33, 0) -> 0 | N33: 5824F56A340112F06BD13D7C9F529E | Q33: 01010102 | R33: T | S33: F | T33: F | AU33: 010101025824F56A340112F06BD13D7C9F529E | AV33: 53
A34: 흡음텍스 해체 | C34: M2 | D34: 104 | F34: =TRUNC(E34*D34, 0) -> 0 | H34: =TRUNC(G34*D34, 0) -> 0 | J34: =TRUNC(I34*D34, 0) -> 0 | K34: =TRUNC(E34+G34+I34, 0) -> 0 | L34: =TRUNC(F34+H34+J34, 0) -> 0 | N34: 5824F56A340112F172C2ECB140A45F | Q34: 01010102 | R34: T | S34: F | T34: F | AU34: 010101025824F56A340112F172C2ECB140A45F | AV34: 54
A35: 경량천장철골틀 해체 | C35: M2 | D35: 104 | F35: =TRUNC(E35*D35, 0) -> 0 | H35: =TRUNC(G35*D35, 0) -> 0 | J35: =TRUNC(I35*D35, 0) -> 0 | K35: =TRUNC(E35+G35+I35, 0) -> 0 | L35: =TRUNC(F35+H35+J35, 0) -> 0 | N35: 5824F56A340112F172C2ED58CA6C2A | Q35: 01010102 | R35: T | S35: F | T35: F | AU35: 010101025824F56A340112F172C2ED58CA6C2A | AV35: 55
A36: 바탕처리 | B36: 내부바닥 | C36: M2 | D36: 104 | F36: =TRUNC(E36*D36, 0) -> 0 | H36: =TRUNC(G36*D36, 0) -> 0 | J36: =TRUNC(I36*D36, 0) -> 0 | K36: =TRUNC(E36+G36+I36, 0) -> 0 | L36: =TRUNC(F36+H36+J36, 0) -> 0 | N36: 5825653A2B01127AF1268B0647B0C0 | Q36: 01010102 | R36: T | S36: F | T36: F | AU36: 010101025825653A2B01127AF1268B0647B0C0 | AV36: 56
A37: 바탕처리 | B37: 내부벽 | C37: M2 | D37: 90 | F37: =TRUNC(E37*D37, 0) -> 0 | H37: =TRUNC(G37*D37, 0) -> 0 | J37: =TRUNC(I37*D37, 0) -> 0 | K37: =TRUNC(E37+G37+I37, 0) -> 0 | L37: =TRUNC(F37+H37+J37, 0) -> 0 | N37: 5825653A2B01127AF1268B0647B0C1 | Q37: 01010102 | R37: T | S37: F | T37: F | AU37: 010101025825653A2B01127AF1268B0647B0C1 | AV37: 57
A55: [ 합 계 ] | F55: =SUM(F31:F54) -> 0 | H55: =SUM(H31:H54) -> 0 | J55: =SUM(J31:J54) -> 0 | L55: =SUM(L31:L54) -> 0 | N55: TOTAL
A56: 01010103 ▷ 작 업 부 산 물 | Q56: 01010103
A57: 철강설 | B57: 철강설, 고철, 작업설부산물 | C57: kg | D57: -547 | F57: =TRUNC(E57*D57, 0) -> 0 | H57: =TRUNC(G57*D57, 0) -> 0 | J57: =TRUNC(I57*D57, 0) -> 0 | K57: =TRUNC(E57+G57+I57, 0) -> 0 | L57: =TRUNC(F57+H57+J57, 0) -> 0 | M57: 수집상차도 | N57: 5F2235AA13011229D4B230D640406BD0BFB1B9 | Q57: 01010103 | R57: F | S57: F | T57: T | AU57: 010101035F2235AA13011229D4B230D640406BD0BFB1B9 | AV57: 11
A81: [ 합 계 ] | F81: =SUM(F57:F80) -> 0 | H81: =SUM(H57:H80) -> 0 | J81: =SUM(J57:J80) -> 0 | L81: =SUM(L57:L80) -> 0 | N81: TOTAL
A82: 01010104 ▷ 폐 기 물 상 차 비 | Q82: 01010104
A83: 건설폐재류 상차비 | C83: TON | D83: 0.022 | F83: =TRUNC(E83*D83, 0) -> 0 | H83: =TRUNC(G83*D83, 0) -> 0 | J83: =TRUNC(I83*D83, 0) -> 0 | K83: =TRUNC(E83+G83+I83, 0) -> 0 | L83: =TRUNC(F83+H83+J83, 0) -> 0 | N83: 5825F5D3E801123F9369680D6F5B59 | Q83: 01010104 | R83: F | S83: F | T83: T | AU83: 010101045825F5D3E801123F9369680D6F5B59 | AV83: 58
A84: 혼합건설폐기물 상차비 | B84: (매립지반입대상 폐기물 포함) | C84: TON | D84: 1.097 | F84: =TRUNC(E84*D84, 0) -> 0 | H84: =TRUNC(G84*D84, 0) -> 0 | J84: =TRUNC(I84*D84, 0) -> 0 | K84: =TRUNC(E84+G84+I84, 0) -> 0 | L84: =TRUNC(F84+H84+J84, 0) -> 0 | N84: 5825F5D3E801123F9369680D6F5885 | Q84: 01010104 | R84: F | S84: F | T84: T | AU84: 010101045825F5D3E801123F9369680D6F5885 | AV84: 59
A107: [ 합 계 ] | F107: =SUM(F83:F106) -> 0 | H107: =SUM(H83:H106) -> 0 | J107: =SUM(J83:J106) -> 0 | L107: =SUM(L83:L106) -> 0 | N107: TOTAL
A108: 01010105 ▷ 폐 기 물 처 리 비 | Q108: 01010105
A109: 건설폐재류 운반비 | B109: 15톤 덤프트럭, 30km | C109: TON | D109: 0.022 | F109: =TRUNC(E109*D109, 0) -> 0 | H109: =TRUNC(G109*D109, 0) -> 0 | J109: =TRUNC(I109*D109, 0) -> 0 | K109: =TRUNC(E109+G109+I109, 0) -> 0 | L109: =TRUNC(F109+H109+J109, 0) -> 0 | N109: 5825F5D3E801123F9369680D6DACD7 | Q109: 01010105 | R109: F | S109: F | T109: T | AU109: 010101055825F5D3E801123F9369680D6DACD7 | AV109: 60
A110: 혼합건설폐기물 운반비 | B110: 16톤 암롤트럭, 30km | C110: TON | D110: 1.097 | F110: =TRUNC(E110*D110, 0) -> 0 | H110: =TRUNC(G110*D110, 0) -> 0 | J110: =TRUNC(I110*D110, 0) -> 0 | K110: =TRUNC(E110+G110+I110, 0) -> 0 | L110: =TRUNC(F110+H110+J110, 0) -> 0 | N110: 5825F5D3E801123F9369680D6AD91F | Q110: 01010105 | R110: F | S110: F | T110: T | AU110: 010101055825F5D3E801123F9369680D6AD91F | AV110: 61
A111: 폐기물처리비 | B111: 폐목재(소각) | C111: TON | D111: 0.022 | F111: =TRUNC(E111*D111, 0) -> 0 | H111: =TRUNC(G111*D111, 0) -> 0 | J111: =TRUNC(I111*D111, 0) -> 0 | K111: =TRUNC(E111+G111+I111, 0) -> 0 | L111: =TRUNC(F111+H111+J111, 0) -> 0 | N111: 5825F5D3E801123F92409130AC0E7F | Q111: 01010105 | R111: F | S111: F | T111: T | AU111: 010101055825F5D3E801123F92409130AC0E7F | AV111: 62
A112: 혼합건설폐기물 | B112: 건설폐재류에 가연성 5% 이하 혼합 | C112: TON | D112: 1.017 | F112: =TRUNC(E112*D112, 0) -> 0 | H112: =TRUNC(G112*D112, 0) -> 0 | J112: =TRUNC(I112*D112, 0) -> 0 | K112: =TRUNC(E112+G112+I112, 0) -> 0 | L112: =TRUNC(F112+H112+J112, 0) -> 0 | N112: 5825F5D3E801123F92409136303715 | Q112: 01010105 | R112: F | S112: F | T112: T | AU112: 010101055825F5D3E801123F92409136303715 | AV112: 63
A113: 혼합건설폐기물 | B113: 불연성 건설폐기물에 가연성 5% 이하 혼합 | C113: TON | D113: 0.08 | F113: =TRUNC(E113*D113, 0) -> 0 | H113: =TRUNC(G113*D113, 0) -> 0 | J113: =TRUNC(I113*D113, 0) -> 0 | K113: =TRUNC(E113+G113+I113, 0) -> 0 | L113: =TRUNC(F113+H113+J113, 0) -> 0 | N113: 5825F5D3E801123F92409131B40579 | Q113: 01010105 | R113: F | S113: F | T113: T | AU113: 010101055825F5D3E801123F92409131B40579 | AV113: 64
A133: [ 합 계 ] | F133: =SUM(F109:F132) -> 0 | H133: =SUM(H109:H132) -> 0 | J133: =SUM(J109:J132) -> 0 | L133: =SUM(L109:L132) -> 0 | N133: TOTAL
A134: 01010201 ▷ 석 공 사 | Q134: 01010201
A135: 인조대리석붙임(건식/앵커) | B135: 창대, 100×30 | C135: M | D135: 16 | F135: =TRUNC(E135*D135, 0) -> 0 | H135: =TRUNC(G135*D135, 0) -> 0 | J135: =TRUNC(I135*D135, 0) -> 0 | K135: =TRUNC(E135+G135+I135, 0) -> 0 | L135: =TRUNC(F135+H135+J135, 0) -> 0 | N135: 58253584B50112EC74AF4F0D315F79 | Q135: 01010201 | R135: T | S135: F | T135: F | AU135: 0101020158253584B50112EC74AF4F0D315F79 | AV135: 21
A159: [ 합 계 ] | F159: =SUM(F135:F158) -> 0 | H159: =SUM(H135:H158) -> 0 | J159: =SUM(J135:J158) -> 0 | L159: =SUM(L135:L158) -> 0 | N159: TOTAL
A160: 01010301 ▷ 수 장 공 사 | Q160: 01010301
A161: 석고판 설치 - 바탕용 | B161: 천장, 일반석고9.5mm(2겹) 붙임 | C161: M2 | D161: 69 | F161: =TRUNC(E161*D161, 0) -> 0 | H161: =TRUNC(G161*D161, 0) -> 0 | J161: =TRUNC(I161*D161, 0) -> 0 | K161: =TRUNC(E161+G161+I161, 0) -> 0 | L161: =TRUNC(F161+H161+J161, 0) -> 0 | N161: 582515BA9F011235CAB7947F0F910F | Q161: 01010301 | R161: T | S161: F | T161: F | AU161: 01010301582515BA9F011235CAB7947F0F910F | AV161: 31
A162: MDF 설치 | B162: 벽, MDF 9.0mm+각재틀(인테리어필름-방염) | C162: M2 | D162: 108 | F162: =TRUNC(E162*D162, 0) -> 0 | H162: =TRUNC(G162*D162, 0) -> 0 | J162: =TRUNC(I162*D162, 0) -> 0 | K162: =TRUNC(E162+G162+I162, 0) -> 0 | L162: =TRUNC(F162+H162+J162, 0) -> 0 | N162: 582515BA9C01127E499B7BD561E134 | Q162: 01010301 | R162: T | S162: F | T162: F | AU162: 01010301582515BA9C01127E499B7BD561E134 | AV162: 26
A163: MDF 설치 | B163: 벽, MDF 9.0mm+석고판9mm+각재틀(인테리어필름-방염) | C163: M2 | D163: 5 | F163: =TRUNC(E163*D163, 0) -> 0 | H163: =TRUNC(G163*D163, 0) -> 0 | J163: =TRUNC(I163*D163, 0) -> 0 | K163: =TRUNC(E163+G163+I163, 0) -> 0 | L163: =TRUNC(F163+H163+J163, 0) -> 0 | N163: 582515BA9C01127E499B7BD561E137 | Q163: 01010301 | R163: T | S163: F | T163: F | AU163: 01010301582515BA9C01127E499B7BD561E137 | AV163: 27
A164: 각재틀 설치 | B164: 미송, 45×45 | C164: M | D164: 726 | F164: =TRUNC(E164*D164, 0) -> 0 | H164: =TRUNC(G164*D164, 0) -> 0 | J164: =TRUNC(I164*D164, 0) -> 0 | K164: =TRUNC(E164+G164+I164, 0) -> 0 | L164: =TRUNC(F164+H164+J164, 0) -> 0 | N164: 582575231101125412C6AF1F0CE25E | Q164: 01010301 | R164: T | S164: F | T164: F | AU164: 01010301582575231101125412C6AF1F0CE25E | AV164: 33
A165: 걸레받이 설치 - 중밀도섬유판 | B165: T=9, H=100 | C165: M | D165: 41 | F165: =TRUNC(E165*D165, 0) -> 0 | H165: =TRUNC(G165*D165, 0) -> 0 | J165: =TRUNC(I165*D165, 0) -> 0 | K165: =TRUNC(E165+G165+I165, 0) -> 0 | L165: =TRUNC(F165+H165+J165, 0) -> 0 | N165: 582515B8D5011218E09E1395A81F52 | Q165: 01010301 | R165: T | S165: F | T165: F | AU165: 01010301582515B8D5011218E09E1395A81F52 | AV165: 30
A166: 비닐타일 깔기 | B166: 비닐타일, 3.0×450×450mm, 데코타일 | C166: M2 | D166: 101 | F166: =TRUNC(E166*D166, 0) -> 0 | H166: =TRUNC(G166*D166, 0) -> 0 | J166: =TRUNC(I166*D166, 0) -> 0 | K166: =TRUNC(E166+G166+I166, 0) -> 0 | L166: =TRUNC(F166+H166+J166, 0) -> 0 | N166: 582515B8D10112A17724A586EFF2D6 | Q166: 01010301 | R166: T | S166: F | T166: F | AU166: 01010301582515B8D10112A17724A586EFF2D6 | AV166: 25
A167: 강화유리 칠판 설치 | B167: 5.000×1.500, 백페인트글라스 | C167: EA | D167: 2 | F167: =TRUNC(E167*D167, 0) -> 0 | H167: =TRUNC(G167*D167, 0) -> 0 | J167: =TRUNC(I167*D167, 0) -> 0 | K167: =TRUNC(E167+G167+I167, 0) -> 0 | L167: =TRUNC(F167+H167+J167, 0) -> 0 | N167: 582515B47C0112D928DBB176874493 | Q167: 01010301 | R167: T | S167: F | T167: F | AU167: 01010301582515B47C0112D928DBB176874493 | AV167: 28
A168: 전자교탁 철거 후 재설치 | B168: 보통인부 | C168: 인 | D168: 1 | F168: =TRUNC(E168*D168, 0) -> 0 | H168: =TRUNC(G168*D168, 0) -> 0 | J168: =TRUNC(I168*D168, 0) -> 0 | K168: =TRUNC(E168+G168+I168, 0) -> 0 | L168: =TRUNC(F168+H168+J168, 0) -> 0 | N168: 582515B47C0112D928DBB17686BF8E | Q168: 01010301 | R168: T | S168: F | T168: F | AU168: 01010301582515B47C0112D928DBB17686BF8E | AV168: 34
A169: 인테리어필름 설치 | B169: 기존도어면 | C169: M2 | D169: 16 | F169: =TRUNC(E169*D169, 0) -> 0 | H169: =TRUNC(G169*D169, 0) -> 0 | J169: =TRUNC(I169*D169, 0) -> 0 | K169: =TRUNC(E169+G169+I169, 0) -> 0 | L169: =TRUNC(F169+H169+J169, 0) -> 0 | N169: 582515BA9C01127E499B7BD561E13C | Q169: 01010301 | R169: T | S169: F | T169: F | AU169: 01010301582515BA9C01127E499B7BD561E13C | AV169: 353
A170: 학교지정문구 | C170: EA | D170: 49 | F170: =TRUNC(E170*D170, 0) -> 0 | H170: =TRUNC(G170*D170, 0) -> 0 | J170: =TRUNC(I170*D170, 0) -> 0 | K170: =TRUNC(E170+G170+I170, 0) -> 0 | L170: =TRUNC(F170+H170+J170, 0) -> 0 | M170: 견적서참조 | N170: 5F07452955011251B36860F571AAFDD8F2CBAC | Q170: 01010301 | R170: F | S170: F | T170: T | AU170: 010103015F07452955011251B36860F571AAFDD8F2CBAC | AV170: 348
A171: 방염콤비블라인드 | B171: 0.900×1.100 | C171: EA | D171: 6 | F171: =TRUNC(E171*D171, 0) -> 0 | H171: =TRUNC(G171*D171, 0) -> 0 | J171: =TRUNC(I171*D171, 0) -> 0 | K171: =TRUNC(E171+G171+I171, 0) -> 0 | L171: =TRUNC(F171+H171+J171, 0) -> 0 | M171: 견적서참조 | N171: 5F07452955011251B36860F571AAFDD8F2CE60 | Q171: 01010301 | R171: F | S171: F | T171: T | AU171: 010103015F07452955011251B36860F571AAFDD8F2CE60 | AV171: 350
A172: 방염콤비블라인드 | B172: 1.600×1.800 | C172: EA | D172: 6 | F172: =TRUNC(E172*D172, 0) -> 0 | H172: =TRUNC(G172*D172, 0) -> 0 | J172: =TRUNC(I172*D172, 0) -> 0 | K172: =TRUNC(E172+G172+I172, 0) -> 0 | L172: =TRUNC(F172+H172+J172, 0) -> 0 | M172: 견적서참조 | N172: 5F07452955011251B36860F571AAFDD8F2CF07 | Q172: 01010301 | R172: F | S172: F | T172: T | AU172: 010103015F07452955011251B36860F571AAFDD8F2CF07 | AV172: 351
A173: 방염콤비블라인드 | B173: 시공비 | C173: 식 | D173: 1 | F173: =TRUNC(E173*D173, 0) -> 0 | H173: =TRUNC(G173*D173, 0) -> 0 | J173: =TRUNC(I173*D173, 0) -> 0 | K173: =TRUNC(E173+G173+I173, 0) -> 0 | L173: =TRUNC(F173+H173+J173, 0) -> 0 | M173: 견적서참조 | N173: 5F07452955011251B36860F571AAFDD8F2CCB3 | Q173: 01010301 | R173: F | S173: F | T173: T | AU173: 010103015F07452955011251B36860F571AAFDD8F2CCB3 | AV173: 352
A185: [ 합 계 ] | F185: =SUM(F161:F184) -> 0 | H185: =SUM(H161:H184) -> 0 | J185: =SUM(J161:J184) -> 0 | L185: =SUM(L161:L184) -> 0 | N185: TOTAL
A186: 01010401 ▷ 금 속 공 사 | Q186: 01010401
A187: 천장점검구 설치 | B187: AL 백색, 600*600mm | C187: 개소 | D187: 10 | F187: =TRUNC(E187*D187, 0) -> 0 | H187: =TRUNC(G187*D187, 0) -> 0 | J187: =TRUNC(I187*D187, 0) -> 0 | K187: =TRUNC(E187+G187+I187, 0) -> 0 | L187: =TRUNC(F187+H187+J187, 0) -> 0 | N187: 582545E4E60112C85A5934C5EB0EED | Q187: 01010401 | R187: T | S187: F | T187: F | AU187: 01010401582545E4E60112C85A5934C5EB0EED | AV187: 359
A211: [ 합 계 ] | F211: =SUM(F187:F210) -> 0 | H211: =SUM(H187:H210) -> 0 | J211: =SUM(J187:J210) -> 0 | L211: =SUM(L187:L210) -> 0 | N211: TOTAL
A212: 010105 ▶ 도장공사업 ◀ | Q212: 010105
A213: 바탕만들기+수성페인트 롤러칠 (재도장) | B213: 내천장 2회, 친환경페인트, con'c·mortar면 | C213: M2 | D213: 89 | F213: =TRUNC(E213*D213, 0) -> 0 | H213: =TRUNC(G213*D213, 0) -> 0 | J213: =TRUNC(I213*D213, 0) -> 0 | K213: =TRUNC(E213+G213+I213, 0) -> 0 | L213: =TRUNC(F213+H213+J213, 0) -> 0 | N213: 5825055177011218DE1895A38BE8FE | Q213: 010105 | R213: T | S213: F | T213: F | AU213: 0101055825055177011218DE1895A38BE8FE | AV213: 356
A214: 바탕만들기+수성페인트 롤러칠 | B214: 내천장 2회, 석고보드면(올퍼티), 친환경페인트 | C214: M2 | D214: 69 | F214: =TRUNC(E214*D214, 0) -> 0 | H214: =TRUNC(G214*D214, 0) -> 0 | J214: =TRUNC(I214*D214, 0) -> 0 | K214: =TRUNC(E214+G214+I214, 0) -> 0 | L214: =TRUNC(F214+H214+J214, 0) -> 0 | N214: 5825055177011218DE18949DA00340 | Q214: 010105 | R214: T | S214: F | T214: F | AU214: 0101055825055177011218DE18949DA00340 | AV214: 349
A237: [ 합 계 ] | F237: =SUM(F213:F236) -> 0 | H237: =SUM(H213:H236) -> 0 | J237: =SUM(J213:J236) -> 0 | L237: =SUM(L213:L236) -> 0 | N237: TOTAL

Sheet 중기단가목록
A1: 중 기 단 가 목 록
A2: [ 대학혁신지원사업 학과 강의실 환경개선공사 ]
A3: 코 드 | B3: 품 명 | C3: 규 격 | D3: 단위 | E3: 재 료 비 | F3: 노 무 비 | G3: 경 비 | H3: 합 계 | I3: 번 호 | J3: 비 고 | K3: START | L3: 품셈개요

Sheet 중기단가산출서
A1: 중 기 단 가 산 출 서
A2: [ 대학혁신지원사업 학과 강의실 환경개선공사 ]
A3: 산 출 내 역 | B3: 재 료 비 | C3: 노 무 비 | D3: 경 비 | E3: 합 계 | F3: 비 고 | G3: START | H3: 코드 | I3: 품명 | J3: 규격 | K3: 단위 | L3: 수량
A4: ( )
A6: 총 계 | E6: 0
