Workbook
Name _1._PANEL_BD.__LP___1: #REF!
Name _15A: [1]금액내역서!$D$3:$D$10
Name _LP1: #REF!
Name _LP2: #REF!
Name _LPB1: [2]부하계산서!#REF!
Name _LPK1: [2]부하계산서!#REF!
Name _LU1: '[3]부하(성남)'!#REF!
Name _LU2: '[3]부하(성남)'!#REF!
Name _LV01: '[3]부하(성남)'!#REF!
Name _UP1: [2]부하계산서!#REF!
Name _UP2: [2]부하계산서!#REF!
Name ¤±8529: '[4]일위대가(가설)'!#REF!
Name \a: #REF!
Name \z: #N/A
Name AF: [6]DATA!$B$4:$C$15
Name AT: [6]DATA!$E$4:$F$29
Name BOM_OF_ECP: #REF!
Name D: #REF!
Name DATA_CONTROL_SYSTEM: #REF!
Name DGFD: #REF!
Name edhf: #REF!
Name EE: #REF!
Name FIX: #REF!
Name HI_전선관: #REF!
Name hidden: [8]TABLE!$H$1,[8]TABLE!$J$1,[8]TABLE!$K$1
Name IB: #REF!
Name IB_2: '[5]IMPEADENCE MAP 취수장'!#REF!
Name KA: '[9]조도계산서 (도서)'!$B$61:$E$68
Name KK: #REF!
Name kkkk: #REF!
Name LAST: #REF!
Name lll: #REF!
Name LOP: [10]LOPCALC!$A$4:$J$8
Name LP1A: '[3]부하(성남)'!#REF!
Name LP1B: [2]부하계산서!#REF!
Name LP3A: '[3]부하(성남)'!#REF!
Name LPB: '[3]부하(성남)'!#REF!
Name LPBA: [2]부하계산서!#REF!
Name LPKA: [2]부하계산서!#REF!
Name LPKB: [2]부하계산서!#REF!
Name LPM: [2]부하계산서!#REF!
Name LPMA: [2]부하계산서!#REF!
Name LPO: [2]부하계산서!#REF!
Name LPOA: [2]부하계산서!#REF!
Name LV02A: [2]부하계산서!#REF!
Name LV02B: [2]부하계산서!#REF!
Name LV04A: [2]부하계산서!#REF!
Name LV04B: [2]부하계산서!#REF!
Name M_TR: #REF!
Name Macro2: [0]!Macro2
Name Macro4: [0]!Macro4
Name Macro5: [0]!Macro5
Name MCC: [0]!MCC
Name MCCEA: [2]부하계산서!#REF!
Name MCCEB: [2]부하계산서!#REF!
Name MCCF: [2]부하계산서!#REF!
Name MCCN: '[3]부하(성남)'!#REF!
Name MCCP: [2]부하계산서!#REF!
Name MCCS: [2]부하계산서!#REF!
Name PB: '[3]부하(성남)'!#REF!

Sheet 원가
A1: 공 사 원 가 계 산 서
A2: 공 사 명: | B2: 대학혁신지원사업 유아교육과 미래교육 환경구축공사
A3: 금 액 : | B3: ="일금 "&NUMBERSTRING(G28,1)&"원정 ( \ "&TEXT(G28,"#,###")&" )" -> 일금 영원정 ( \ ) | O3: 공사기간:28일
A5: 비 목 | G5: 금 액 | H5: 구 성 비 | N5: 비 고
A6: 순 공 사 원 가 | B6: 재 료 비 | G6: =총괄표!I29 -> 0
B7: 노 무 비 | C7: 직 접 노 무 비 | G7: =총괄표!L29 -> 0
C8: 간 접 노 무 비 | G8: =INT(G7*K8) -> 0 | H8: 직접노무비 | J8: * | K8: 0.122
C9: [소 계] | G9: =G7+G8 -> 0
B10: 경 비 | C10: 기 계 경 비 | G10: =총괄표!N29 -> 0
C11: 산 재 보 험 료 | G11: =INT(G9*K11) -> 0 | H11: 노무비 | J11: * | K11: 0.037
C12: 고 용 보 험 료 | G12: =INT(G9*K12) -> 0 | H12: 노무비 | J12: * | K12: 0.0101
C13: 건 강 보 험 료 | G13: =INT(G7*K13) -> 0 | H13: 직접노무비 | J13: *
C14: 노 인 장 기 요 양 보 험 료 | G14: =INT(G13*K14) -> 0 | H14: 건강보험료 | J14: *
C15: 연 금 보 험 료 | G15: =INT(G7*K15) -> 0 | H15: 직접노무비 | J15: *
C16: 안 전 관 리 비 | G16: 479055 | H16: 재료비 + 직접노무비 | J16: * | K16: 0.0293
C17: 기 타 경 비 | G17: =INT((G6+G9)*L17) -> 0 | H17: ( 재료비 + 노무비 ) | K17: * | L17: 0.058
C18: [소 계]
A19: 계 | G19: =INT(G6+G9+G18) -> 0
A20: 일 반 관 리 비 | G20: =INT(G19*M20) -> 0 | H20: ( 재료비 + 노무비 + 경비 ) | L20: * | M20: 0.06
A21: 이 윤 | G21: =(G9+G18+G20)*M21 -> 0 | H21: ( 노무비+경비+일반관리비 ) | L21: * | M21: 0.15
A22: 공 급 가 액 | G22: =((G19+G20+G21)) -> 0
A23: 부 가 가 치 세 | G23: =G22*0.1 -> 0 | H23: 공급가액의 10%
A24: 도 급 공 사 비 | G24: =G22+G23 -> 0
A28: 총 공 사 비 | G28: =SUM(G24:G26) -> 0

Sheet 총괄표
A1: 총줄수-> | B1: 55 | D1: [ 대학혁신지원사업 유아교육과 미래교육 환경구축공사 ] | AA1: 연속견적가로형식
A2: 번호 | B2: 공종코드 | C2: … | D2: 공 종 명 | E2: 규격 | F2: 단위 | G2: 수량 | H2: 재료비 | J2: 노무비 | M2: 경비 | P2: 계 | Q2: 비고
H3: 단가 | I3: 금액 | J3: 수량 | K3: 단가 | L3: 금액 | M3: 단가 | N3: 금액 | O3: 단가
B4: 공종줄 | D4: 대학혁신지원사업 유아교육과 미래 교육환경
B5: 01 | D5: 1. 전기공사 | F5: 식 | G5: 1 | H5: =총괄표!I55 -> 0 | I5: =G5*H5 -> 0 | K5: =총괄표!L55 -> 0 | L5: =G5*K5 -> 0 | M5: =총괄표!N55 -> 0 | N5: =G5*M5 -> 0 | O5: =IF((H5+K5+M5)=0, "", (H5+K5+M5)) | P5: =SUM(I5,L5,N5) -> 0
C29: Total | D29: ( 합 계 ) | I29: =TRUNC(SUM(I4:I28)) -> 0 | L29: =TRUNC(SUM(L4:L28)) -> 0 | N29: =TRUNC(SUM(N4:N28)) -> 0 | O29: =IF((H29+K29+M29)=0, "", (H29+K29+M29)) | P29: =TRUNC(SUM(P4:P28)) -> 0
B30: 공종줄 | D30: 1.전기공사
B31: 0101 | D31: 1-1. 전등설비공사 | F31: 식 | G31: 1 | H31: =내역서!I29 -> 0 | I31: =G31*H31 -> 0 | K31: =내역서!L29 -> 0 | L31: =G31*K31 -> 0 | M31: =내역서!N29 -> 0 | N31: =G31*M31 -> 0 | O31: =IF((H31+K31+M31)=0, "", (H31+K31+M31)) | P31: =SUM(I31,L31,N31) -> 0
B32: 0102 | D32: 1-2. 전열설비공사 | F32: 식 | G32: 1 | H32: =내역서!I55 -> 0 | I32: =G32*H32 -> 0 | K32: =내역서!L55 -> 0 | L32: =G32*K32 -> 0 | M32: =내역서!N55 -> 0 | N32: =G32*M32 -> 0 | O32: =IF((H32+K32+M32)=0, "", (H32+K32+M32)) | P32: =SUM(I32,L32,N32) -> 0
B55: 01 | C55: Total | D55: ( 합 계 ) | I55: =TRUNC(SUM(I30:I54)) -> 0 | L55: =TRUNC(SUM(L30:L54)) -> 0 | N55: =TRUNC(SUM(N30:N54)) -> 0 | O55: =IF((H55+K55+M55)=0, "", (H55+K55+M55)) | P55: =TRUNC(SUM(P30:P54)) -> 0

Sheet 내역서
A1: 총줄수-> | B1: 81 | D1: [ 대학혁신지원사업 유아교육과 미래교육 환경구축공사 ] | W1: 노임 계산 정보 | AA1: 부속재 및 손료
A2: 번호 | B2: 공종코드 | C2: 코드 | D2: 명 칭 | E2: 규 격 | F2: 단위 | G2: 수량 | H2: 재료비 | J2: 노무비 | M2: 경비 | P2: 계 | Q2: 비고 | W2: 노임계 | X2: 전체(%) | Y2: 공종별(%) | Z2: 노임 소수 | AA2: CD배관재 | AB2: 일반배관재 | AC2: 소모재 | AD2: 자재계 | AE2: 노임계
H3: 단가 | I3: 금액 | J3: 수량 | K3: 단가 | L3: 금액 | M3: 단가 | N3: 금액 | O3: 단가 | AD3: =IF(#REF! =0, "1",#REF!) -> #REF! | AE3: =IF(#REF! =0, "1",#REF!) -> #REF!
B4: 공종줄 | D4: 1.전기공사::1-1.전등설비공사
A5: MM510191611 | B5: 0101 | C5: 3911150120188300 | D5: 형광등 철거 | F5: 개 | G5: 9 | I5: =TRUNC(G5*H5) -> 0 | J5: 9 | K5: =합산자재!I27 -> 0 | L5: =TRUNC(G5*K5) -> 0 | M5: =합산자재!J27 -> 0 | N5: =TRUNC(G5*M5) -> 0 | O5: =IF((H5+K5+M5)=0, "", (H5+K5+M5)) | P5: =SUM(I5,L5,N5) -> 0 | Q5: 노임적용
A6: MM510191703 | B6: 0101 | C6: 3911150120188399 | D6: 칠판등 철거 | F6: 개 | G6: 2 | I6: =TRUNC(G6*H6) -> 0 | J6: 2 | K6: =합산자재!I28 -> 0 | L6: =TRUNC(G6*K6) -> 0 | M6: =합산자재!J28 -> 0 | N6: =TRUNC(G6*M6) -> 0 | O6: =IF((H6+K6+M6)=0, "", (H6+K6+M6)) | P6: =SUM(I6,L6,N6) -> 0 | Q6: 노임적용
A7: MM968705103 | B7: 0101 | C7: 391115ZZ701Z0002 | D7: 배관배선 철거 | F7: 개 | G7: 1 | I7: =TRUNC(G7*H7) -> 0 | J7: 1 | K7: =합산자재!I42 -> 0 | L7: =TRUNC(G7*K7) -> 0 | M7: =합산자재!J42 -> 0 | N7: =TRUNC(G7*M7) -> 0 | O7: =IF((H7+K7+M7)=0, "", (H7+K7+M7)) | P7: =SUM(I7,L7,N7) -> 0 | Q7: 노임적용
A8: 59753017003 | B8: 0101 | C8: 3913170620174410 | D8: 1종금속제가요전선관 | E8: 16 mm 일반-비방수 | F8: M | G8: 33 | I8: =TRUNC(G8*H8) -> 0 | J8: 30 | K8: =합산자재!I4 -> 0 | L8: =TRUNC(G8*K8) -> 0 | M8: =합산자재!J4 -> 0 | N8: =TRUNC(G8*M8) -> 0 | O8: =IF((H8+K8+M8)=0, "", (H8+K8+M8)) | P8: =SUM(I8,L8,N8) -> 0 | AC8: =G8*H8 -> 0
A9: 59753017004 | B9: 0101 | C9: 3913170620174411 | D9: 1종금속제가요전선관 | E9: 22 mm 일반-비방수 | F9: M | G9: 6 | I9: =TRUNC(G9*H9) -> 0 | J9: 5 | K9: =합산자재!I5 -> 0 | L9: =TRUNC(G9*K9) -> 0 | M9: =합산자재!J5 -> 0 | N9: =TRUNC(G9*M9) -> 0 | O9: =IF((H9+K9+M9)=0, "", (H9+K9+M9)) | P9: =SUM(I9,L9,N9) -> 0 | AC9: =G9*H9 -> 0
A10: 59753767011 | B10: 0101 | C10: 3912130810035750 | D10: 아우트렛박스 | E10: 8각 54㎜ | F10: 개 | G10: 6 | I10: =TRUNC(G10*H10) -> 0 | J10: 6 | K10: =합산자재!I6 -> 0 | L10: =TRUNC(G10*K10) -> 0 | M10: =합산자재!J6 -> 0 | N10: =TRUNC(G10*M10) -> 0 | O10: =IF((H10+K10+M10)=0, "", (H10+K10+M10)) | P10: =SUM(I10,L10,N10) -> 0
A11: 59753767041 | B11: 0101 | C11: 3912130810035753 | D11: 아우트렛박스 | E11: 중형4각 54㎜ | F11: 개 | G11: 1 | I11: =TRUNC(G11*H11) -> 0 | J11: 1 | K11: =합산자재!I7 -> 0 | L11: =TRUNC(G11*K11) -> 0 | M11: =합산자재!J7 -> 0 | N11: =TRUNC(G11*M11) -> 0 | O11: =IF((H11+K11+M11)=0, "", (H11+K11+M11)) | P11: =SUM(I11,L11,N11) -> 0
A12: 59753767231 | B12: 0101 | C12: 3912130820174713 | D12: 아우트렛박스 커버 | E12: 커버, 4각, 평형 | F12: 개 | G12: 6 | I12: =TRUNC(G12*H12) -> 0 | J12: 6 | K12: =합산자재!I9 -> 0 | L12: =TRUNC(G12*K12) -> 0 | M12: =합산자재!J9 -> 0 | N12: =TRUNC(G12*M12) -> 0 | O12: =IF((H12+K12+M12)=0, "", (H12+K12+M12)) | P12: =SUM(I12,L12,N12) -> 0
A13: 59750897011 | B13: 0101 | C13: 3913170910034920 | D13: 레이스웨이-도색포함 | E13: BODY, 70 x 40 | F13: M | G13: 59 | I13: =TRUNC(G13*H13) -> 0 | J13: 56 | K13: =합산자재!I11 -> 0 | L13: =TRUNC(G13*K13) -> 0 | M13: =합산자재!J11 -> 0 | N13: =TRUNC(G13*M13) -> 0 | O13: =IF((H13+K13+M13)=0, "", (H13+K13+M13)) | P13: =SUM(I13,L13,N13) -> 0
A14: 59750897071 | B14: 0101 | C14: 3913170910034926 | D14: 레이스웨이-도색포함 | E14: JOINER, 70 x 40 | F14: 개 | G14: 6 | I14: =TRUNC(G14*H14) -> 0 | J14: 6 | K14: =합산자재!I12 -> 0 | L14: =TRUNC(G14*K14) -> 0 | M14: =합산자재!J12 -> 0 | N14: =TRUNC(G14*M14) -> 0 | O14: =IF((H14+K14+M14)=0, "", (H14+K14+M14)) | P14: =SUM(I14,L14,N14) -> 0
A15: 59750897101 | B15: 0101 | C15: 3913170910034929 | D15: 레이스웨이-도색포함 | E15: END CAP, 70 x 40 | F15: 개 | G15: 6 | I15: =TRUNC(G15*H15) -> 0 | J15: 6 | K15: =합산자재!I13 -> 0 | L15: =TRUNC(G15*K15) -> 0 | M15: =합산자재!J13 -> 0 | N15: =TRUNC(G15*M15) -> 0 | O15: =IF((H15+K15+M15)=0, "", (H15+K15+M15)) | P15: =SUM(I15,L15,N15) -> 0
A16: 59750897181 | B16: 0101 | C16: 3913170910034937 | D16: 레이스웨이-도색포함 | E16: A형 HANGER, 70 x 40 | F16: 개 | G16: 28 | I16: =TRUNC(G16*H16) -> 0 | J16: 28 | K16: =합산자재!I14 -> 0 | L16: =TRUNC(G16*K16) -> 0 | M16: =합산자재!J14 -> 0 | N16: =TRUNC(G16*M16) -> 0 | O16: =IF((H16+K16+M16)=0, "", (H16+K16+M16)) | P16: =SUM(I16,L16,N16) -> 0
A17: 59750897291 | B17: 0101 | C17: 3913170910034945 | D17: 레이스웨이-도색포함 | E17: JOINT BOX, 70 x 40 | F17: 개 | G17: 6 | I17: =TRUNC(G17*H17) -> 0 | J17: 6 | K17: =합산자재!I15 -> 0 | L17: =TRUNC(G17*K17) -> 0 | M17: =합산자재!J15 -> 0 | N17: =TRUNC(G17*M17) -> 0 | O17: =IF((H17+K17+M17)=0, "", (H17+K17+M17)) | P17: =SUM(I17,L17,N17) -> 0
A18: MM300040388 | B18: 0101 | C18: 3913171221650785 | D18: PVC MOLD | E18: 회색 3호 | F18: M | G18: 4 | I18: =TRUNC(G18*H18) -> 0 | J18: 4 | K18: =합산자재!I16 -> 0 | L18: =TRUNC(G18*K18) -> 0 | M18: =합산자재!J16 -> 0 | N18: =TRUNC(G18*M18) -> 0 | O18: =IF((H18+K18+M18)=0, "", (H18+K18+M18)) | P18: =SUM(I18,L18,N18) -> 0
A19: E1450667012 | B19: 0101 | C19: 2612162922076729 | D19: 450/750V 내열비닐절연전선 | E19: HFIX 2.5㎟ | F19: M | G19: 435 | I19: =TRUNC(G19*H19) -> 0 | J19: 395 | K19: =합산자재!I17 -> 0 | L19: =TRUNC(G19*K19) -> 0 | M19: =합산자재!J17 -> 0 | N19: =TRUNC(G19*M19) -> 0 | O19: =IF((H19+K19+M19)=0, "", (H19+K19+M19)) | P19: =SUM(I19,L19,N19) -> 0 | AC19: =G19*H19 -> 0
A20: E1450927201 | B20: 0101 | C20: 2612152420683695 | D20: 접지용비닐절연전선(F-GV) | E20: 2.5㎟ | F20: M | G20: 145 | I20: =TRUNC(G20*H20) -> 0 | J20: 131 | K20: =합산자재!I19 -> 0 | L20: =TRUNC(G20*K20) -> 0 | M20: =합산자재!J19 -> 0 | N20: =TRUNC(G20*M20) -> 0 | O20: =IF((H20+K20+M20)=0, "", (H20+K20+M20)) | P20: =SUM(I20,L20,N20) -> 0 | AC20: =G20*H20 -> 0
A21: 59301517006 | B21: 0101 | C21: 3912998720170522 | D21: 매입스위치 | E21: 250V 1로6구 | F21: 개 | G21: 1 | I21: =TRUNC(G21*H21) -> 0 | J21: 1 | K21: =합산자재!I24 -> 0 | L21: =TRUNC(G21*K21) -> 0 | M21: =합산자재!J24 -> 0 | N21: =TRUNC(G21*M21) -> 0 | O21: =IF((H21+K21+M21)=0, "", (H21+K21+M21)) | P21: =SUM(I21,L21,N21) -> 0
A22: MM700087004 | B22: 0101 | C22: 3910160520210004 | D22: LED 레이스웨이 직부등 | E22: 40W | F22: 개 | G22: 24 | I22: =TRUNC(G22*H22) -> 0 | J22: 24 | K22: =합산자재!I31 -> 0 | L22: =TRUNC(G22*K22) -> 0 | M22: =합산자재!J31 -> 0 | N22: =TRUNC(G22*M22) -> 0 | O22: =IF((H22+K22+M22)=0, "", (H22+K22+M22)) | P22: =SUM(I22,L22,N22) -> 0
A23: MM700086740 | B23: 0101 | C23: 3910160520200004 | D23: LED T5 | E23: 20W | F23: 개 | G23: 32 | I23: =TRUNC(G23*H23) -> 0 | J23: 32 | K23: =합산자재!I29 -> 0 | L23: =TRUNC(G23*K23) -> 0 | M23: =합산자재!J29 -> 0 | N23: =TRUNC(G23*M23) -> 0 | O23: =IF((H23+K23+M23)=0, "", (H23+K23+M23)) | P23: =SUM(I23,L23,N23) -> 0
A24: MM700089001 | B24: 0101 | C24: 3910160520230001 | D24: LED 다운라이트 | E24: 6W/4인치-각도조절 | F24: 개 | G24: 6 | I24: =TRUNC(G24*H24) -> 0 | J24: 6 | K24: =합산자재!I30 -> 0 | L24: =TRUNC(G24*K24) -> 0 | M24: =합산자재!J30 -> 0 | N24: =TRUNC(G24*M24) -> 0 | O24: =IF((H24+K24+M24)=0, "", (H24+K24+M24)) | P24: =SUM(I24,L24,N24) -> 0
A25: A0100000000 | B25: 0101 | C25: RENT000000000003 | D25: [ 소모 잡자재 ] | E25: 전선, 전선관의 2 % | F25: 식 | G25: 1 | I25: =H25 -> 0 | J25: 1 | L25: =TRUNC(G25*K25) -> 0 | N25: =TRUNC(G25*M25) -> 0 | O25: =IF((H25+K25+M25)=0, "", (H25+K25+M25)) | P25: =SUM(I25,L25,N25) -> 0 | AC25: =TRUNC(TRUNC(SUM(AC4:AC24))*#REF!/100) -> #REF! | AD25: =TRUNC(SUM(I4:I24))+TRUNC(SUM(N4:N24)) -> 0
A26: 56900017016 | B26: 0101 | C26: L001010101000075 | D26: 노 무 비 | E26: 내선전공 | F26: 인 | H26: =합산자재!H45 -> 0 | I26: =TRUNC(G26*H26) -> 0 | J26: =#REF! -> #REF! | L26: =TRUNC(G26*K26) -> 0 | M26: =합산자재!J45 -> 0 | O26: =IF((H26+K26+M26)=0, "", (H26+K26+M26)) | P26: =SUM(I26,L26,N26) -> 0 | AE26: =L26 -> 0
A27: A0300000000 | B27: 0101 | C27: RENT000000000006 | D27: [ 공 구 손 료 ] | E27: 노무비의 3 % | F27: 식 | G27: 1 | I27: =TRUNC(G27*H27) -> 0 | J27: 1 | L27: =K27 -> 0 | N27: =TRUNC(G27*M27) -> 0 | O27: =IF((H27+K27+M27)=0, "", (H27+K27+M27)) | P27: =SUM(I27,L27,N27) -> 0
AC28: =TRUNC(AE28*#REF!/100) -> #REF! | AD28: =TRUNC(SUM(L4:L26)) -> 0 | AE28: =TRUNC(SUM(AE4:AE27)) -> 0
B29: 합계줄 | D29: ( 합 계 ) | I29: =TRUNC(SUM(I4:I28)) -> 0 | L29: =TRUNC(SUM(L4:L28)) -> 0 | N29: =TRUNC(SUM(N4:N28)) -> 0 | O29: =IF((H29+K29+M29)=0, "", (H29+K29+M29)) | P29: =TRUNC(SUM(P4:P28)) -> 0
B30: 공종줄 | D30: 1.전기공사::1-2.전열설비공사
A31: 61100338201 | B31: 0102 | C31: 3912110120178370 | D31: 분전함 철거 | F31: 면 | G31: 1 | I31: =TRUNC(G31*H31) -> 0 | J31: 1 | K31: =합산자재!I38 -> 0 | L31: =TRUNC(G31*K31) -> 0 | M31: =합산자재!J38 -> 0 | N31: =TRUNC(G31*M31) -> 0 | O31: =IF((H31+K31+M31)=0, "", (H31+K31+M31)) | P31: =SUM(I31,L31,N31) -> 0 | Q31: 노임적용
A32: 61100338202 | B32: 0102 | C32: 3912110120178371 | D32: 냉난방 분전함 철거이설 | F32: 면 | G32: 1 | I32: =TRUNC(G32*H32) -> 0 | J32: 1 | K32: =합산자재!I39 -> 0 | L32: =TRUNC(G32*K32) -> 0 | M32: =합산자재!J39 -> 0 | N32: =TRUNC(G32*M32) -> 0 | O32: =IF((H32+K32+M32)=0, "", (H32+K32+M32)) | P32: =SUM(I32,L32,N32) -> 0 | Q32: 노임적용
A33: E1450287503 | B33: 0102 | C33: 2612162920683884 | D33: 케이블 철거 반납 | E33: 0.6/1kv F-CV 1C×6㎟ | F33: M | G33: 32 | I33: =TRUNC(G33*H33) -> 0 | J33: 30 | K33: =합산자재!I21 -> 0 | L33: =TRUNC(G33*K33) -> 0 | M33: =합산자재!J21 -> 0 | N33: =TRUNC(G33*M33) -> 0 | O33: =IF((H33+K33+M33)=0, "", (H33+K33+M33)) | P33: =SUM(I33,L33,N33) -> 0 | AC33: =G33*H33 -> 0
A34: E1450287522 | B34: 0102 | C34: 2612162920683903 | D34: 케이블 철거 반납 | E34: 0.6/1kv F-CV 2C×4㎟ | F34: M | G34: 32 | I34: =TRUNC(G34*H34) -> 0 | J34: 30 | K34: =합산자재!I22 -> 0 | L34: =TRUNC(G34*K34) -> 0 | M34: =합산자재!J22 -> 0 | N34: =TRUNC(G34*M34) -> 0 | O34: =IF((H34+K34+M34)=0, "", (H34+K34+M34)) | P34: =SUM(I34,L34,N34) -> 0 | AC34: =G34*H34 -> 0
A35: 63500197001 | B35: 0102 | C35: 4619150120192512 | D35: 소방감지기 철거이설 | F35: 개 | G35: 2 | I35: =TRUNC(G35*H35) -> 0 | J35: 2 | K35: =합산자재!I34 -> 0 | L35: =TRUNC(G35*K35) -> 0 | M35: =합산자재!J34 -> 0 | N35: =TRUNC(G35*M35) -> 0 | O35: =IF((H35+K35+M35)=0, "", (H35+K35+M35)) | P35: =SUM(I35,L35,N35) -> 0
A36: 59753017003 | B36: 0102 | C36: 3913170620174410 | D36: 1종금속제가요전선관 | E36: 16 mm 일반-비방수 | F36: M | G36: 99 | I36: =TRUNC(G36*H36) -> 0 | J36: 90 | K36: =합산자재!I4 -> 0 | L36: =TRUNC(G36*K36) -> 0 | M36: =합산자재!J4 -> 0 | N36: =TRUNC(G36*M36) -> 0 | O36: =IF((H36+K36+M36)=0, "", (H36+K36+M36)) | P36: =SUM(I36,L36,N36) -> 0 | AC36: =G36*H36 -> 0
A37: 59753767041 | B37: 0102 | C37: 3912130810035753 | D37: 아우트렛박스 | E37: 중형4각 54㎜ | F37: 개 | G37: 12 | I37: =TRUNC(G37*H37) -> 0 | J37: 10 | K37: =합산자재!I7 -> 0 | L37: =TRUNC(G37*K37) -> 0 | M37: =합산자재!J7 -> 0 | N37: =TRUNC(G37*M37) -> 0 | O37: =IF((H37+K37+M37)=0, "", (H37+K37+M37)) | P37: =SUM(I37,L37,N37) -> 0
A38: 59753777102 | B38: 0102 | C38: 3912130610035778 | D38: 스위치박스 | E38: 1 개용 54 mm | F38: 개 | G38: 2 | I38: =TRUNC(G38*H38) -> 0 | J38: 2 | K38: =합산자재!I8 -> 0 | L38: =TRUNC(G38*K38) -> 0 | M38: =합산자재!J8 -> 0 | N38: =TRUNC(G38*M38) -> 0 | O38: =IF((H38+K38+M38)=0, "", (H38+K38+M38)) | P38: =SUM(I38,L38,N38) -> 0
A39: 59753767231 | B39: 0102 | C39: 3912130820174713 | D39: 아우트렛박스 커버 | E39: 커버, 4각, 평형 | F39: 개 | G39: 12 | I39: =TRUNC(G39*H39) -> 0 | J39: 10 | K39: =합산자재!I9 -> 0 | L39: =TRUNC(G39*K39) -> 0 | M39: =합산자재!J9 -> 0 | N39: =TRUNC(G39*M39) -> 0 | O39: =IF((H39+K39+M39)=0, "", (H39+K39+M39)) | P39: =SUM(I39,L39,N39) -> 0
A40: MM300040388 | B40: 0102 | C40: 3913171221650785 | D40: PVC MOLD | E40: 회색 3호 | F40: M | G40: 3 | I40: =TRUNC(G40*H40) -> 0 | J40: 3 | K40: =합산자재!I16 -> 0 | L40: =TRUNC(G40*K40) -> 0 | M40: =합산자재!J16 -> 0 | N40: =TRUNC(G40*M40) -> 0 | O40: =IF((H40+K40+M40)=0, "", (H40+K40+M40)) | P40: =SUM(I40,L40,N40) -> 0
...

Sheet 단위일위대가
A1: 일위대가가 안 나왔나요!
B5: 일위대가를 나오게 하는 방법
B7: 1. 자료사전에서 데이터를 입력할 때 일위대가 데이터를 입력합니다.
B23: ※ 견적 또는 산출내역서에서 Tab키 두번 누른 대제목으로 자료찾기 화면의 일부 모습입니다.
B24: 좌측 첫번째 박스 하단의 일위대가를 선택하면 데이터의 일부가 일위대가로 만들어져 있습니다.
B26: 2. 관공서에서는 단일 자재 등도 모두 일위대가로 만들어야 하는 경우가 있습니다.
B28: ※ 이런 경우엔 완성된 견적 내용을 한꺼번에 일위대가로 만드는 기능을 사용하시면 됩니다.
B40: 프로그램 화면 우측 상단 [사용설명서] 버튼을 눌러 도움말 서비스의 일위대가-일위_108번을 보세요!
B68: ※ 단일자재 전부를 일위대가로 만드는 과정이 동영상으로도 제작되어 있습니다.
B70: 동영상은 이지테크 프르그램 상단 도움말 > 교육용 동영상 > XML파일 만들기를 보세요
B72: 동영상 바로보기

Sheet 합산자재
B1: 55 | C1: [ 대학혁신지원사업 유아교육과 미래 교육환경 ] - 합산자재목록
A2: 번호 | B2: … | C2: 코드 | D2: 명 칭 | E2: 규 격 | F2: 단위 | G2: 수량 | H2: 재료비 | I2: 노무비 | J2: 경비 | K2: 지급비 | L2: 계 | M2: 비고
B4: 59753017003 | C4: 3913170620174410 | D4: 1종금속제가요전선관 | E4: 16 mm 일반-비방수 | F4: M | G4: 205 | H4: =ROUNDDOWN(#REF!*#REF!, 0) -> #REF! | L4: =SUM(H4,I4,J4) -> #REF!
B5: 59753017004 | C5: 3913170620174411 | D5: 1종금속제가요전선관 | E5: 22 mm 일반-비방수 | F5: M | G5: 6 | H5: =ROUNDDOWN(#REF!*#REF!, 0) -> #REF! | L5: =SUM(H5,I5,J5) -> #REF!
B6: 59753767011 | C6: 3912130810035750 | D6: 아우트렛박스 | E6: 8각 54㎜ | F6: 개 | G6: 6 | H6: =ROUNDDOWN(#REF!*#REF!, 0) -> #REF! | L6: =SUM(H6,I6,J6) -> #REF!
B7: 59753767041 | C7: 3912130810035753 | D7: 아우트렛박스 | E7: 중형4각 54㎜ | F7: 개 | G7: 20 | H7: =ROUNDDOWN(#REF!*#REF!, 0) -> #REF! | L7: =SUM(H7,I7,J7) -> #REF!
B8: 59753777102 | C8: 3912130610035778 | D8: 스위치박스 | E8: 1 개용 54 mm | F8: 개 | G8: 2 | H8: =ROUNDDOWN(#REF!*#REF!, 0) -> #REF! | L8: =SUM(H8,I8,J8) -> #REF!
B9: 59753767231 | C9: 3912130820174713 | D9: 아우트렛박스 커버 | E9: 커버, 4각, 평형 | F9: 개 | G9: 18 | H9: =ROUNDDOWN(#REF!*#REF!, 0) -> #REF! | L9: =SUM(H9,I9,J9) -> #REF!
B10: 59753857171 | C10: 3912130320174771 | D10: 통신박스 | E10: 400×400×200 | F10: 개 | G10: 1 | H10: =ROUNDDOWN(#REF!*#REF!, 0) -> #REF! | L10: =SUM(H10,I10,J10) -> #REF!
B11: 59750897011 | C11: 3913170910034920 | D11: 레이스웨이-도색포함 | E11: BODY, 70 x 40 | F11: M | G11: 59 | H11: =ROUNDDOWN(#REF!*#REF!, 0) -> #REF! | L11: =SUM(H11,I11,J11) -> #REF!
B12: 59750897071 | C12: 3913170910034926 | D12: 레이스웨이-도색포함 | E12: JOINER, 70 x 40 | F12: 개 | G12: 6 | H12: =ROUNDDOWN(#REF!*#REF!, 0) -> #REF! | L12: =SUM(H12,I12,J12) -> #REF!
B13: 59750897101 | C13: 3913170910034929 | D13: 레이스웨이-도색포함 | E13: END CAP, 70 x 40 | F13: 개 | G13: 6 | H13: =ROUNDDOWN(#REF!*#REF!, 0) -> #REF! | L13: =SUM(H13,I13,J13) -> #REF!
B14: 59750897181 | C14: 3913170910034937 | D14: 레이스웨이-도색포함 | E14: A형 HANGER, 70 x 40 | F14: 개 | G14: 28 | H14: =ROUNDDOWN(#REF!*#REF!, 0) -> #REF! | L14: =SUM(H14,I14,J14) -> #REF!
B15: 59750897291 | C15: 3913170910034945 | D15: 레이스웨이-도색포함 | E15: JOINT BOX, 70 x 40 | F15: 개 | G15: 6 | H15: =ROUNDDOWN(#REF!*#REF!, 0) -> #REF! | L15: =SUM(H15,I15,J15) -> #REF!
... B26: 59350317251 | C26: 3912140620170860 | D26: 통합 콘센트 | E26: 통신1구, 250V 2구 | F26: 개 | G26: 7 | H26: =ROUNDDOWN(#REF!*#REF!, 0) -> #REF! | L26: =SUM(H26,I26,J26) -> #REF!
B27: MM510191611 | C27: 3911150120188300 | D27: 형광등 철거 | F27: 개 | G27: 9 | H27: =ROUNDDOWN(#REF!*#REF!, 0) -> #REF! | L27: =SUM(H27,I27,J27) -> #REF!
B28: MM510191703 | C28: 3911150120188399 | D28: 칠판등 철거 | F28: 개 | G28: 2 | H28: =ROUNDDOWN(#REF!*#REF!, 0) -> #REF! | L28: =SUM(H28,I28,J28) -> #REF!
B29: MM700086740 | C29: 3910160520200004 | D29: LED T5 | E29: 20W | F29: 개 | G29: 32 | H29: =ROUNDDOWN(#REF!*#REF!, 0) -> #REF! | L29: =SUM(H29,I29,J29) -> #REF!
B30: MM700089001 | C30: 3910160520230001 | D30: LED 다운라이트 | E30: 6W/4인치-각도조절 | F30: 개 | G30: 6 | H30: =ROUNDDOWN(#REF!*#REF!, 0) -> #REF! | L30: =SUM(H30,I30,J30) -> #REF!
B31: MM700087004 | C31: 3910160520210004 | D31: LED 레이스웨이 직부등 | E31: 40W | F31: 개 | G31: 24 | H31: =ROUNDDOWN(#REF!*#REF!, 0) -> #REF! | L31: =SUM(H31,I31,J31) -> #REF!
B32: 58051750101 | C32: 3912140620937640 | D32: 모듈라짹 | E32: 매입용, Cat.5 1구 | F32: 개 | G32: 7 | H32: =ROUNDDOWN(#REF!*#REF!, 0) -> #REF! | L32: =SUM(H32,I32,J32) -> #REF!
B33: 58952007304 | C33: 4322261020168517 | D33: 허브 | E33: 24PORT | F33: 개 | G33: 1 | H33: =ROUNDDOWN(#REF!*#REF!, 0) -> #REF! | L33: =SUM(H33,I33,J33) -> #REF!
B34: 63500197001 | C34: 4619150120192512 | D34: 소방감지기 철거이설 | F34: 개 | G34: 2 | H34: =ROUNDDOWN(#REF!*#REF!, 0) -> #REF! | L34: =SUM(H34,I34,J34) -> #REF!
B35: 63500197005 | C35: 4619150120192516 | D35: 재실감지기 | E35: 학교지정용 | F35: 개 | G35: 1 | H35: =ROUNDDOWN(#REF!*#REF!, 0) -> #REF! | L35: =SUM(H35,I35,J35) -> #REF!
B36: MM300040720 | C36: 5216151220173744 | D36: 소방 스피커 철거교체 | E36: 천정형(10W) 원형 | F36: 개 | G36: 1 | H36: =ROUNDDOWN(#REF!*#REF!, 0) -> #REF! | L36: =SUM(H36,I36,J36) -> #REF!
B37: MM300040726 | C37: 5216151220173745 | D37: 전자교탁 스피커 철거재사용 | F37: 개 | G37: 2 | H37: =ROUNDDOWN(#REF!*#REF!, 0) -> #REF! | L37: =SUM(H37,I37,J37) -> #REF!
B38: 61100338201 | C38: 3912110120178370 | D38: 분전함 철거 | F38: 면 | G38: 1 | H38: =ROUNDDOWN(#REF!*#REF!, 0) -> #REF! | L38: =SUM(H38,I38,J38) -> #REF!
B39: 61100338202 | C39: 3912110120178371 | D39: 냉난방 분전함 철거이설 | F39: 면 | G39: 1 | H39: =ROUNDDOWN(#REF!*#REF!, 0) -> #REF! | L39: =SUM(H39,I39,J39) -> #REF!
B40: MM300020704 | C40: 3912161420167119 | D40: 누전차단기(32GRc) 철거교체 | E40: 2P 30AF 20AT | F40: EA | G40: 8 | H40: =ROUNDDOWN(#REF!*#REF!, 0) -> #REF! | L40: =SUM(H40,I40,J40) -> #REF!
B41: MM968705102 | C41: 391115ZZ701Z0001 | D41: AP 철거 후 재사용 | F41: 개 | G41: 2 | H41: =ROUNDDOWN(#REF!*#REF!, 0) -> #REF! | L41: =SUM(H41,I41,J41) -> #REF!
B42: MM968705103 | C42: 391115ZZ701Z0002 | D42: 배관배선 철거 | F42: 개 | G42: 1 | H42: =ROUNDDOWN(#REF!*#REF!, 0) -> #REF! | L42: =SUM(H42,I42,J42) -> #REF!
B43: MM968705104 | C43: 391115ZZ701Z0003 | D43: 전자교탁 기존선로 재설치 | F43: 식 | G43: 1 | H43: =ROUNDDOWN(#REF!*#REF!, 0) -> #REF! | L43: =SUM(H43,I43,J43) -> #REF!
B44: MM968705145 | C44: 391115ZZ701Z0004 | D44: 프로젝트 철거재사용 | F44: 개 | G44: 1 | H44: =ROUNDDOWN(#REF!*#REF!, 0) -> #REF! | L44: =SUM(H44,I44,J44) -> #REF!
B45: 56900017016 | C45: L001010101000075 | D45: 노 무 비 | E45: 내선전공 | F45: 인 | G45: 55 | I45: =ROUNDDOWN(#REF!, 0) -> #REF! | L45: =SUM(H45,I45,J45) -> #REF!
B46: 56900017076 | C46: L001010101000078 | D46: 노 무 비 | E46: 저압케이블전공 | F46: 인 | G46: 1 | I46: =ROUNDDOWN(#REF!, 0) -> #REF! | L46: =SUM(H46,I46,J46) -> #REF!
B47: 56900017113 | C47: L001010101000086 | D47: 노 무 비 | E47: 통신내선공 | F47: 인 | G47: 0.196 | I47: =ROUNDDOWN(#REF!, 0) -> #REF! | L47: =SUM(H47,I47,J47) -> #REF!
B48: 56900017116 | C48: L001010101000089 | D48: 노 무 비 | E48: 통신케이블공 | F48: 인 | G48: 1 | I48: =ROUNDDOWN(#REF!, 0) -> #REF! | L48: =SUM(H48,I48,J48) -> #REF!
B49: 56900017114 | C49: L001010101000087 | D49: 노 무 비 | E49: 통신설비공 | F49: 인 | G49: 1 | I49: =ROUNDDOWN(#REF!, 0) -> #REF! | L49: =SUM(H49,I49,J49) -> #REF!
B50: 56900017142 | C50: L001010201000093 | D50: 노 무 비 | E50: H/W시험사 | F50: 인 | G50: 0.22 | I50: =ROUNDDOWN(#REF!, 0) -> #REF! | L50: =SUM(H50,I50,J50) -> #REF!
B51: 56900017143 | C51: L001010201000094 | D51: 노 무 비 | E51: S/W시험사 | F51: 인 | G51: 0.36 | I51: =ROUNDDOWN(#REF!, 0) -> #REF! | L51: =SUM(H51,I51,J51) -> #REF!

Sheet 사용설명
B1: ** 반드시 다음 사항을 숙지하신 다음 수정 작업을 하십시오 **
A2: 1. | B2: 속성이 숫자인 셀을 삭제할 때는 반드시 'Delete' 키를 사용하십시오.
B3: **주의:'Space Bar' 로 지웠을 때는 '#Value' Error가 발생됩니다.
A4: 2. | B4: 일위대가(을지)는 소수점 처리 때문에 셀 속성을 '일반'으로 하였습니다.(소수점 능동 처리)
B5: **참고: (수량*단가)의 결과는 소수 한자리, 금액을 취합한 소계는 1원 이하 절사입니다.
A6: 3. | B6: 내역서에서는 수량에만 셀 속성을 '일반'으로 하였습니다.(소수점 능동 처리)
A7: 4. | B7: 단가수정은 '단가조사서'시트 에서 하십시오.
B8: a)표지와 원가 -> 총괄표 -> 내역서 ->일위대가와 합산자재 ->단가조사서 를 참조하고
B9: 있으므로 단가조사서의 결정단가를 수정하면 전체 금액이 갱신됩니다.
B10: **주의: 금액란은 공식이 걸려있으므로 조심하여 수정하십시오.
B11: b)전체 자재를 일정 요율(%)로 변경할 때는 옵션시트의 자재 적용율을 조정하면 됩니다.
A12: 5. | B12: 노임 단가는 '단가조사서'시트에서 품셈은 '노임근거'시트에서 수정하십시오.
B13: a)전체 노임을 일정 요율(%)로 변경할 때는 '옵션시트'의 전체노임 적용율을 조정하면 됩니다.
B14: b)공종별로 노임을 수정하려면 '옵션시트'의 공종별 노임 적용율을 조정하면 됩니다.
B15: c)케이블 및 전선 자재 단가를 추가로 조정하려면 그룹별 자재 적용율을 조정하면 됩니다.
B16: 그룹은 견적 프로그램에서 엑셀파일이 만들어질때 지정됩니다.
A17: 6. | B17: 겉표지의 모든 정보는 표지를 참조하였습니다.(정보 수정은 표지에서만 하시면 됩니다.)
A18: 7. | B18: 필수 :본 프로그램의 총 금액을 확인한 후 사용하십시오.
A19: 8. | B19: 본 파일의 내용을 인쇄할 경우, 미리보기를 통하여 페이지 절선을 확인 후 인쇄하십시오.
A20: 9. | B20: 관급자재 Sheet가 해당이 없을 경우엔 삭제하십시오.
A21: 10. | B21: 페이지 절선이 맞지 않으면 다음을 참고하십시오.
B33: a. 해당시트의 셀 전체를 선택합니다.
B34: b. 행높이를 적절히 가감하면 페이지 절선을 맞출 수 있습니다.
