Workbook
Name _: "="
Name ___________q45: {"'용역비'!$A$4:$C$8"}
Name ___________q45: {"'용역비'!$A$4:$C$8"}
Name _________q45: {"'용역비'!$A$4:$C$8"}
Name _________q45: {"'용역비'!$A$4:$C$8"}
Name _______q45: {"'용역비'!$A$4:$C$8"}
Name _______q45: {"'용역비'!$A$4:$C$8"}
Name ______q45: {"'용역비'!$A$4:$C$8"}
Name ______q45: {"'용역비'!$A$4:$C$8"}
Name _____q45: {"'용역비'!$A$4:$C$8"}
Name _____q45: {"'용역비'!$A$4:$C$8"}
Name ____q45: {"'용역비'!$A$4:$C$8"}
Name ____q45: {"'용역비'!$A$4:$C$8"}
Name ___A100000: #N/A
Name ___A69999: #N/A
Name ___A99999: #N/A
Name ___HSH1: #N/A
Name ___HSH2: #N/A
Name ___LG15: #N/A
Name ___LG17: #N/A
Name ___LG18: #N/A
Name ___LG21: #N/A
Name ___LG6: #N/A
Name ___LG9: #N/A
Name ___LS15: #N/A
Name ___LS17: #N/A
Name ___LS18: #N/A
Name ___LS21: #N/A
Name ___LS6: #N/A
Name ___LS9: #N/A
Name ___MG109: #N/A
Name ___MG135: #N/A
Name ___MG15: #N/A
Name ___MG3: #N/A
Name ___MG43: #N/A
Name ___MG44: #N/A
Name ___MG46: #N/A
Name ___MG57: #N/A
Name ___MG6: #N/A
Name ___MG8: #N/A
Name ___MG9: #N/A
Name ___MS109: #N/A
Name ___MS135: #N/A
Name ___MS15: #N/A
Name ___MS3: #N/A
Name ___MS43: #N/A
Name ___MS44: #N/A
Name ___MS46: #N/A
Name ___MS57: #N/A
Name ___MS6: #N/A
Name ___MS8: #N/A
Name ___MS9: #N/A
Name ___NP1: #N/A
Name ___NP2: #N/A
Name ___NSH1: #N/A
Name ___NSH2: #N/A
Name ___q45: {"'용역비'!$A$4:$C$8"}
Name ___q45: {"'용역비'!$A$4:$C$8"}
Name ___SBB1: #N/A
Name ___SBB2: #N/A

Sheet 총괄
A1: 공사원가계산서 총괄표
A3: 공 사 명 : | B3: =원가!C2 -> [ MAUM돌봄 융합교육센터 구축공사(건축,기계) ]
A4: 총 설 계 금 액 : | B4: ="일금" &NUMBERSTRING(E4,1) &"원정" -> 일금삼천삼백사십칠만삼천원정 | E4: =F22 -> 33473000
A5: 도 급 금 액 : | B5: ="일금" &NUMBERSTRING(E5,1) &"원정" -> 일금삼천삼백사십칠만삼천원정 | E5: =B19 -> 33473000
A6: 관 급 금 액 : | B6: ="일금" &NUMBERSTRING(E6,1) &"원정" -> 일금영원정 | E6: =C22+D22 -> 0
A7: 각 종 분 담 금 : | B7: ="일금" &NUMBERSTRING(E7,1) &"원정" -> 일금영원정 | E7: =E19 -> 0
A9: 구 분 | B9: 설계금액 | C9: 도급자관급 | D9: 관급자관급 | E9: 분담금 | F9: 합 계 | G9: 비 고
A10: 건 축 공 사 | B10: =원가!D36 -> 0 | C10: =원가!D39 -> 0 | D10: =원가!D40 -> 0 | E10: =원가!D37 -> 0 | F10: =SUM(B10:E10) -> 0
A11: 기 계 공 사 | B11: =원가!E36 -> 0 | C11: =원가!E39 -> 0 | D11: =원가!E40 -> 0 | E11: =원가!E37 -> 0 | F11: =SUM(B11:E11) -> 0
A14: [ 소 계(1) ] | B14: =SUM(B10:B13) -> 0 | C14: =SUM(C10:C13) -> 0 | D14: =SUM(D10:D13) -> 0 | E14: =SUM(E10:E13) -> 0 | F14: =SUM(B14:E14) -> 0
A15: 전 기 공 사 | B15: 33473000 | F15: =SUM(B15:E15) -> 33473000
F16: =SUM(B16:E16) -> 0
F17: =SUM(B17:E17) -> 0
A18: [ 소 계(2) ] | B18: =SUM(B15:B17) -> 33473000 | C18: =SUM(C15:C17) -> 0 | D18: =SUM(D15:D17) -> 0 | E18: =SUM(E15:E17) -> 0 | F18: =SUM(B18:E18) -> 33473000
A19: 합 계 (1)+(2) | B19: =B14+B18 -> 33473000 | C19: =C14+C18 -> 0 | D19: =D14+D18 -> 0 | E19: =E14+E18 -> 0 | F19: =SUM(B19:E19) -> 33473000
F21: =SUM(B21:E21) -> 0
A22: 총 공 사 비 | B22: =B14+B18+B20+B21 -> 33473000 | C22: =C14+C18+C20+C21 -> 0 | D22: =D14+D18+D20+D21 -> 0 | E22: =E14+E18+E20+E21 -> 0 | F22: =SUM(B22:E22) -> 33473000
A26: =IF(COUNTIF($C$34,"*이상*"),"별도발주","")
D36: =IFERROR(TRUNC(D$6*$I$36*1.4),"") -> 0 | E36: =IFERROR(TRUNC(E$6*$I$36*1.4),"") -> 0 | F36: =IFERROR(TRUNC(F$6*$I$36*1.4),"") -> 0 | G36: =IFERROR(TRUNC(G$6*$I$36*1.4),"") -> 0

Sheet 원가
A1: 공 사 원 가 계 산 서
A2: 공사명 : | C2: [ MAUM돌봄 융합교육센터 구축공사(건축,기계) ]
A3: 비 목 | D3: 건축 | E3: 기계 | F3: 합계 | G3: 구 성 비 | K3: 비 고
A4: 순 공 사 비 | B4: 재료비 | C4: 직접재료비 | D4: ='공종별집계표(건축)'!F6 -> 0
C6: [ 소 계 ] | D6: =SUM(D4:D5) -> 0
B7: 노무비 | C7: 직접노무비 | D7: ='공종별집계표(건축)'!H6 -> 0
C8: 간접노무비 | D8: =TRUNC(D7*$H$8) -> 0 | G8: 직접노무비* | H8: 0.122 | K8: 6개월이하, 직접공사비: 50억미만
C9: [ 소 계 ] | D9: =SUM(D7:D8) -> 0
B10: 경 비 | C10: 산출경비 | D10: ='공종별집계표(건축)'!J6 -> 0
C12: 산재보험료 | D12: 2204594 | E12: 2306271 | F12: =SUM(D12:E12) -> 4510865 | G12: 노무비* | H12: 0.037
C13: 고용보험료 | D13: 601794 | E13: 629549 | F13: =SUM(D13:E13) -> 1231343 | G13: 노무비* | H13: 0.0101 | K13: 7등급이하(추정금액130억미만)
C14: 건강보험료 | D14: 1882566 | E14: 1969391 | F14: =SUM(D14:E14) -> 3851957 | G14: 직접노무비* | H14: 3.545%
C15: 노인장기요양보험료 | D15: 241156 | E15: 252278 | F15: =SUM(D15:E15) -> 493434 | G15: 건강보험료* | H15: 12.81%
C16: 연금보험료 | D16: 2389717 | E16: 2499933 | F16: =SUM(D16:E16) -> 4889650 | G16: 직접노무비* | H16: 4.5%
C17: 퇴직공제부금비 | D17: 1221411 | E17: 1277743 | F17: =SUM(D17:E17) -> 2499154 | G17: 직접노무비* | H17: 0.023 | K17: 추정금액: 1억원이상공사
C18: 산업안전보건관리비 | D18: 3117600 | E18: 2715253 | F18: =SUM(D18:E18) -> 5832853 | G18: (재료비+직접노무비)* | H18: 0.0293 | J18: 0
C21: 환경보전비 | D21: 324372 | E21: 278028 | F21: =SUM(D21:E21) -> 602400 | G21: (재료비+직접노무비+산출경비)* | H21: 0.3% | K21: 개보수공사
C22: 건설하도급대금 지급보증서 발급수수료 | D22: 87580 | E22: 75067 | F22: =SUM(D22:E22) -> 162647 | G22: (재료비+직접노무비+산출경비)* | H22: 0.00081 | K22: 직접공사비: 50억미만
C23: 건설기계대여금 지급보증서 발급수수료 | D23: 108124 | E23: 64873 | F23: =SUM(D23:E23) -> 172997 | G23: (재료비+직접노무비+산출경비)* | H23: 0.1% | K23: 신축 그 외
C25: 기타경비 | D25: =TRUNC((D6+D9)*$H$25) -> 0 | E25: =TRUNC((E6+E9)*$H$25) -> 0 | F25: =SUM(D25:E25) -> 0 | G25: (재료비+노무비)* | H25: 0.058 | K25: 6개월이하, 직접공사비: 50억미만
C26: [ 소 계 ]
C27: 순공사비 계
C28: 일반관리비 | G28: 순공사비 계* | H28: 0.06 | K28: 추정가격: 50억미만
C29: 이윤 | G29: (노무비+경비+일반관리비)* | H29: 0.15 | K29: 추정가격: 50억미만
C31: 작업부산물
C32: 폐기물처리비[100톤미만] | K32: =IF(COUNTIF($C$32,"*이상*"),"별도발주","")
C34: 공급가액
C35: 부가가치세 | G35: 공급가액* | H35: 0.1
C36: 설계[도급]금액 | G36: 공급가액+부가세
C37: 분담금 | F37: =SUM(D37:E37) -> 0
C38: [ 관급 ] | D38: =SUM(D39:D40) -> 0 | E38: =SUM(E39:E40) -> 0 | F38: =SUM(D38:E38) -> 0
C39: 도급자설치 | F39: =SUM(D39:E39) -> 0 | K39: =IF(F39>10000,"천단위절사","")
C40: 관급자설치 | F40: =SUM(D40:E40) -> 0 | K40: =IF(F40>10000,"천단위절사","")
A41: 총 공 사 비 | D41: =D36+SUM(D37:D37)+D38 -> 0 | E41: =E36+SUM(E37:E37)+E38 -> 0 | F41: =SUM(D41:E41) -> 0 | G41: [도급]설계금액+관급
D42: =D4+D7+D10+D11 -> 0 | E42: =E4+E7+E10+E11 -> 0 | F42: =SUM(D42:E42) -> 0
D43: =(D34-D42)/D42 -> #DIV/0! | E43: =(E34-E42)/E42 -> #DIV/0! | F43: =(F34-F42)/F42 -> #DIV/0!

Sheet 공종별집계표(건축)
A1: 공 종 별 집 계 표
A2: [ MAUM돌봄 융합교육센터 구축공사(건축,기계) ]
A3: 품 명 | B3: 규 격 | C3: 단위 | D3: 수량 | E3: 재 료 비 | G3: 노 무 비 | I3: 경 비 | K3: 합 계 | M3: 비 고 | N3: 공종코드 | O3: 변수 | P3: 상위공종 | Q3: 공종구분 | R3: 공종레벨 | S3: 공종소계 | T3: 원가계산서 연결금액
E4: 단 가 | F4: 금 액 | G4: 단 가 | H4: 금 액 | I4: 단 가 | J4: 금 액 | K4: 단 가 | L4: 금 액
A5: 01 광주여대 덕천관 화장실 리모델링공사 | D5: 1 | E5: =F6 -> 0 | F5: =E5*D5 -> 0 | G5: =H6 -> 0 | H5: =G5*D5 -> 0 | I5: =J6 -> 0 | J5: =I5*D5 -> 0 | K5: =E5+G5+I5 -> 0 | L5: =F5+H5+J5 -> 0 | N5: 01 | R5: 1
A6: 0101 건 축 공 사 | D6: 1 | E6: =F7+F8+F9+F10+F11+F12+F13+F14+F15+F16+F17+F18+F19 -> 0 | F6: =E6*D6 -> 0 | G6: =H7+H8+H9+H10+H11+H12+H13+H14+H15+H16+H17+H18+H19 -> 0 | H6: =G6*D6 -> 0 | I6: =J7+J8+J9+J10+J11+J12+J13+J14+J15+J16+J17+J18+J19 -> 0 | J6: =I6*D6 -> 0 | K6: =E6+G6+I6 -> 0 | L6: =F6+H6+J6 -> 0 | N6: 0101 | P6: 01 | R6: 2
A7: 010101 가 설 공 사 | D7: 1 | E7: ='공종별내역서(건축)'!F27 -> 0 | F7: =E7*D7 -> 0 | G7: ='공종별내역서(건축)'!H27 -> 0 | H7: =G7*D7 -> 0 | I7: ='공종별내역서(건축)'!J27 -> 0 | J7: =I7*D7 -> 0 | K7: =E7+G7+I7 -> 0 | L7: =F7+H7+J7 -> 0 | N7: 010101 | P7: 0101 | R7: 3
A8: 010102 철근 CON'C공사 | D8: 1 | E8: ='공종별내역서(건축)'!F51 -> 0 | F8: =E8*D8 -> 0 | G8: ='공종별내역서(건축)'!H51 -> 0 | H8: =G8*D8 -> 0 | I8: ='공종별내역서(건축)'!J51 -> 0 | J8: =I8*D8 -> 0 | K8: =E8+G8+I8 -> 0 | L8: =F8+H8+J8 -> 0 | N8: 010102 | P8: 0101 | R8: 3
A9: 010103 조 적 공 사 | D9: 1 | E9: ='공종별내역서(건축)'!F75 -> 0 | F9: =E9*D9 -> 0 | G9: ='공종별내역서(건축)'!H75 -> 0 | H9: =G9*D9 -> 0 | I9: ='공종별내역서(건축)'!J75 -> 0 | J9: =I9*D9 -> 0 | K9: =E9+G9+I9 -> 0 | L9: =F9+H9+J9 -> 0 | N9: 010103 | P9: 0101 | R9: 3
A10: 010104 방 수 공 사 | D10: 1 | E10: ='공종별내역서(건축)'!F99 -> 0 | F10: =E10*D10 -> 0 | G10: ='공종별내역서(건축)'!H99 -> 0 | H10: =G10*D10 -> 0 | I10: ='공종별내역서(건축)'!J99 -> 0 | J10: =I10*D10 -> 0 | K10: =E10+G10+I10 -> 0 | L10: =F10+H10+J10 -> 0 | N10: 010104 | P10: 0101 | R10: 3
A11: 010105 타 일 공 사 | D11: 1 | E11: ='공종별내역서(건축)'!F123 -> 0 | F11: =E11*D11 -> 0 | G11: ='공종별내역서(건축)'!H123 -> 0 | H11: =G11*D11 -> 0 | I11: ='공종별내역서(건축)'!J123 -> 0 | J11: =I11*D11 -> 0 | K11: =E11+G11+I11 -> 0 | L11: =F11+H11+J11 -> 0 | N11: 010105 | P11: 0101 | R11: 3
A12: 010106 금 속 공 사 | D12: 1 | E12: ='공종별내역서(건축)'!F147 -> 0 | F12: =E12*D12 -> 0 | G12: ='공종별내역서(건축)'!H147 -> 0 | H12: =G12*D12 -> 0 | I12: ='공종별내역서(건축)'!J147 -> 0 | J12: =I12*D12 -> 0 | K12: =E12+G12+I12 -> 0 | L12: =F12+H12+J12 -> 0 | N12: 010106 | P12: 0101 | R12: 3
A13: 010107 창 호 공 사 | D13: 1 | E13: ='공종별내역서(건축)'!F171 -> 0 | F13: =E13*D13 -> 0 | G13: ='공종별내역서(건축)'!H171 -> 0 | H13: =G13*D13 -> 0 | I13: ='공종별내역서(건축)'!J171 -> 0 | J13: =I13*D13 -> 0 | K13: =E13+G13+I13 -> 0 | L13: =F13+H13+J13 -> 0 | N13: 010107 | P13: 0101 | R13: 3
A14: 010108 유 리 공 사 | D14: 1 | E14: ='공종별내역서(건축)'!F195 -> 0 | F14: =E14*D14 -> 0 | G14: ='공종별내역서(건축)'!H195 -> 0 | H14: =G14*D14 -> 0 | I14: ='공종별내역서(건축)'!J195 -> 0 | J14: =I14*D14 -> 0 | K14: =E14+G14+I14 -> 0 | L14: =F14+H14+J14 -> 0 | N14: 010108 | P14: 0101 | R14: 3
A15: 010109 목.수 장 공 사 | D15: 1 | E15: ='공종별내역서(건축)'!F219 -> 0 | F15: =E15*D15 -> 0 | G15: ='공종별내역서(건축)'!H219 -> 0 | H15: =G15*D15 -> 0 | I15: ='공종별내역서(건축)'!J219 -> 0 | J15: =I15*D15 -> 0 | K15: =E15+G15+I15 -> 0 | L15: =F15+H15+J15 -> 0 | N15: 010109 | P15: 0101 | R15: 3
A16: 010110 기 타 공 사 | D16: 1 | E16: ='공종별내역서(건축)'!F243 -> 0 | F16: =E16*D16 -> 0 | G16: ='공종별내역서(건축)'!H243 -> 0 | H16: =G16*D16 -> 0 | I16: ='공종별내역서(건축)'!J243 -> 0 | J16: =I16*D16 -> 0 | K16: =E16+G16+I16 -> 0 | L16: =F16+H16+J16 -> 0 | N16: 010110 | P16: 0101 | R16: 3
A17: 010111 철 거 공 사 | D17: 1 | E17: ='공종별내역서(건축)'!F267 -> 0 | F17: =E17*D17 -> 0 | G17: ='공종별내역서(건축)'!H267 -> 0 | H17: =G17*D17 -> 0 | I17: ='공종별내역서(건축)'!J267 -> 0 | J17: =I17*D17 -> 0 | K17: =E17+G17+I17 -> 0 | L17: =F17+H17+J17 -> 0 | N17: 010111 | P17: 0101 | R17: 3
A18: 010112 골재 및 운반비 | D18: 1 | E18: ='공종별내역서(건축)'!F291 -> 0 | F18: =E18*D18 -> 0 | G18: ='공종별내역서(건축)'!H291 -> 0 | H18: =G18*D18 -> 0 | I18: ='공종별내역서(건축)'!J291 -> 0 | J18: =I18*D18 -> 0 | K18: =E18+G18+I18 -> 0 | L18: =F18+H18+J18 -> 0 | N18: 010112 | P18: 0101 | R18: 3
A19: 010113 폐기물 상차비 | D19: 1 | E19: ='공종별내역서(건축)'!F315 -> 0 | F19: =E19*D19 -> 0 | G19: ='공종별내역서(건축)'!H315 -> 0 | H19: =G19*D19 -> 0 | I19: ='공종별내역서(건축)'!J315 -> 0 | J19: =I19*D19 -> 0 | K19: =E19+G19+I19 -> 0 | L19: =F19+H19+J19 -> 0 | N19: 010113 | P19: 0101 | R19: 3
A20: 0102 작업부산물[철거] | D20: 1 | E20: ='공종별내역서(건축)'!F339 -> 0 | F20: =E20*D20 -> 0 | G20: ='공종별내역서(건축)'!H339 -> 0 | H20: =G20*D20 -> 0 | I20: ='공종별내역서(건축)'!J339 -> 0 | J20: =I20*D20 -> 0 | K20: =E20+G20+I20 -> 0 | L20: =F20+H20+J20 -> 0 | N20: 0102 | Q20: 1 | R20: 2 | T20: =L20*1 -> 0
A21: 0103 폐기물 처리비 | D21: 1 | E21: ='공종별내역서(건축)'!F363 -> 0 | F21: =E21*D21 -> 0 | G21: ='공종별내역서(건축)'!H363 -> 0 | H21: =G21*D21 -> 0 | I21: ='공종별내역서(건축)'!J363 -> 0 | J21: =I21*D21 -> 0 | K21: =E21+G21+I21 -> 0 | L21: =F21+H21+J21 -> 0 | N21: 0103 | Q21: 3 | R21: 2 | T21: =L21*1 -> 0
A27: [ 합 계 ] | F27: =F5 -> 0 | H27: =H5 -> 0 | J27: =J5 -> 0 | L27: =L5 -> 0

Sheet 공종별집계표(기계)
A1: 공 종 별 집 계 표
A2: [ MAUM돌봄 융합교육센터 구축공사(건축,기계) ]
A3: 품 명 | B3: 규 격 | C3: 단위 | D3: 수량 | E3: 재 료 비 | G3: 노 무 비 | I3: 경 비 | K3: 합 계 | M3: 비 고 | N3: 공종코드 | O3: 변수 | P3: 상위공종 | Q3: 공종구분 | R3: 공종레벨 | S3: 공종소계 | T3: 원가계산서 연결금액
E4: 단 가 | F4: 금 액 | G4: 단 가 | H4: 금 액 | I4: 단 가 | J4: 금 액 | K4: 단 가 | L4: 금 액
A5: 01 광주여자대학교덕천관화장실리모델링공사 | D5: 1 | E5: =F6 -> 0 | F5: =E5*D5 -> 0 | G5: =H6 -> 0 | H5: =G5*D5 -> 0 | I5: =J6 -> 0 | J5: =I5*D5 -> 0 | K5: =E5+G5+I5 -> 0 | L5: =F5+H5+J5 -> 0 | N5: 01 | R5: 1
A6: 0101 기계설비공사 | D6: 1 | E6: =F7+F8+F9+F10+F11 -> 0 | F6: =E6*D6 -> 0 | G6: =H7+H8+H9+H10+H11 -> 0 | H6: =G6*D6 -> 0 | I6: =J7+J8+J9+J10+J11 -> 0 | J6: =I6*D6 -> 0 | K6: =E6+G6+I6 -> 0 | L6: =F6+H6+J6 -> 0 | N6: 0101 | P6: 01 | R6: 2
A7: 010101 1.장비 및 위생기구 설치공사 | D7: 1 | E7: =[31]공종별내역서!F51 -> 0 | F7: =E7*D7 -> 0 | G7: =[31]공종별내역서!H51 -> 0 | H7: =G7*D7 -> 0 | I7: =[31]공종별내역서!J51 -> 0 | J7: =I7*D7 -> 0 | K7: =E7+G7+I7 -> 0 | L7: =F7+H7+J7 -> 0 | N7: 010101 | P7: 0101 | R7: 3
A8: 010102 2.급수급탕배관공사 | D8: 1 | E8: =[31]공종별내역서!F147 -> 0 | F8: =E8*D8 -> 0 | G8: =[31]공종별내역서!H147 -> 0 | H8: =G8*D8 -> 0 | I8: =[31]공종별내역서!J147 -> 0 | J8: =I8*D8 -> 0 | K8: =E8+G8+I8 -> 0 | L8: =F8+H8+J8 -> 0 | N8: 010102 | P8: 0101 | R8: 3
A9: 010103 3.오배수배관공사 | D9: 1 | E9: =[31]공종별내역서!F219 -> 0 | F9: =E9*D9 -> 0 | G9: =[31]공종별내역서!H219 -> 0 | H9: =G9*D9 -> 0 | I9: =[31]공종별내역서!J219 -> 0 | J9: =I9*D9 -> 0 | K9: =E9+G9+I9 -> 0 | L9: =F9+H9+J9 -> 0 | N9: 010103 | P9: 0101 | R9: 3
A10: 010104 4.환기배관공사 | D10: 1 | E10: =[31]공종별내역서!F243 -> 0 | F10: =E10*D10 -> 0 | G10: =[31]공종별내역서!H243 -> 0 | H10: =G10*D10 -> 0 | I10: =[31]공종별내역서!J243 -> 0 | J10: =I10*D10 -> 0 | K10: =E10+G10+I10 -> 0 | L10: =F10+H10+J10 -> 0 | N10: 010104 | P10: 0101 | R10: 3
A11: 010105 5.철거공사 | D11: 1 | E11: =[31]공종별내역서!F291 -> 0 | F11: =E11*D11 -> 0 | G11: =[31]공종별내역서!H291 -> 0 | H11: =G11*D11 -> 0 | I11: =[31]공종별내역서!J291 -> 0 | J11: =I11*D11 -> 0 | K11: =E11+G11+I11 -> 0 | L11: =F11+H11+J11 -> 0 | N11: 010105 | P11: 0101 | R11: 3
A12: 0102 고재처리비 | D12: 1 | E12: =[31]공종별내역서!F315 -> 0 | F12: =E12*D12 -> 0 | G12: =[31]공종별내역서!H315 -> 0 | H12: =G12*D12 -> 0 | I12: =[31]공종별내역서!J315 -> 0 | J12: =I12*D12 -> 0 | K12: =E12+G12+I12 -> 0 | L12: =F12+H12+J12 -> 0 | N12: 0102 | Q12: 6 | R12: 2 | T12: =L12*1 -> 0
A13: 0103 폐기물처리비 | D13: 1 | E13: =[31]공종별내역서!F339 -> 0 | F13: =E13*D13 -> 0 | G13: =[31]공종별내역서!H339 -> 0 | H13: =G13*D13 -> 0 | I13: =[31]공종별내역서!J339 -> 0 | J13: =I13*D13 -> 0 | K13: =E13+G13+I13 -> 0 | L13: =F13+H13+J13 -> 0 | N13: 0103 | Q13: 7 | R13: 2 | T13: =L13*1 -> 0
A27: [ 합 계 ] | F27: =F5 -> 0 | H27: =H5 -> 0 | J27: =J5 -> 0 | L27: =L5 -> 0

Sheet 공종별내역서(건축)
A1: [ MAUM돌봄 융합교육센터 구축공사(건축,기계) ]
A2: 품 명 | B2: 규 격 | C2: 단위 | D2: 수량 | E2: 재 료 비 | G2: 노 무 비 | I2: 경 비 | K2: 합 계 | M2: 비 고 | N2: 품목코드 | O2: 변수 | P2: 설정 | Q2: 공종코드 | R2: 일위 | S2: 단산 | T2: 자재 | U2: 손료적용 | V2: 손료저장 | W2: 적용율 | X2: JUK1 | Y2: JUK2 | Z2: JUK3 | AA2: JUK4 | AB2: JUK5 | AC2: JUK6 | AD2: JUK7 | AE2: JUK8 | AF2: JUK9 | AG2: JUK10 | AH2: JUK11 | AI2: JUK12 | AJ2: JUK13 | AK2: JUK14 | AL2: JUK15 | AM2: JUK16 | AN2: JUK17 | AO2: JUK18 | AP2: JUK19 | AQ2: JUK20 | AR2: 자재구분 | AS2: 공종구분 | AT2: 공종레벨 | AU2: 공종+자재 | AV2: 고유번호
E3: 단 가 | F3: 금 액 | G3: 단 가 | H3: 금 액 | I3: 단 가 | J3: 금 액 | K3: 단 가 | L3: 금 액
A4: 010101 가 설 공 사 | Q4: 010101
A5: 먹매김 | B5: 개보수 | C5: M2 | D5: 122 | N5: 594AC524CC43DA7872BBC51B2A92D4 | Q5: 010101 | R5: T | S5: F | T5: F | AU5: 010101594AC524CC43DA7872BBC51B2A92D4 | AV5: 4
A6: 이동식말비계 | B6: H=2m, 1개월 | C6: 대 | D6: 6 | N6: 594AC524CC43DA7CECBAF5DDC59837 | Q6: 010101 | R6: T | S6: F | T6: F | AU6: 010101594AC524CC43DA7CECBAF5DDC59837 | AV6: 5
A7: 타일.석재면보양 | B7: 하드롱지 | C7: M2 | D7: 107 | N7: 594AC524CE4EBC748C9E85173498E7 | Q7: 010101 | R7: T | S7: F | T7: F | AU7: 010101594AC524CE4EBC748C9E85173498E7 | AV7: 6
A8: 건축물현장정리,운반 | C8: M2 | D8: 122 | N8: 594AC524C84422732D7E9572AE9E33 | Q8: 010101 | R8: T | S8: F | T8: F | AU8: 010101594AC524C84422732D7E9572AE9E33 | AV8: 90
A9: 준공청소 | C9: M2 | D9: 122 | N9: 594AC524C8442270599DC59159935E | Q9: 010101 | R9: T | S9: F | T9: F | AU9: 010101594AC524C8442270599DC59159935E | AV9: 91
A27: [ 합 계 ] | F27: =SUM(F5:F26) -> 0 | H27: =SUM(H5:H26) -> 0 | J27: =SUM(J5:J26) -> 0 | L27: =SUM(L5:L26) -> 0 | N27: TOTAL
A28: 010102 철근 CON'C공사 | Q28: 010102
A29: 인력비빔 콘크리트타설 | B29: 철근, 1:3:6, 재료비포함 | C29: M3 | D29: 1 | N29: 594AE56C5D48D27F7FF5D506BC9200 | Q29: 010102 | R29: T | S29: F | T29: F | AU29: 010102594AE56C5D48D27F7FF5D506BC9200 | AV29: 10
A30: U형철근보강 | B30: HD10(300+200+300) | C30: EA | D30: 60 | N30: 594AE56F2D4F1E74C23EB5CC3D9792 | Q30: 010102 | R30: T | S30: F | T30: F | AU30: 010102594AE56F2D4F1E74C23EB5CC3D9792 | AV30: 11
A31: U형철근보강 | B31: HD13(300+200+300) | C31: EA | D31: 18 | N31: 594AE56F2D4F1E74C23EB5F9859941 | Q31: 010102 | R31: T | S31: F | T31: F | AU31: 010102594AE56F2D4F1E74C23EB5F9859941 | AV31: 12
A32: 철근커팅 | B32: D10 | C32: EA | D32: 120 | N32: 594AE56F2E49867B77FE353B8B9DC1 | Q32: 010102 | R32: T | S32: F | T32: F | AU32: 010102594AE56F2E49867B77FE353B8B9DC1 | AV32: 13
A33: 철근커팅 | B33: D13 | C33: EA | D33: 36 | N33: 594AE56F2E49867B77FE353B8B9DC2 | Q33: 010102 | R33: T | S33: F | T33: F | AU33: 010102594AE56F2E49867B77FE353B8B9DC2 | AV33: 14
A34: 합판거푸집 설치.해체 | B34: 잡, 소규모 | C34: M2 | D34: 15 | N34: 594AE56E0443A873368035DA6F9E07 | Q34: 010102 | R34: T | S34: F | T34: F | AU34: 010102594AE56E0443A873368035DA6F9E07 | AV34: 15
A51: [ 합 계 ] | F51: =SUM(F29:F50) -> 0 | H51: =SUM(H29:H50) -> 0 | J51: =SUM(J29:J50) -> 0 | L51: =SUM(L29:L50) -> 0 | N51: TOTAL
A52: 010103 조 적 공 사 | Q52: 010103
A53: 시멘트벽돌 | B53: 190*57*90mm | C53: 매 | D53: 8571 | N53: 5E6E65C5BA406C71171F15B3FC988FC9D3AF9B | Q53: 010103 | R53: F | S53: F | T53: T | AU53: 0101035E6E65C5BA406C71171F15B3FC988FC9D3AF9B | AV53: 17
A54: 시멘트벽돌쌓기 | B54: 0.5B, 3.6m이하, 소운반포함 | C54: M2 | D54: 47 | N54: 594AB53873433B79355EC577E19E95 | Q54: 010103 | R54: T | S54: F | T54: F | AU54: 010103594AB53873433B79355EC577E19E95 | AV54: 18
A55: 시멘트벽돌쌓기 | B55: 1.0B, 3.6m이하, 소운반포함 | C55: M2 | D55: 31 | N55: 594AB53873433B7934B4858E4D9441 | Q55: 010103 | R55: T | S55: F | T55: F | AU55: 010103594AB53873433B7934B4858E4D9441 | AV55: 19
A75: [ 합 계 ] | F75: =SUM(F53:F74) -> 0 | H75: =SUM(H53:H74) -> 0 | J75: =SUM(J53:J74) -> 0 | L75: =SUM(L53:L74) -> 0 | N75: TOTAL
A76: 010104 방 수 공 사
A77: 시멘트액체방수 | B77: 바닥, 1종 | C77: M2 | D77: 107
A78: 시멘트액체방수 | B78: 벽, 2종 | C78: M2 | D78: 139
A79: 창호주위코킹 | B79: △10*10mm | C79: M | D79: 70
A80: 방균코킹 | B80: △5*5mm | C80: M | D80: 20
A99: [ 합 계 ] | F99: =SUM(F77:F98) -> 0 | H99: =SUM(H77:H98) -> 0 | J99: =SUM(J77:J98) -> 0 | L99: =SUM(L77:L98) -> 0 | N99: TOTAL
A100: 010105 타 일 공 사
A101: 자기질타일[논슬립] | B101: 300*300mm | C101: M2 | D101: 110
A102: 도기질타일 | B102: 300*600mm | C102: M2 | D102: 341
A103: 타일압착붙임 | B103: 바닥, 바탕42mm | C103: M2 | D103: 107
A104: 타일압착붙임 | B104: 벽, 바탕18mm | C104: M2 | D104: 325
A123: [ 합 계 ] | F123: =SUM(F101:F122) -> 0 | H123: =SUM(H101:H122) -> 0 | J123: =SUM(J101:J122) -> 0 | L123: =SUM(L101:L122) -> 0 | N123: TOTAL
A124: 010106 금 속 공 사 | Q124: 010106
A125: AL 몰딩설치 | B125: ㄷ형, 15*30*15*1.0mm | C125: m | D125: 107 | M125: 조달시공단가 | N125: 594A65B6354F7674E89FB57F6A9245 | Q125: 010106 | R125: T | S125: F | T125: F | AU125: 010106594A65B6354F7674E89FB57F6A9245 | AV125: 31
A126: 타일코너비드설치 | B126: SST, ㅁ10*10*0.5mm | C126: M | D126: 25 | N126: 594A65BD604EA57497A1A5F8539087 | Q126: 010106 | R126: T | S126: F | T126: F | AU126: 010106594A65BD604EA57497A1A5F8539087 | AV126: 32
A127: 재료분리대설치 | B127: 바닥, SST, W10*30*1.5t | C127: M | D127: 8 | N127: 594A65BC474BE87A85B43582B79978 | Q127: 010106 | R127: T | S127: F | T127: F | AU127: 010106594A65BC474BE87A85B43582B79978 | AV127: 33
A147: [ 합 계 ] | N147: TOTAL
A148: 010107 창 호 공 사 | Q148: 010107
A149: ASD01[자동문] | B149: 1.100 x 2.100 = 2.310 | C149: EA | D149: 6 | N149: 594A05CE2B4D6F754A7655CEE9950D | Q149: 010107 | R149: T | S149: F | T149: F | AU149: 010107594A05CE2B4D6F754A7655CEE9950D | AV149: 35
A150: FSD01[분체P] | B150: 0.450 x 0.600 = 0.270 | C150: EA | D150: 3 | N150: 594A05CE2B4D6F754A7655CEE9950F | Q150: 010107 | R150: T | S150: F | T150: F | AU150: 010107594A05CE2B4D6F754A7655CEE9950F | AV150: 36
A151: 피보트힌지 | B151: 점검구용 | C151: EA | D151: 3 | N151: 594A05C7FA419A7107C73555DA98C4 | Q151: 010107 | R151: T | S151: F | T151: F | AU151: 010107594A05C7FA419A7107C73555DA98C4 | AV151: 37
A152: 데드록설치 | B152: 점검구용 | C152: EA | D152: 3 | N152: 594A05C7F846BC75DFE1B514C79C94 | Q152: 010107 | R152: T | S152: F | T152: F | AU152: 010107594A05C7F846BC75DFE1B514C79C94 | AV152: 38
A153: 컵핸들설치 | B153: 점검구용 | C153: EA | D153: 3 | N153: 594A05C7F846BC7438B89576C69040 | Q153: 010107 | R153: T | S153: F | T153: F | AU153: 010107594A05C7F846BC7438B89576C69040 | AV153: 39
A154: 창문틀주위 몰탈충진 | C154: M | D154: 38 | N154: 594A05C5CC41D070E6B8857DDE967A | Q154: 010107 | R154: T | S154: F | T154: F | AU154: 010107594A05C5CC41D070E6B8857DDE967A | AV154: 40
A171: [ 합 계 ] | N171: TOTAL
A172: 010108 유 리 공 사 | Q172: 010108
A173: 불투명시트붙임 | B173: 유리면 | C173: M2 | D173: 14 | N173: 594A350A8643EC77EB2AB50DF8983B | Q173: 010108 | R173: T | S173: F | T173: F | AU173: 010108594A350A8643EC77EB2AB50DF8983B | AV173: 42
A174: 거울설치 | B174: 5mm | C174: M2 | D174: 12 | N174: 594A3509E14619725BF56566419B56 | Q174: 010108 | R174: T | S174: F | T174: F | AU174: 010108594A3509E14619725BF56566419B56 | AV174: 43
A195: [ 합 계 ] | N195: TOTAL
A196: 010109 목.수 장 공 사 | Q196: 010109
A197: 열경화성수지천정재(SMC) | B197: 300*300*1.2t, 틀(C-clip Bar),설치포함 | C197: M2 | D197: 107 | N197: 594BD5F34E43A97C6DDEA546FE950B | Q197: 010109 | R197: T | S197: F | T197: F | AU197: 010109594BD5F34E43A97C6DDEA546FE950B | AV197: 45
A198: 화장실칸막이 | B198: 20mm, HPM, 설치도 | C198: M2 | D198: 101 | N198: 594BD5F42241327CE1F6858D9B9576 | Q198: 010109 | R198: T | S198: F | T198: F | AU198: 010109594BD5F42241327CE1F6858D9B9576 | AV198: 46
A199: 소변기칸막이 | B199: 450*1200mm, 강화에칭, 설치도 | C199: EA | D199: 6 | N199: 594BD5F42140FF743D2145DB579371 | Q199: 010109 | R199: T | S199: F | T199: F | AU199: 010109594BD5F42140FF743D2145DB579371 | AV199: 47
A200: 세면대칸막이 | B200: 600*1200*20mm, HPM, 설치도 | C200: EA | D200: 3 | N200: 594BD5F42046657B06DAC5CA8D9B62 | Q200: 010109 | R200: T | S200: F | T200: F | AU200: 010109594BD5F42046657B06DAC5CA8D9B62 | AV200: 48
A201: 화장실칸막이도아[슬라이딩] | B201: 1000*2000*20mm, HPM, 설치도 | C201: EA | D201: 5 | N201: 594BD5F4244C0A73BE3B4530E298A7 | Q201: 010109 | R201: T | S201: F | T201: F | AU201: 010109594BD5F4244C0A73BE3B4530E298A7 | AV201: 49
A219: [ 합 계 ] | N219: TOTAL
A220: 010110 기 타 공 사 | Q220: 010110
A221: 인조대리석세면대 | B221: 600*200*12mm(아연도30*30,내수합판12) | C221: M | D221: 13 | N221: 594A759B4548267CB826D513DB945F | Q221: 010110 | R221: T | S221: F | T221: F | AU221: 010110594A759B4548267CB826D513DB945F | AV221: 51
A222: 장애인용 손잡이 | B222: 대변기용, L형+수평/수직가동형 | C222: EA | D222: 2 | N222: 594B9556DE44B87902A415F3819232 | Q222: 010110 | R222: T | S222: F | T222: F | AU222: 010110594B9556DE44B87902A415F3819232 | AV222: 52
A223: 장애인용 손잡이 | B223: 소변기용 | C223: EA | D223: 1 | N223: 594B9556DE44B87902A7D51F119CE7 | Q223: 010110 | R223: T | S223: F | T223: F | AU223: 010110594B9556DE44B87902A7D51F119CE7 | AV223: 53
A224: 화변기부분 철거 및 CON'C메꿈 | B224: 740*480*150mm(커팅,철거,거푸집.철근,CON'C) | C224: 개소 | D224: 8 | N224: 594B9554154FA87CCD7D95C1E398A1 | Q224: 010110 | R224: T | S224: F | T224: F | AU224: 010110594B9554154FA87CCD7D95C1E398A1 | AV224: 54
A243: [ 합 계 ] | N243: TOTAL
A244: 010111 철 거 공 사 | Q244: 010111
A245: 철근콘크리트철거 | B245: 장비(브레이커) | C245: M3 | D245: 3 | N245: 594B95530A42DA722C14A5624F995C | Q245: 010111 | R245: T | S245: F | T245: F | AU245: 010111594B95530A42DA722C14A5624F995C | AV245: 56
A246: 조적커팅 | B246: T=200mm | C246: M | D246: 6 | N246: 594B95530A42DA74DAB205C8D8951F | Q246: 010111 | R246: F | S246: T | T246: F | AU246: 010111594B95530A42DA74DAB205C8D8951F | AV246: 57
A247: 시멘트벽돌철거 | B247: 소형장비(브레이커) | C247: M3 | D247: 24 | N247: 594B95530A42DA795BE5F5AF229841 | Q247: 010111 | R247: T | S247: F | T247: F | AU247: 010111594B95530A42DA795BE5F5AF229841 | AV247: 58
A248: 타일철거 | B248: 바닥, 소형장비 | C248: M2 | D248: 100 | N248: 594B95530A42C97B3A5FC504529A88 | Q248: 010111 | R248: T | S248: F | T248: F | AU248: 010111594B95530A42C97B3A5FC504529A88 | AV248: 59
A249: 타일철거 | B249: 벽, 소형장비 | C249: M2 | D249: 271 | N249: 594B95530A42C97B3A5C05CC3E9C35 | Q249: 010111 | R249: T | S249: F | T249: F | AU249: 010111594B95530A42C97B3A5C05CC3E9C35 | AV249: 60
A250: 석재철거 | B250: 바닥, 장비(브레이커) | C250: M2 | D250: 9 | N250: 594B95530A42C97866E145ED6B9D0F | Q250: 010111 | R250: T | S250: F | T250: F | AU250: 010111594B95530A42C97866E145ED6B9D0F | AV250: 61
A251: 석재철거 | B251: 두겁 | C251: M | D251: 9 | N251: 594B95530A42C9786785655F0895CF | Q251: 010111 | R251: T | S251: F | T251: F | AU251: 010111594B95530A42C9786785655F0895CF | AV251: 62
A252: 경량철골천정틀철거 | B252: 몰딩, 등기구외 각종부착물 | C252: M2 | D252: 109 | N252: 594B95530A42C9790D6BB5827F9AF6 | Q252: 010111 | R252: T | S252: F | T252: F | AU252: 010111594B95530A42C9790D6BB5827F9AF6 | AV252: 63
A253: 스텐창호철거 | B253: 1.0m2 이하 | C253: M2 | D253: 1 | N253: 594B95530A42C97F954F8585B99D06 | Q253: 010111 | R253: T | S253: F | T253: F | AU253: 010111594B95530A42C97F954F8585B99D06 | AV253: 64
A254: 스텐창호철거 | B254: 1.01~3.0m2 이하 | C254: M2 | D254: 15 | N254: 594B95530A42C97F954F8585B99F33 | Q254: 010111 | R254: T | S254: F | T254: F | AU254: 010111594B95530A42C97F954F8585B99F33 | AV254: 65
A255: 강화유리문철거 | B255: 철물포함 | C255: M2 | D255: 2 | N255: 594B95530A42C97CC1D215EE6E90C9 | Q255: 010111 | R255: T | S255: F | T255: F | AU255: 010111594B95530A42C97CC1D215EE6E90C9 | AV255: 66
A256: 거울철거 | C256: M2 | D256: 9 | N256: 594B95530A42C97CC1D945E5B29C7E | Q256: 010111 | R256: T | S256: F | T256: F | AU256: 010111594B95530A42C97CC1D945E5B29C7E | AV256: 67
A257: 후로아힌지철거 | C257: EA | D257: 1 | N257: 594B95530A42C97CC0C85584C193A3 | Q257: 010111 | R257: T | S257: F | T257: F | AU257: 010111594B95530A42C97CC0C85584C193A3 | AV257: 68
A258: 천장재철거 | B258: 텍스류 | C258: M2 | D258: 109 | N258: 594B95530A42C972DE59C5D5BC9AAA | Q258: 010111 | R258: T | S258: F | T258: F | AU258: 010111594B95530A42C972DE59C5D5BC9AAA | AV258: 69
A259: 화장실칸막이철거 | C259: M2 | D259: 102 | N259: 594B95530A42C973E6565506E29E11 | Q259: 010111 | R259: T | S259: F | T259: F | AU259: 010111594B95530A42C973E6565506E29E11 | AV259: 70
A260: 소변기칸막이철거 | C260: EA | D260: 3 | N260: 594B95530A42C973E6565506E29E13 | Q260: 010111 | R260: T | S260: F | T260: F | AU260: 010111594B95530A42C973E6565506E29E13 | AV260: 71
A261: 장애인점자블럭철거 | B261: 300*300mm | C261: EA | D261: 12 | N261: 594B95530A42F676BC551500E398B2 | Q261: 010111 | R261: T | S261: F | T261: F | AU261: 010111594B95530A42F676BC551500E398B2 | AV261: 72
A262: 장애인손잡이철거 | C262: EA | D262: 6 | N262: 594B95530A42F676BC551500D191A9 | Q262: 010111 | R262: T | S262: F | T262: F | AU262: 010111594B95530A42F676BC551500D191A9 | AV262: 73
A263: 위생기구철거 | C263: EA | D263: 33 | N263: 594B95530A42F676BC563567119752 | Q263: 010111 | R263: T | S263: F | T263: F | AU263: 010111594B95530A42F676BC563567119752 | AV263: 74
A264: 세면대철거 | B264: 세면볼포함 | C264: M | D264: 10 | N264: 594B95530A42F676BC563556BC9DEA | Q264: 010111 | R264: T | S264: F | T264: F | AU264: 010111594B95530A42F676BC563556BC9DEA | AV264: 75
A267: [ 합 계 ] | N267: TOTAL
A268: 010112 골재 및 운반비 | Q268: 010112
A269: 모래 | B269: 도착도 | C269: M3 | D269: 17 | N269: 5E4385A81848CB73E8FF45B9F691023BBB4280 | Q269: 010112 | R269: F | S269: F | T269: T | AU269: 0101125E4385A81848CB73E8FF45B9F691023BBB4280 | AV269: 77
A270: 시멘트 | B270: 40KG, 대리점상차도 | C270: 포 | D270: 225 | N270: 5E6E65C5B845B276CE08B5E18D9C16388C00B8 | Q270: 010112 | R270: F | S270: F | T270: T | AU270: 0101125E6E65C5B845B276CE08B5E18D9C16388C00B8 | AV270: 78
A271: 시멘트운반비 | B271: L=10km, 하차포함 | C271: 포 | D271: 225 | N271: 594B9543FC426E7D28B935F09493CE | Q271: 010112 | R271: F | S271: T | T271: F | AU271: 010112594B9543FC426E7D28B935F09493CE | AV271: 79
A291: [ 합 계 ] | N291: TOTAL
A292: 010113 폐기물 상차비 | Q292: 010113
A293: 폐기물상차비 | B293: 덤프트럭 | C293: 톤 | D293: 88.733 | N293: 594B95402A4B637FD0D48526A79D80 | Q293: 010113 | R293: F | S293: F | T293: T | AU293: 010113594B95402A4B637FD0D48526A79D80 | AV293: 81
A315: [ 합 계 ] | N315: TOTAL
A316: 0102 작업부산물[철거] | Q316: 0102
A317: 작업부산물[철거] | B317: 고철 | C317: 톤 | D317: -0.014 | N317: 594B95439C4BED7F6FB925661F9C64 | Q317: 0102 | R317: T | S317: F | T317: F | AU317: 0102594B95439C4BED7F6FB925661F9C64 | AV317: 83
A318: 작업부산물[철거] | B318: 스텐 | C318: 톤 | D318: -0.333 | N318: 594B95439C4BED7F6FB925661F9FB1 | Q318: 0102 | R318: T | S318: F | T318: F | AU318: 0102594B95439C4BED7F6FB925661F9FB1 | AV318: 84
A339: [ 합 계 ] | N339: TOTAL
A340: 0103 폐기물 처리비 | Q340: 0103
...

Sheet 공종별내역서(기계)
A1: [ MAUM돌봄 융합교육센터 구축공사(건축,기계) ]
A2: 품 명 | B2: 규 격 | C2: 단위 | D2: 수량 | E2: 재 료 비 | G2: 노 무 비 | I2: 경 비 | K2: 합 계 | M2: 비 고 | N2: 품목코드 | O2: 변수 | P2: 설정 | Q2: 공종코드 | R2: 일위 | S2: 단산 | T2: 자재 | U2: 손료적용 | V2: 손료저장 | W2: 적용율 | X2: JUK1 | Y2: JUK2 | Z2: JUK3 | AA2: JUK4 | AB2: JUK5 | AC2: JUK6 | AD2: JUK7 | AE2: JUK8 | AF2: JUK9 | AG2: JUK10 | AH2: JUK11 | AI2: JUK12 | AJ2: JUK13 | AK2: JUK14 | AL2: JUK15 | AM2: JUK16 | AN2: JUK17 | AO2: JUK18 | AP2: JUK19 | AQ2: JUK20 | AR2: 자재구분 | AS2: 공종구분 | AT2: 공종레벨 | AU2: 공종+자재 | AV2: 고유번호
E3: 단 가 | F3: 금 액 | G3: 단 가 | H3: 금 액 | I3: 단 가 | J3: 금 액 | K3: 단 가 | L3: 금 액
A4: 010101 1.장비 및 위생기구 설치공사 | Q4: 010101
A5: 천정형전기온풍기 | B5: 1.5kw, 3~4평형 | C5: 대 | D5: 6 | N5: 55F4F2173C409E47979C55A7070747377F2A25 | Q5: 010101 | R5: F | S5: F | T5: T | AU5: 01010155F4F2173C409E47979C55A7070747377F2A25 | AV5: 4
A6: 양변기 | B6: KSC1210(L/T) | C6: 조 | D6: 20 | N6: 558002A7DA755D4B8D9F34420B87DE4B7BD4A8 | Q6: 010101 | R6: F | S6: F | T6: T | AU6: 010101558002A7DA755D4B8D9F34420B87DE4B7BD4A8 | AV6: 5
A7: 장애인용 양변기 | B7: RCP-2 | C7: 조 | D7: 2 | N7: 558002A7DA755D4B8D9F34420B87DE4B7BD5B4 | Q7: 010101 | R7: F | S7: F | T7: T | AU7: 010101558002A7DA755D4B8D9F34420B87DE4B7BD5B4 | AV7: 6
A8: 소변기 | B8: KSU-312,트랩부착,전기식센서내장형 | C8: 조 | D8: 6 | N8: 558002A7DA755D4B8D9F0F3B5F172CE85EC6AA | Q8: 010101 | R8: F | S8: F | T8: T | AU8: 010101558002A7DA755D4B8D9F0F3B5F172CE85EC6AA | AV8: 7
A9: 원형세면기(수전포함) | B9: KSL-1040 | C9: 대 | D9: 15 | N9: 558002A7DA755D4B8D9F2BD6EF37ACF464C79C | Q9: 010101 | R9: F | S9: F | T9: T | AU9: 010101558002A7DA755D4B8D9F2BD6EF37ACF464C79C | AV9: 8
A10: 청소수채 | B10: VS - 210 | C10: 조 | D10: 3 | N10: 558002A7DA755D4B84990515A2E784D9600047 | Q10: 010101 | R10: F | S10: F | T10: T | AU10: 010101558002A7DA755D4B84990515A2E784D9600047 | AV10: 9
A11: 장애인용 손잡이 | B11: 소변기용 | C11: 개 | D11: 3 | N11: 558012B73FCA654BE197E9BDB8475A48F64498 | Q11: 010101 | R11: F | S11: F | T11: T | AU11: 010101558012B73FCA654BE197E9BDB8475A48F64498 | AV11: 10
A12: 영유아용 거치대 | C12: 개 | D12: 2 | N12: 558012B73FCA654BE197E9BDB8475A48F6449F | Q12: 010101 | R12: F | S12: F | T12: T | AU12: 010101558012B73FCA654BE197E9BDB8475A48F6449F | AV12: 11
A13: 위생용품 수거함 | C13: 개 | D13: 14 | N13: 558012B73FCA654BE197E9BDB8475A48F6449C | Q13: 010101 | R13: F | S13: F | T13: T | AU13: 010101558012B73FCA654BE197E9BDB8475A48F6449C | AV13: 12
A14: 일반수전 | B14: D15 | C14: 개 | D14: 6 | N14: 558002A7DA755D4B8C9E6C93CE67CCB796C359 | Q14: 010101 | R14: F | S14: F | T14: T | AU14: 010101558002A7DA755D4B8C9E6C93CE67CCB796C359 | AV14: 13
A15: 인조대리석세면대 | B15: L - 1,500㎜ | C15: 대 | D15: 3 | N15: 558002A7DA755D4B8D9F2BD6EFB7E46BBA4EED | Q15: 010101 | R15: F | S15: F | T15: T | AU15: 010101558002A7DA755D4B8D9F2BD6EFB7E46BBA4EED | AV15: 14
A16: 인조대리석세면대 | B16: L - 3,000㎜ | C16: 대 | D16: 3 | N16: 558002A7DA755D4B8D9F2BD6EFB7E46BBB6E5A | Q16: 010101 | R16: F | S16: F | T16: T | AU16: 010101558002A7DA755D4B8D9F2BD6EFB7E46BBB6E5A | AV16: 15
A17: 수건걸이 | B17: STS제품 | C17: 개 | D17: 15 | N17: 558002A7DA755D4B8C9EF2AA226784309CAFFB | Q17: 010101 | R17: F | S17: F | T17: T | AU17: 010101558002A7DA755D4B8C9EF2AA226784309CAFFB | AV17: 16
A18: 휴지걸이 | B18: STS제품 | C18: 개 | D18: 24 | N18: 558002A7DA755D4B8E99D860A037EE3068B9F7 | Q18: 010101 | R18: F | S18: F | T18: T | AU18: 010101558002A7DA755D4B8E99D860A037EE3068B9F7 | AV18: 17
A19: 비누대 | B19: STS제품 | C19: EA | D19: 15 | N19: 558002A7DA755D4B8499E31055C7E48367093B | Q19: 010101 | R19: F | S19: F | T19: T | AU19: 010101558002A7DA755D4B8499E31055C7E48367093B | AV19: 18
A20: 화장경 | B20: 1500*900*5mm | C20: 개 | D20: 3 | N20: 55EAF2D769339146A4904495094746A05FE3FB | Q20: 010101 | R20: F | S20: F | T20: T | AU20: 01010155EAF2D769339146A4904495094746A05FE3FB | AV20: 19
A21: 화장경 | B21: 3000*900*5mm | C21: 개 | D21: 3 | N21: 55EAF2D769339146A4904495094746A05FECDB | Q21: 010101 | R21: F | S21: F | T21: T | AU21: 01010155EAF2D769339146A4904495094746A05FECDB | AV21: 20
A22: 핸드드라이어 | C22: 대 | D22: 6 | N22: 55809287931E5547429CD03720D75B5B247472 | Q22: 010101 | R22: F | S22: F | T22: T | AU22: 01010155809287931E5547429CD03720D75B5B247472 | AV22: 21
A23: 천정형배기휀(역류방지형) | B23: 3.5CMMx150Ax30W | C23: 대 | D23: 21 | N23: 55F4F2173C409E4944998E031547E524D50BAF | Q23: 010101 | R23: F | S23: F | T23: T | AU23: 01010155F4F2173C409E4944998E031547E524D50BAF | AV23: 22
A24: 보통인부 | B24: 일반공사 직종 | C24: 인 | D24: =#REF! -> #REF! | N24: 52736237DD314743669E82CBCB47AFF170A94A | Q24: 010101 | R24: F | S24: F | T24: T | X24: 1 | AU24: 01010152736237DD314743669E82CBCB47AFF170A94A | AV24: 23
A25: 배관공 | B25: 일반공사 직종 | C25: 인 | D25: =#REF! -> #REF! | N25: 52736237DD314743669E82CBCB47AFF170AA66 | Q25: 010101 | R25: F | S25: F | T25: T | X25: 1 | AU25: 01010152736237DD314743669E82CBCB47AFF170AA66 | AV25: 24
A26: 위생공 | B26: 일반공사 직종 | C26: 인 | D26: =#REF! -> #REF! | N26: 52736237DD314743669E82CBCB47AFF170AD21 | Q26: 010101 | R26: F | S26: F | T26: T | X26: 1 | AU26: 01010152736237DD314743669E82CBCB47AFF170AD21 | AV26: 25
A27: 기계설치공 | B27: 일반공사 직종 | C27: 인 | D27: =#REF! -> #REF! | N27: 52736237DD314743669E82CBCB47AFF170AC1D | Q27: 010101 | R27: F | S27: F | T27: T | X27: 1 | AU27: 01010152736237DD314743669E82CBCB47AFF170AC1D | AV27: 26
A28: 공구손료 | B28: 인력품의 3% | C28: 식 | D28: 1 | N28: 53B5C2D737AD9A43649AF0281587001 | Q28: 010101 | R28: F | S28: F | T28: F | U28: 1 | V28: 0 | W28: 0.03 | AU28: 01010153B5C2D737AD9A43649AF0281587001 | AV28: 215
A51: [ 합 계 ] | N51: TOTAL
A52: 010102 2.급수급탕배관공사 | Q52: 010102
A53: U볼트너트(절연) | B53: 65A | C53: 개 | D53: 6 | N53: 558012B73FCA544B929D8889B1C76CB17F7861 | Q53: 010102 | R53: F | S53: F | T53: T | AU53: 010102558012B73FCA544B929D8889B1C76CB17F7861 | AV53: 206
A54: 일반배관용스테인리스강관 | B54: STS관 (K-TYPE), D15 | C54: m | D54: 206 | N54: 55F4F2173C0AF444FB9DC90D3CF79B60D6BE68 | Q54: 010102 | R54: F | S54: F | T54: T | X54: 1 | AU54: 01010255F4F2173C0AF444FB9DC90D3CF79B60D6BE68 | AV54: 29
A55: 일반배관용스테인리스강관 | B55: STS관 (K-TYPE), D20 | C55: m | D55: 37 | N55: 55F4F2173C0AF444FB9DC90D3CF79B60D6BE69 | Q55: 010102 | R55: F | S55: F | T55: T | X55: 1 | AU55: 01010255F4F2173C0AF444FB9DC90D3CF79B60D6BE69 | AV55: 30
A56: 일반배관용스테인리스강관 | B56: STS관 (K-TYPE), D25 | C56: m | D56: 19 | N56: 55F4F2173C0AF444FB9DC90D3CF79B60D6BE66 | Q56: 010102 | R56: F | S56: F | T56: T | X56: 1 | AU56: 01010255F4F2173C0AF444FB9DC90D3CF79B60D6BE66 | AV56: 31
A57: 일반배관용스테인리스강관 | B57: STS관 (K-TYPE), D40 | C57: m | D57: 18 | N57: 55F4F2173C0AF444FB9DC90D3CF79B60D6BD48 | Q57: 010102 | R57: F | S57: F | T57: T | X57: 1 | AU57: 01010255F4F2173C0AF444FB9DC90D3CF79B60D6BD48 | AV57: 32
A58: 일반배관용스테인리스강관 | B58: STS관 (K-TYPE), D50 | C58: m | D58: 39 | N58: 55F4F2173C0AF444FB9DC90D3CF79B60D6BD49 | Q58: 010102 | R58: F | S58: F | T58: T | X58: 1 | AU58: 01010255F4F2173C0AF444FB9DC90D3CF79B60D6BD49 | AV58: 33
A59: 배관용스테인리스강관 | B59: SUS관, D65x3T | C59: m | D59: 19 | N59: 55F4F2173C0AF444FB9DC90D3CF79B60D011D5 | Q59: 010102 | R59: F | S59: F | T59: T | X59: 1 | AU59: 01010255F4F2173C0AF444FB9DC90D3CF79B60D011D5 | AV59: 34
A60: 잡재료비 | B60: 주재료비의 5% | C60: 식 | D60: 1 | N60: 53B5C2D737AD9A43649AF0281587001 | Q60: 010102 | R60: F | S60: F | T60: F | U60: 0 | V60: 0 | W60: 0.05 | AU60: 01010253B5C2D737AD9A43649AF0281587001 | AV60: 216
A61: 일반배관용스테인리스강관관이음쇠 | B61: 엘보(SUS 용접#10) D65 | C61: 개 | D61: 1 | N61: 55F4F2173C0AF446AF9C62531A67C5521B6341 | Q61: 010102 | R61: F | S61: F | T61: T | AU61: 01010255F4F2173C0AF446AF9C62531A67C5521B6341 | AV61: 35
A62: 일반배관용스테인리스강관관이음쇠 | B62: 티이 (SUS 용접 S#10) D65 | C62: 개 | D62: 3 | N62: 55F4F2173C0AF446AF9C62531A67C5521A5403 | Q62: 010102 | R62: F | S62: F | T62: T | AU62: 01010255F4F2173C0AF446AF9C62531A67C5521A5403 | AV62: 36
A63: 일반배관용스테인리스강관관이음쇠 | B63: 리듀서 (SUS용접S#10) D65 | C63: 개 | D63: 3 | N63: 55F4F2173C0AF446AF9C62531A67C5510FF314 | Q63: 010102 | R63: F | S63: F | T63: T | AU63: 01010255F4F2173C0AF446AF9C62531A67C5510FF314 | AV63: 37
A64: 일반배관용스테인리스강관관이음쇠 | B64: 엘보 (프레스) D13 | C64: 개 | D64: 166 | N64: 55F4F2173C0AF446AF9C62531A67C5521A5D7C | Q64: 010102 | R64: F | S64: F | T64: T | AU64: 01010255F4F2173C0AF446AF9C62531A67C5521A5D7C | AV64: 38
A65: 일반배관용스테인리스강관관이음쇠 | B65: 엘보 (프레스) D20 | C65: 개 | D65: 12 | N65: 55F4F2173C0AF446AF9C62531A67C5521A5D7D | Q65: 010102 | R65: F | S65: F | T65: T | AU65: 01010255F4F2173C0AF446AF9C62531A67C5521A5D7D | AV65: 39
A66: 일반배관용스테인리스강관관이음쇠 | B66: 엘보 (프레스) D25 | C66: 개 | D66: 8 | N66: 55F4F2173C0AF446AF9C62531A67C5521A5D7A | Q66: 010102 | R66: F | S66: F | T66: T | AU66: 01010255F4F2173C0AF446AF9C62531A67C5521A5D7A | AV66: 40
A67: 일반배관용스테인리스강관관이음쇠 | B67: 엘보 (프레스) D40 | C67: 개 | D67: 3 | N67: 55F4F2173C0AF446AF9C62531A67C5521A5D78 | Q67: 010102 | R67: F | S67: F | T67: T | AU67: 01010255F4F2173C0AF446AF9C62531A67C5521A5D78 | AV67: 41
A68: 일반배관용스테인리스강관관이음쇠 | B68: 엘보 (프레스) D50 | C68: 개 | D68: 12 | N68: 55F4F2173C0AF446AF9C62531A67C5521A5D79 | Q68: 010102 | R68: F | S68: F | T68: T | AU68: 01010255F4F2173C0AF446AF9C62531A67C5521A5D79 | AV68: 42
A69: 일반배관용스테인리스강관관이음쇠 | B69: 티이 (프레스) D13x13 | C69: 개 | D69: 9 | N69: 55F4F2173C0AF446AF9C62531A67C5510DCA9A | Q69: 010102 | R69: F | S69: F | T69: T | AU69: 01010255F4F2173C0AF446AF9C62531A67C5510DCA9A | AV69: 43
A70: 일반배관용스테인리스강관관이음쇠 | B70: 티이 (프레스) D20x13 | C70: 개 | D70: 27 | N70: 55F4F2173C0AF446AF9C62531A67C5510DCA9B | Q70: 010102 | R70: F | S70: F | T70: T | AU70: 01010255F4F2173C0AF446AF9C62531A67C5510DCA9B | AV70: 44
A71: 일반배관용스테인리스강관관이음쇠 | B71: 티이 (프레스) D25x13 | C71: 개 | D71: 4 | N71: 55F4F2173C0AF446AF9C62531A67C5510DCA9E | Q71: 010102 | R71: F | S71: F | T71: T | AU71: 01010255F4F2173C0AF446AF9C62531A67C5510DCA9E | AV71: 45
A72: 일반배관용스테인리스강관관이음쇠 | B72: 티이 (프레스) D40x13 | C72: 개 | D72: 9 | N72: 55F4F2173C0AF446AF9C62531A67C5510DCBBD | Q72: 010102 | R72: F | S72: F | T72: T | AU72: 01010255F4F2173C0AF446AF9C62531A67C5510DCBBD | AV72: 46
... A96: 감압밸브 | B96: 냉온수,나사, 10kg, D15 | C96: 개 | D96: 6 | N96: 55F4F2173C0ACF47E390CA1D1C3717B6705B31 | Q96: 010102 | R96: F | S96: F | T96: T | AU96: 01010255F4F2173C0ACF47E390CA1D1C3717B6705B31 | AV96: 70
A97: 볼밸브설치(스텐,10KG) | B97: 볼밸브,스텐,10kg,D15 | C97: 개 | D97: 12 | M97: 호표 1 | N97: 5265929769DD7B44B295DBF66DC7F5 | Q97: 010102 | R97: T | S97: F | T97: F | AU97: 0101025265929769DD7B44B295DBF66DC7F5 | AV97: 71
A98: 볼밸브설치(스텐,10KG) | B98: 볼밸브,스텐,10kg,D50 | C98: 개 | D98: 3 | M98: 호표 2 | N98: 5265929769DD004544903A069577FA | Q98: 010102 | R98: T | S98: F | T98: F | AU98: 0101025265929769DD004544903A069577FA | AV98: 72
A99: 수격방지기(W.H.C) | B99: D65 | C99: 개 | D99: 1 | M99: 호표 3 | N99: 52659297DCF7E5481E97D0BAEA67CD | Q99: 010102 | R99: T | S99: F | T99: F | AU99: 01010252659297DCF7E5481E97D0BAEA67CD | AV99: 73
A100: 스텐관용접 | B100: D65 | C100: 개소 | D100: 20 | M100: 호표 4 | N100: 5265D2377275D5486990EA848FC7AA | Q100: 010102 | R100: T | S100: F | T100: F | AU100: 0101025265D2377275D5486990EA848FC7AA | AV100: 74
A101: 스텐용접합후렌지 | B101: D65 | C101: 개소 | D101: 3 | M101: 호표 5 | N101: 5265D227218C4B40B5970A51805747 | Q101: 010102 | R101: T | S101: F | T101: F | AU101: 0101025265D227218C4B40B5970A51805747 | AV101: 75
A102: 절연행가(달대볼트) | B102: D15 | C102: 개소 | D102: 129 | M102: 호표 6 | N102: 52657247D6FC5A4B349D34D9344705 | Q102: 010102 | R102: T | S102: F | T102: F | AU102: 01010252657247D6FC5A4B349D34D9344705 | AV102: 76
A103: 절연행가(달대볼트) | B103: D20 | C103: 개소 | D103: 27 | M103: 호표 7 | N103: 52657247D6FC5A4B349D34EBA6E787 | Q103: 010102 | R103: T | S103: F | T103: F | AU103: 01010252657247D6FC5A4B349D34EBA6E787 | AV103: 77
A104: 절연행가(달대볼트) | B104: D25 | C104: 개소 | D104: 11 | M104: 호표 8 | N104: 52657247D6FC5A4B349D34F412074E | Q104: 010102 | R104: T | S104: F | T104: F | AU104: 01010252657247D6FC5A4B349D34F412074E | AV104: 78
A105: 절연행가(달대볼트) | B105: D40 | C105: 개소 | D105: 11 | M105: 호표 9 | N105: 52657247D6FC5A4B349D349385475C | Q105: 010102 | R105: T | S105: F | T105: F | AU105: 01010252657247D6FC5A4B349D349385475C | AV105: 79
A106: 절연행가(달대볼트) | B106: D50 | C106: 개소 | D106: 25 | M106: 호표 10 | N106: 52657247D6FC5A4B349D34ADF9D72F | Q106: 010102 | R106: T | S106: F | T106: F | AU106: 01010252657247D6FC5A4B349D34ADF9D72F | AV106: 80
A107: 구멍뚫기(코어드릴) | B107: D50, 콘크리트 300mm, 벽 | C107: 개소 | D107: 9 | M107: 호표 11 | N107: 52655277D2F87649B99ACB9307D7C8 | Q107: 010102 | R107: T | S107: F | T107: F | AU107: 01010252655277D2F87649B99ACB9307D7C8 | AV107: 81
A108: 구멍뚫기(코어드릴) | B108: D75, 콘크리트 150mm | C108: 개소 | D108: 3 | M108: 호표 12 | N108: 52655277D2F891460E9443C6EF3729 | Q108: 010102 | R108: T | S108: F | T108: F | AU108: 01010252655277D2F891460E9443C6EF3729 | AV108: 82
A109: 기존 벽 절단 및 철거(마감포함) | C109: m | D109: 78 | M109: 호표 13 | N109: 52655277E3179744AD967454E977D4 | Q109: 010102 | R109: T | S109: F | T109: F | AU109: 01010252655277E3179744AD967454E977D4 | AV109: 83
A110: 관보온(고무발포) | B110: 9TxD15 | C110: m | D110: 68 | M110: 호표 14 | N110: 5265B2E755AA1F43869D6D86240745 | Q110: 010102 | R110: T | S110: F | T110: F | AU110: 0101025265B2E755AA1F43869D6D86240745 | AV110: 84
A111: 관보온(고무발포) | B111: 9TxD20 | C111: m | D111: 8 | M111: 호표 15 | N111: 5265B2E755AA284AE49EECC5075712 | Q111: 010102 | R111: T | S111: F | T111: F | AU111: 0101025265B2E755AA284AE49EECC5075712 | AV111: 85
A112: 관보온(고무발포) | B112: 9TxD25 | C112: m | D112: 2 | M112: 호표 16 | N112: 5265B2E755AA3A416291ED21D9E7D8 | Q112: 010102 | R112: T | S112: F | T112: F | AU112: 0101025265B2E755AA3A416291ED21D9E7D8 | AV112: 86
A113: 관보온(고무발포,매직테프) | B113: 25TxD15 | C113: m | D113: 103 | M113: 호표 17 | N113: 5265B2E755C6F047399D5EDA1637EB | Q113: 010102 | R113: T | S113: F | T113: F | AU113: 0101025265B2E755C6F047399D5EDA1637EB | AV113: 87
A114: 관보온(고무발포,매직테프) | B114: 25TxD20 | C114: m | D114: 27 | M114: 호표 18 | N114: 5265B2E755C6CB43FA94D4A0C38775 | Q114: 010102 | R114: T | S114: F | T114: F | AU114: 0101025265B2E755C6CB43FA94D4A0C38775 | AV114: 88
A115: 관보온(고무발포,매직테프) | B115: 25TxD25 | C115: m | D115: 16 | M115: 호표 19 | N115: 5265B2E755C6D44AD8925AF551D78B | Q115: 010102 | R115: T | S115: F | T115: F | AU115: 0101025265B2E755C6D44AD8925AF551D78B | AV115: 89
A116: 관보온(고무발포,매직테프) | B116: 25TxD40 | C116: m | D116: 17 | M116: 호표 20 | N116: 5265B2E755C6B94C7D96426ABEF78A | Q116: 010102 | R116: T | S116: F | T116: F | AU116: 0101025265B2E755C6B94C7D96426ABEF78A | AV116: 90
A117: 관보온(고무발포,매직테프) | B117: 25TxD50 | C117: m | D117: 37 | M117: 호표 21 | N117: 5265B2E755C68C489E9448853A67C7 | Q117: 010102 | R117: T | S117: F | T117: F | AU117: 0101025265B2E755C68C489E9448853A67C7 | AV117: 91
A118: 관보온(고무발포,매직테프) | B118: 32TxD15 | C118: m | D118: 26 | M118: 호표 22 | N118: 5265B2E755D74B4B289009D7DE976B | Q118: 010102 | R118: T | S118: F | T118: F | AU118: 0101025265B2E755D74B4B289009D7DE976B | AV118: 92
A119: 관보온(고무발포,매직테프) | B119: 32TxD65 | C119: m | D119: 17 | M119: 호표 23 | N119: 5265B2E755D7284E349F83FFE60740 | Q119: 010102 | R119: T | S119: F | T119: F | AU119: 0101025265B2E755D7284E349F83FFE60740 | AV119: 93
A120: 강관스리브(벽체,내화충전) | B120: D50 | C120: 개소 | D120: 3 | M120: 호표 24 | N120: 526552779B0DDF4BB9986BA336B7DA | Q120: 010102 | R120: T | S120: F | T120: F | AU120: 010102526552779B0DDF4BB9986BA336B7DA | AV120: 94
A121: 보통인부 | B121: 일반공사 직종 | C121: 인 | D121: =#REF! -> #REF! | N121: 52736237DD314743669E82CBCB47AFF170A94A | Q121: 010102 | R121: F | S121: F | T121: T | Y121: 2 | AU121: 01010252736237DD314743669E82CBCB47AFF170A94A | AV121: 95
A122: 배관공 | B122: 일반공사 직종 | C122: 인 | D122: =#REF! -> #REF! | N122: 52736237DD314743669E82CBCB47AFF170AA66 | Q122: 010102 | R122: F | S122: F | T122: T | Y122: 2 | AU122: 01010252736237DD314743669E82CBCB47AFF170AA66 | AV122: 96
A123: 공구손료 | B123: 인력품의 3% | C123: 식 | D123: 1 | N123: 53B5C2D737AD9A43649AF02815B7002 | Q123: 010102 | R123: F | S123: F | T123: F | U123: 1 | V123: 0 | W123: 0.03 | AU123: 01010253B5C2D737AD9A43649AF02815B7002 | AV123: 217
A147: [ 합 계 ] | N147: TOTAL
A148: 010103 3.오배수배관공사 | Q148: 010103
A149: U볼트너트 | B149: 비절연, Φ50mm | C149: 개 | D149: 6 | N149: 558012B73FCA544B929D8889B1C76CB17F7F91 | Q149: 010103 | R149: F | S149: F | T149: T | AU149: 010103558012B73FCA544B929D8889B1C76CB17F7F91 | AV149: 98
A150: U볼트너트 | B150: 비절연, Φ100mm | C150: 개 | D150: 6 | N150: 558012B73FCA544B929D8889B1C76CB17F7F94 | Q150: 010103 | R150: F | S150: F | T150: T | AU150: 010103558012B73FCA544B929D8889B1C76CB17F7F94 | AV150: 99
A151: U볼트너트 | B151: 비절연, Φ125mm | C151: 개 | D151: 6 | N151: 558012B73FCA544B929D8889B1C76CB17F7F95 | Q151: 010103 | R151: F | S151: F | T151: T | AU151: 010103558012B73FCA544B929D8889B1C76CB17F7F95 | AV151: 100
A152: U볼트너트 | B152: 비절연, Φ150mm | C152: 개 | D152: 6 | N152: 558012B73FCA544B929D8889B1C76CB17F7F9A | Q152: 010103 | R152: F | S152: F | T152: T | AU152: 010103558012B73FCA544B929D8889B1C76CB17F7F9A | AV152: 101
A153: PVC 접착제 | B153: 250G | C153: 통 | D153: 20 | N153: 558012B7026584479B951F1152470F9140D779 | Q153: 010103 | R153: F | S153: F | T153: T | AU153: 010103558012B7026584479B951F1152470F9140D779 | AV153: 102
A154: 일반용경질폴리염화비닐관 | B154: PVC관(VG1), D50 | C154: m | D154: 92 | N154: 55F4F2173C0AF444F29FAE7C30E714D709D3AD | Q154: 010103 | R154: F | S154: F | T154: T | X154: 1 | AU154: 01010355F4F2173C0AF444F29FAE7C30E714D709D3AD | AV154: 103
A155: 일반용경질폴리염화비닐관 | B155: PVC관(VG1), D150 | C155: m | D155: 31 | N155: 55F4F2173C0AF444F29FAE7C30E714D709D3A6 | Q155: 010103 | R155: F | S155: F | T155: T | X155: 1 | AU155: 01010355F4F2173C0AF444F29FAE7C30E714D709D3A6 | AV155: 104
A156: 일반용경질폴리염화비닐관 | B156: PVC관(VG1), D50 | C156: M | D156: 25 | N156: 55F4F2173C0AF444F29FAE7C30E714D44DDE14 | Q156: 010103 | R156: F | S156: F | T156: T | X156: 1 | AU156: 01010355F4F2173C0AF444F29FAE7C30E714D44DDE14 | AV156: 105
A157: 일반용경질폴리염화비닐관 | B157: PVC관(VG1), D75 | C157: M | D157: 54 | N157: 55F4F2173C0AF444F29FAE7C30E714D44DDE12 | Q157: 010103 | R157: F | S157: F | T157: T | X157: 1 | AU157: 01010355F4F2173C0AF444F29FAE7C30E714D44DDE12 | AV157: 106
A158: 일반용경질폴리염화비닐관 | B158: PVC관(VG1), D100 | C158: M | D158: 112 | N158: 55F4F2173C0AF444F29FAE7C30E714D44DDE11 | Q158: 010103 | R158: F | S158: F | T158: T | X158: 1 | AU158: 01010355F4F2173C0AF444F29FAE7C30E714D44DDE11 | AV158: 107
A159: 일반용경질폴리염화비닐관 | B159: PVC관(VG1), D125 | C159: M | D159: 57 | N159: 55F4F2173C0AF444F29FAE7C30E714D44DDE10 | Q159: 010103 | R159: F | S159: F | T159: T | X159: 1 | AU159: 01010355F4F2173C0AF444F29FAE7C30E714D44DDE10 | AV159: 108
A160: 잡재료비 | B160: 주재료비의 5% | C160: 식 | D160: 1 | N160: 53B5C2D737AD9A43649AF0281587001 | Q160: 010103 | R160: F | S160: F | T160: F | U160: 0 | V160: 0 | W160: 0.05 | AU160: 01010353B5C2D737AD9A43649AF0281587001 | AV160: 218
A161: 일반용경질폴리염화비닐이음관 | B161: 90˚단곡관(DTS) D50 | C161: 개 | D161: 35 | N161: 55F4F2173C0AF446AE93F9448977CF8E87FFE4 | Q161: 010103 | R161: F | S161: F | T161: T | AU161: 01010355F4F2173C0AF446AE93F9448977CF8E87FFE4 | AV161: 109
A162: 일반용경질폴리염화비닐이음관 | B162: 90˚단곡관(DTS) D150 | C162: 개 | D162: 2 | N162: 55F4F2173C0AF446AE93F9448977CF8E87FFE8 | Q162: 010103 | R162: F | S162: F | T162: T | AU162: 01010355F4F2173C0AF446AE93F9448977CF8E87FFE8 | AV162: 110
A163: 일반용경질폴리염화비닐이음관 | B163: 티 (DTS) D50x50 | C163: 개 | D163: 13 | N163: 55F4F2173C0AF446AE93F9448977CF8E8426C3 | Q163: 010103 | R163: F | S163: F | T163: T | AU163: 01010355F4F2173C0AF446AE93F9448977CF8E8426C3 | AV163: 111
A164: 일반용경질폴리염화비닐이음관 | B164: 티 (DTS) D75x50 | C164: 개 | D164: 9 | N164: 55F4F2173C0AF446AE93F9448977CF8E8426C7 | Q164: 010103 | R164: F | S164: F | T164: T | AU164: 01010355F4F2173C0AF446AE93F9448977CF8E8426C7 | AV164: 112
A165: 일반용경질폴리염화비닐이음관 | B165: 티 (DTS) D100x50 | C165: 개 | D165: 4 | N165: 55F4F2173C0AF446AE93F9448977CF8E8426C8 | Q165: 010103 | R165: F | S165: F | T165: T | AU165: 01010355F4F2173C0AF446AE93F9448977CF8E8426C8 | AV165: 113
A166: 일반용경질폴리염화비닐이음관 | B166: 소켓 (DTS) D50 | C166: 개 | D166: 22 | N166: 55F4F2173C0AF446AE93F9448977CF8E84253F | Q166: 010103 | R166: F | S166: F | T166: T | AU166: 01010355F4F2173C0AF446AE93F9448977CF8E84253F | AV166: 114
A167: 일반용경질폴리염화비닐이음관 | B167: 소켓 (DTS) D150 | C167: 개 | D167: 7 | N167: 55F4F2173C0AF446AE93F9448977CF8E842ABA | Q167: 010103 | R167: F | S167: F | T167: T | AU167: 01010355F4F2173C0AF446AE93F9448977CF8E842ABA | AV167: 115
A168: 일반용경질폴리염화비닐이음관 | B168: Y관(DTS) D125xD50 | C168: 개 | D168: 1 | N168: 55F4F2173C0AF446AE93F9448977CF8E8A481D | Q168: 010103 | R168: F | S168: F | T168: T | AU168: 01010355F4F2173C0AF446AE93F9448977CF8E8A481D | AV168: 116
...
