Workbook
Name _: "="
Name ___________q45: {"'용역비'!$A$4:$C$8"}
Name ___________q45: {"'용역비'!$A$4:$C$8"}
Name _________q45: {"'용역비'!$A$4:$C$8"}
Name _________q45: {"'용역비'!$A$4:$C$8"}
Name _______q45: {"'용역비'!$A$4:$C$8"}
Name _______q45: {"'용역비'!$A$4:$C$8"}
Name ______q45: {"'용역비'!$A$4:$C$8"}
Name ______q45: {"'용역비'!$A$4:$C$8"}
Name _____q45: {"'용역비'!$A$4:$C$8"}
Name _____q45: {"'용역비'!$A$4:$C$8"}
Name ____q45: {"'용역비'!$A$4:$C$8"}
Name ____q45: {"'용역비'!$A$4:$C$8"}
Name ___A100000: #N/A
Name ___A69999: #N/A
Name ___A99999: #N/A
Name ___HSH1: #N/A
Name ___HSH2: #N/A
Name ___LG15: #N/A
Name ___LG17: #N/A
Name ___LG18: #N/A
Name ___LG21: #N/A
Name ___LG6: #N/A
Name ___LG9: #N/A
Name ___LS15: #N/A
Name ___LS17: #N/A
Name ___LS18: #N/A
Name ___LS21: #N/A
Name ___LS6: #N/A
Name ___LS9: #N/A
Name ___MG109: #N/A
Name ___MG135: #N/A
Name ___MG15: #N/A
Name ___MG3: #N/A
Name ___MG43: #N/A
Name ___MG44: #N/A
Name ___MG46: #N/A
Name ___MG57: #N/A
Name ___MG6: #N/A
Name ___MG8: #N/A
Name ___MG9: #N/A
Name ___MS109: #N/A
Name ___MS135: #N/A
Name ___MS15: #N/A
Name ___MS3: #N/A
Name ___MS43: #N/A
Name ___MS44: #N/A
Name ___MS46: #N/A
Name ___MS57: #N/A
Name ___MS6: #N/A
Name ___MS8: #N/A
Name ___MS9: #N/A
Name ___NP1: #N/A
Name ___NP2: #N/A
Name ___NSH1: #N/A
Name ___NSH2: #N/A
Name ___q45: {"'용역비'!$A$4:$C$8"}
Name ___q45: {"'용역비'!$A$4:$C$8"}
Name ___SBB1: #N/A
Name ___SBB2: #N/A

Sheet 총괄
A1: 공사원가계산서 총괄표
A3: 공 사 명 : | B3: =원가!C2 -> [ MAUM돌봄 융합교육센터 구축공사(건축,기계) ]
A4: 총 설 계 금 액 : | B4: ="일금" &NUMBERSTRING(E4,1) &"원정" -> 일금삼천삼백사십칠만삼천원정 | E4: =F22 -> 33473000
A5: 도 급 금 액 : | B5: ="일금" &NUMBERSTRING(E5,1) &"원정" -> 일금삼천삼백사십칠만삼천원정 | E5: =B19 -> 33473000
A6: 관 급 금 액 : | B6: ="일금" &NUMBERSTRING(E6,1) &"원정" -> 일금영원정 | E6: =C22+D22 -> 0
A7: 각 종 분 담 금 : | B7: ="일금" &NUMBERSTRING(E7,1) &"원정" -> 일금영원정 | E7: =E19 -> 0
A9: 구 분 | B9: 설계금액 | C9: 도급자관급 | D9: 관급자관급 | E9: 분담금 | F9: 합 계 | G9: 비 고
A10: 건 축 공 사 | B10: =원가!D36 -> 0 | C10: =원가!D39 -> 0 | D10: =원가!D40 -> 0 | E10: =원가!D37 -> 0 | F10: =SUM(B10:E10) -> 0
A11: 기 계 공 사 | B11: =원가!E36 -> 0 | C11: =원가!E39 -> 0 | D11: =원가!E40 -> 0 | E11: =원가!E37 -> 0 | F11: =SUM(B11:E11) -> 0
A14: [ 소 계(1) ] | B14: =SUM(B10:B13) -> 0 | C14: =SUM(C10:C13) -> 0 | D14: =SUM(D10:D13) -> 0 | E14: =SUM(E10:E13) -> 0 | F14: =SUM(B14:E14) -> 0
A15: 전 기 공 사 | B15: 33473000 | F15: =SUM(B15:E15) -> 33473000
F16: =SUM(B16:E16) -> 0
F17: =SUM(B17:E17) -> 0
A18: [ 소 계(2) ] | B18: =SUM(B15:B17) -> 33473000 | C18: =SUM(C15:C17) -> 0 | D18: =SUM(D15:D17) -> 0 | E18: =SUM(E15:E17) -> 0 | F18: =SUM(B18:E18) -> 33473000
A19: 합 계 (1)+(2) | B19: =B14+B18 -> 33473000 | C19: =C14+C18 -> 0 | D19: =D14+D18 -> 0 | E19: =E14+E18 -> 0 | F19: =SUM(B19:E19) -> 33473000
F21: =SUM(B21:E21) -> 0
A22: 총 공 사 비 | B22: =B14+B18+B20+B21 -> 33473000 | C22: =C14+C18+C20+C21 -> 0 | D22: =D14+D18+D20+D21 -> 0 | E22: =E14+E18+E20+E21 -> 0 | F22: =SUM(B22:E22) -> 33473000
A26: =IF(COUNTIF($C$34,"*이상*"),"별도발주","")
D36: =IFERROR(TRUNC(D$6*$I$36*1.4),"") -> 0 | E36: =IFERROR(TRUNC(E$6*$I$36*1.4),"") -> 0 | F36: =IFERROR(TRUNC(F$6*$I$36*1.4),"") -> 0 | G36: =IFERROR(TRUNC(G$6*$I$36*1.4),"") -> 0

Sheet 원가
A1: 공 사 원 가 계 산 서
A2: 공사명 : | C2: [ MAUM돌봄 융합교육센터 구축공사(건축,기계) ]
A3: 비 목 | D3: 건축 | E3: 기계 | F3: 합계 | G3: 구 성 비 | K3: 비 고
A4: 순 공 사 비 | B4: 재료비 | C4: 직접재료비 | D4: ='공종별집계표(건축)'!F6 -> 0
C6: [ 소 계 ] | D6: =SUM(D4:D5) -> 0
B7: 노무비 | C7: 직접노무비 | D7: ='공종별집계표(건축)'!H6 -> 0
C8: 간접노무비 | D8: =TRUNC(D7*$H$8) -> 0 | G8: 직접노무비* | H8: 0.122 | K8: 6개월이하, 직접공사비: 50억미만
C9: [ 소 계 ] | D9: =SUM(D7:D8) -> 0
B10: 경 비 | C10: 산출경비 | D10: ='공종별집계표(건축)'!J6 -> 0
C12: 산재보험료 | D12: 2204594 | E12: 2306271 | F12: =SUM(D12:E12) -> 4510865 | G12: 노무비* | H12: 0.037
C13: 고용보험료 | D13: 601794 | E13: 629549 | F13: =SUM(D13:E13) -> 1231343 | G13: 노무비* | H13: 0.0101 | K13: 7등급이하(추정금액130억미만)
C14: 건강보험료 | D14: 1882566 | E14: 1969391 | F14: =SUM(D14:E14) -> 3851957 | G14: 직접노무비* | H14: 3.545%
C15: 노인장기요양보험료 | D15: 241156 | E15: 252278 | F15: =SUM(D15:E15) -> 493434 | G15: 건강보험료* | H15: 12.81%
C16: 연금보험료 | D16: 2389717 | E16: 2499933 | F16: =SUM(D16:E16) -> 4889650 | G16: 직접노무비* | H16: 4.5%
C17: 퇴직공제부금비 | D17: 1221411 | E17: 1277743 | F17: =SUM(D17:E17) -> 2499154 | G17: 직접노무비* | H17: 0.023 | K17: 추정금액: 1억원이상공사
C18: 산업안전보건관리비 | D18: 3117600 | E18: 2715253 | F18: =SUM(D18:E18) -> 5832853 | G18: (재료비+직접노무비)* | H18: 0.0293 | J18: 0
C21: 환경보전비 | D21: 324372 | E21: 278028 | F21: =SUM(D21:E21) -> 602400 | G21: (재료비+직접노무비+산출경비)* | H21: 0.3% | K21: 개보수공사
C22: 건설하도급대금 지급보증서 발급수수료 | D22: 87580 | E22: 75067 | F22: =SUM(D22:E22) -> 162647 | G22: (재료비+직접노무비+산출경비)* | H22: 0.00081 | K22: 직접공사비: 50억미만
C23: 건설기계대여금 지급보증서 발급수수료 | D23: 108124 | E23: 64873 | F23: =SUM(D23:E23) -> 172997 | G23: (재료비+직접노무비+산출경비)* | H23: 0.1% | K23: 신축 그 외
C25: 기타경비 | D25: =TRUNC((D6+D9)*$H$25) -> 0 | E25: =TRUNC((E6+E9)*$H$25) -> 0 | F25: =SUM(D25:E25) -> 0 | G25: (재료비+노무비)* | H25: 0.058 | K25: 6개월이하, 직접공사비: 50억미만
C26: [ 소 계 ]
C27: 순공사비 계
C28: 일반관리비 | G28: 순공사비 계* | H28: 0.06 | K28: 추정가격: 50억미만
C29: 이윤 | G29: (노무비+경비+일반관리비)* | H29: 0.15 | K29: 추정가격: 50억미만
C31: 작업부산물
C32: 폐기물처리비[100톤미만] | K32: =IF(COUNTIF($C$32,"*이상*"),"별도발주","")
C34: 공급가액
C35: 부가가치세 | G35: 공급가액* | H35: 0.1
C36: 설계[도급]금액 | G36: 공급가액+부가세
C37: 분담금 | F37: =SUM(D37:E37) -> 0
C38: [ 관급 ] | D38: =SUM(D39:D40) -> 0 | E38: =SUM(E39:E40) -> 0 | F38: =SUM(D38:E38) -> 0
C39: 도급자설치 | F39: =SUM(D39:E39) -> 0 | K39: =IF(F39>10000,"천단위절사","")
C40: 관급자설치 | F40: =SUM(D40:E40) -> 0 | K40: =IF(F40>10000,"천단위절사","")
A41: 총 공 사 비 | D41: =D36+SUM(D37:D37)+D38 -> 0 | E41: =E36+SUM(E37:E37)+E38 -> 0 | F41: =SUM(D41:E41) -> 0 | G41: [도급]설계금액+관급
D42: =D4+D7+D10+D11 -> 0 | E42: =E4+E7+E10+E11 -> 0 | F42: =SUM(D42:E42) -> 0
D43: =(D34-D42)/D42 -> #DIV/0! | E43: =(E34-E42)/E42 -> #DIV/0! | F43: =(F34-F42)/F42 -> #DIV/0!

Sheet 공종별집계표(건축)
A1: 공 종 별 집 계 표
A2: [ MAUM돌봄 융합교육센터 구축공사(건축,기계) ]
A3: 품 명 | B3: 규 격 | C3: 단위 | D3: 수량 | E3: 재 료 비 | G3: 노 무 비 | I3: 경 비 | K3: 합 계 | M3: 비 고 | N3: 공종코드 | O3: 변수 | P3: 상위공종 | Q3: 공종구분 | R3: 공종레벨 | S3: 공종소계 | T3: 원가계산서 연결금액
E4: 단 가 | F4: 금 액 | G4: 단 가 | H4: 금 액 | I4: 단 가 | J4: 금 액 | K4: 단 가 | L4: 금 액
A5: 01 광주여대 덕천관 화장실 리모델링공사 | D5: 1 | E5: =F6 -> 0 | F5: =E5*D5 -> 0 | G5: =H6 -> 0 | H5: =G5*D5 -> 0 | I5: =J6 -> 0 | J5: =I5*D5 -> 0 | K5: =E5+G5+I5 -> 0 | L5: =F5+H5+J5 -> 0 | N5: 01 | R5: 1
A6: 0101 건 축 공 사 | D6: 1 | E6: =F7+F8+F9+F10+F11+F12+F13+F14+F15+F16+F17+F18+F19 -> 0 | F6: =E6*D6 -> 0 | G6: =H7+H8+H9+H10+H11+H12+H13+H14+H15+H16+H17+H18+H19 -> 0 | H6: =G6*D6 -> 0 | I6: =J7+J8+J9+J10+J11+J12+J13+J14+J15+J16+J17+J18+J19 -> 0 | J6: =I6*D6 -> 0 | K6: =E6+G6+I6 -> 0 | L6: =F6+H6+J6 -> 0 | N6: 0101 | P6: 01 | R6: 2
A7: 010101 가 설 공 사 | D7: 1 | E7: ='공종별내역서(건축)'!F27 -> 0 | F7: =E7*D7 -> 0 | G7: ='공종별내역서(건축)'!H27 -> 0 | H7: =G7*D7 -> 0 | I7: ='공종별내역서(건축)'!J27 -> 0 | J7: =I7*D7 -> 0 | K7: =E7+G7+I7 -> 0 | L7: =F7+H7+J7 -> 0 | N7: 010101 | P7: 0101 | R7: 3
A8: 010102 철근 CON'C공사 | D8: 1 | E8: ='공종별내역서(건축)'!F51 -> 0 | F8: =E8*D8 -> 0 | G8: ='공종별내역서(건축)'!H51 -> 0 | H8: =G8*D8 -> 0 | I8: ='공종별내역서(건축)'!J51 -> 0 | J8: =I8*D8 -> 0 | K8: =E8+G8+I8 -> 0 | L8: =F8+H8+J8 -> 0 | N8: 010102 | P8: 0101 | R8: 3
A9: 010103 조 적 공 사 | D9: 1 | E9: ='공종별내역서(건축)'!F75 -> 0 | F9: =E9*D9 -> 0 | G9: ='공종별내역서(건축)'!H75 -> 0 | H9: =G9*D9 -> 0 | I9: ='공종별내역서(건축)'!J75 -> 0 | J9: =I9*D9 -> 0 | K9: =E9+G9+I9 -> 0 | L9: =F9+H9+J9 -> 0 | N9: 010103 | P9: 0101 | R9: 3
A10: 010104 방 수 공 사 | D10: 1 | E10: ='공종별내역서(건축)'!F99 -> 0 | F10: =E10*D10 -> 0 | G10: ='공종별내역서(건축)'!H99 -> 0 | H10: =G10*D10 -> 0 | I10: ='공종별내역서(건축)'!J99 -> 0 | J10: =I10*D10 -> 0 | K10: =E10+G10+I10 -> 0 | L10: =F10+H10+J10 -> 0 | N10: 010104 | P10: 0101 | R10: 3
A11: 010105 타 일 공 사 | D11: 1 | E11: ='공종별내역서(건축)'!F123 -> 0 | F11: =E11*D11 -> 0 | G11: ='공종별내역서(건축)'!H123 -> 0 | H11: =G11*D11 -> 0 | I11: ='공종별내역서(건축)'!J123 -> 0 | J11: =I11*D11 -> 0 | K11: =E11+G11+I11 -> 0 | L11: =F11+H11+J11 -> 0 | N11: 010105 | P11: 0101 | R11: 3
A12: 010106 금 속 공 사 | D12: 1 | E12: ='공종별내역서(건축)'!F147 -> 0 | F12: =E12*D12 -> 0 | G12: ='공종별내역서(건축)'!H147 -> 0 | H12: =G12*D12 -> 0 | I12: ='공종별내역서(건축)'!J147 -> 0 | J12: =I12*D12 -> 0 | K12: =E12+G12+I12 -> 0 | L12: =F12+H12+J12 -> 0 | N12: 010106 | P12: 0101 | R12: 3
A13: 010107 창 호 공 사 | D13: 1 | E13: ='공종별내역서(건축)'!F171 -> 0 | F13: =E13*D13 -> 0 | G13: ='공종별내역서(건축)'!H171 -> 0 | H13: =G13*D13 -> 0 | I13: ='공종별내역서(건축)'!J171 -> 0 | J13: =I13*D13 -> 0 | K13: =E13+G13+I13 -> 0 | L13: =F13+H13+J13 -> 0 | N13: 010107 | P13: 0101 | R13: 3
A14: 010108 유 리 공 사 | D14: 1 | E14: ='공종별내역서(건축)'!F195 -> 0 | F14: =E14*D14 -> 0 | G14: ='공종별내역서(건축)'!H195 -> 0 | H14: =G14*D14 -> 0 | I14: ='공종별내역서(건축)'!J195 -> 0 | J14: =I14*D14 -> 0 | K14: =E14+G14+I14 -> 0 | L14: =F14+H14+J14 -> 0 | N14: 010108 | P14: 0101 | R14: 3
A15: 010109 목.수 장 공 사 | D15: 1 | E15: ='공종별내역서(건축)'!F219 -> 0 | F15: =E15*D15 -> 0 | G15: ='공종별내역서(건축)'!H219 -> 0 | H15: =G15*D15 -> 0 | I15: ='공종별내역서(건축)'!J219 -> 0 | J15: =I15*D15 -> 0 | K15: =E15+G15+I15 -> 0 | L15: =F15+H15+J15 -> 0 | N15: 010109 | P15: 0101 | R15: 3
A16: 010110 기 타 공 사 | D16: 1 | E16: ='공종별내역서(건축)'!F243 -> 0 | F16: =E16*D16 -> 0 | G16: ='공종별내역서(건축)'!H243 -> 0 | H16: =G16*D16 -> 0 | I16: ='공종별내역서(건축)'!J243 -> 0 | J16: =I16*D16 -> 0 | K16: =E16+G16+I16 -> 0 | L16: =F16+H16+J16 -> 0 | N16: 010110 | P16: 0101 | R16: 3
A17: 010111 철 거 공 사 | D17: 1 | E17: ='공종별내역서(건축)'!F267 -> 0 | F17: =E17*D17 -> 0 | G17: ='공종별내역서(건축)'!H267 -> 0 | H17: =G17*D17 -> 0 | I17: ='공종별내역서(건축)'!J267 -> 0 | J17: =I17*D17 -> 0 | K17: =E17+G17+I17 -> 0 | L17: =F17+H17+J17 -> 0 | N17: 010111 | P17: 0101 | R17: 3
A18: 010112 골재 및 운반비 | D18: 1 | E18: ='공종별내역서(건축)'!F291 -> 0 | F18: =E18*D18 -> 0 | G18: ='공종별내역서(건축)'!H291 -> 0 | H18: =G18*D18 -> 0 | I18: ='공종별내역서(건축)'!J291 -> 0 | J18: =I18*D18 -> 0 | K18: =E18+G18+I18 -> 0 | L18: =F18+H18+J18 -> 0 | N18: 010112 | P18: 0101 | R18: 3
A19: 010113 폐기물 상차비 | D19: 1 | E19: ='공종별내역서(건축)'!F315 -> 0 | F19: =E19*D19 -> 0 | G19: ='공종별내역서(건축)'!H315 -> 0 | H19: =G19*D19 -> 0 | I19: ='공종별내역서(건축)'!J315 -> 0 | J19: =I19*D19 -> 0 | K19: =E19+G19+I19 -> 0 | L19: =F19+H19+J19 -> 0 | N19: 010113 | P19: 0101 | R19: 3
A20: 0102 작업부산물[철거] | D20: 1 | E20: ='공종별내역서(건축)'!F339 -> 0 | F20: =E20*D20 -> 0 | G20: ='공종별내역서(건축)'!H339 -> 0 | H20: =G20*D20 -> 0 | I20: ='공종별내역서(건축)'!J339 -> 0 | J20: =I20*D20 -> 0 | K20: =E20+G20+I20 -> 0 | L20: =F20+H20+J20 -> 0 | N20: 0102 | Q20: 1 | R20: 2 | T20: =L20*1 -> 0
A21: 0103 폐기물 처리비 | D21: 1 | E21: ='공종별내역서(건축)'!F363 -> 0 | F21: =E21*D21 -> 0 | G21: ='공종별내역서(건축)'!H363 -> 0 | H21: =G21*D21 -> 0 | I21: ='공종별내역서(건축)'!J363 -> 0 | J21: =I21*D21 -> 0 | K21: =E21+G21+I21 -> 0 | L21: =F21+H21+J21 -> 0 | N21: 0103 | Q21: 3 | R21: 2 | T21: =L21*1 -> 0
A27: [ 합 계 ] | F27: =F5 -> 0 | H27: =H5 -> 0 | J27: =J5 -> 0 | L27: =L5 -> 0

Sheet 공종별집계표(기계)
A1: 공 종 별 집 계 표
A2: [ MAUM돌봄 융합교육센터 구축공사(건축,기계) ]
A3: 품 명 | B3: 규 격 | C3: 단위 | D3: 수량 | E3: 재 료 비 | G3: 노 무 비 | I3: 경 비 | K3: 합 계 | M3: 비 고 | N3: 공종코드 | O3: 변수 | P3: 상위공종 | Q3: 공종구분 | R3: 공종레벨 | S3: 공종소계 | T3: 원가계산서 연결금액
E4: 단 가 | F4: 금 액 | G4: 단 가 | H4: 금 액 | I4: 단 가 | J4: 금 액 | K4: 단 가 | L4: 금 액
A5: 01 광주여자대학교덕천관화장실리모델링공사 | D5: 1 | E5: =F6 -> 0 | F5: =E5*D5 -> 0 | G5: =H6 -> 0 | H5: =G5*D5 -> 0 | I5: =J6 -> 0 | J5: =I5*D5 -> 0 | K5: =E5+G5+I5 -> 0 | L5: =F5+H5+J5 -> 0 | N5: 01 | R5: 1
A6: 0101 기계설비공사 | D6: 1 | E6: =F7+F8+F9+F10+F11 -> 0 | F6: =E6*D6 -> 0 | G6: =H7+H8+H9+H10+H11 -> 0 | H6: =G6*D6 -> 0 | I6: =J7+J8+J9+J10+J11 -> 0 | J6: =I6*D6 -> 0 | K6: =E6+G6+I6 -> 0 | L6: =F6+H6+J6 -> 0 | N6: 0101 | P6: 01 | R6: 2
A7: 010101 1.장비 및 위생기구 설치공사 | D7: 1 | E7: =[31]공종별내역서!F51 -> 0 | F7: =E7*D7 -> 0 | G7: =[31]공종별내역서!H51 -> 0 | H7: =G7*D7 -> 0 | I7: =[31]공종별내역서!J51 -> 0 | J7: =I7*D7 -> 0 | K7: =E7+G7+I7 -> 0 | L7: =F7+H7+J7 -> 0 | N7: 010101 | P7: 0101 | R7: 3
A8: 010102 2.급수급탕배관공사 | D8: 1 | E8: =[31]공종별내역서!F147 -> 0 | F8: =E8*D8 -> 0 | G8: =[31]공종별내역서!H147 -> 0 | H8: =G8*D8 -> 0 | I8: =[31]공종별내역서!J147 -> 0 | J8: =I8*D8 -> 0 | K8: =E8+G8+I8 -> 0 | L8: =F8+H8+J8 -> 0 | N8: 010102 | P8: 0101 | R8: 3
A9: 010103 3.오배수배관공사 | D9: 1 | E9: =[31]공종별내역서!F219 -> 0 | F9: =E9*D9 -> 0 | G9: =[31]공종별내역서!H219 -> 0 | H9: =G9*D9 -> 0 | I9: =[31]공종별내역서!J219 -> 0 | J9: =I9*D9 -> 0 | K9: =E9+G9+I9 -> 0 | L9: =F9+H9+J9 -> 0 | N9: 010103 | P9: 0101 | R9: 3
A10: 010104 4.환기배관공사 | D10: 1 | E10: =[31]공종별내역서!F243 -> 0 | F10: =E10*D10 -> 0 | G10: =[31]공종별내역서!H243 -> 0 | H10: =G10*D10 -> 0 | I10: =[31]공종별내역서!J243 -> 0 | J10: =I10*D10 -> 0 | K10: =E10+G10+I10 -> 0 | L10: =F10+H10+J10 -> 0 | N10: 010104 | P10: 0101 | R10: 3
A11: 010105 5.철거공사 | D11: 1 | E11: =[31]공종별내역서!F291 -> 0 | F11: =E11*D11 -> 0 | G11: =[31]공종별내역서!H291 -> 0 | H11: =G11*D11 -> 0 | I11: =[31]공종별내역서!J291 -> 0 | J11: =I11*D11 -> 0 | K11: =E11+G11+I11 -> 0 | L11: =F11+H11+J11 -> 0 | N11: 010105 | P11: 0101 | R11: 3
A12: 0102 고재처리비 | D12: 1 | E12: =[31]공종별내역서!F315 -> 0 | F12: =E12*D12 -> 0 | G12: =[31]공종별내역서!H315 -> 0 | H12: =G12*D12 -> 0 | I12: =[31]공종별내역서!J315 -> 0 | J12: =I12*D12 -> 0 | K12: =E12+G12+I12 -> 0 | L12: =F12+H12+J12 -> 0 | N12: 0102 | Q12: 6 | R12: 2 | T12: =L12*1 -> 0
A13: 0103 폐기물처리비 | D13: 1 | E13: =[31]공종별내역서!F339 -> 0 | F13: =E13*D13 -> 0 | G13: =[31]공종별내역서!H339 -> 0 | H13: =G13*D13 -> 0 | I13: =[31]공종별내역서!J339 -> 0 | J13: =I13*D13 -> 0 | K13: =E13+G13+I13 -> 0 | L13: =F13+H13+J13 -> 0 | N13: 0103 | Q13: 7 | R13: 2 | T13: =L13*1 -> 0
A27: [ 합 계 ] | F27: =F5 -> 0 | H27: =H5 -> 0 | J27: =J5 -> 0 | L27: =L5 -> 0

Sheet 공종별내역서(건축)
A1: [ MAUM돌봄 융합교육센터 구축공사(건축,기계) ]
A2: 품 명 | B2: 규 격 | C2: 단위 | D2: 수량 | E2: 재 료 비 | G2: 노 무 비 | I2: 경 비 | K2: 합 계 | M2: 비 고 | N2: 품목코드 | O2: 변수 | P2: 설정 | Q2: 공종코드 | R2: 일위 | S2: 단산 | T2: 자재 | U2: 손료적용 | V2: 손료저장 | W2: 적용율 | X2: JUK1 | Y2: JUK2 | Z2: JUK3 | AA2: JUK4 | AB2: JUK5 | AC2: JUK6 | AD2: JUK7 | AE2: JUK8 | AF2: JUK9 | AG2: JUK10 | AH2: JUK11 | AI2: JUK12 | AJ2: JUK13 | AK2: JUK14 | AL2: JUK15 | AM2: JUK16 | AN2: JUK17 | AO2: JUK18 | AP2: JUK19 | AQ2: JUK20 | AR2: 자재구분 | AS2: 공종구분 | AT2: 공종레벨 | AU2: 공종+자재 | AV2: 고유번호
E3: 단 가 | F3: 금 액 | G3: 단 가 | H3: 금 액 | I3: 단 가 | J3: 금 액 | K3: 단 가 | L3: 금 액
A4: 010101 가 설 공 사 | Q4: 010101
A5: 먹매김 | B5: 개보수 | C5: M2 | D5: 122 | N5: 594AC524CC43DA7872BBC51B2A92D4 | Q5: 010101 | R5: T | S5: F | T5: F | AU5: 010101594AC524CC43DA7872BBC51B2A92D4 | AV5: 4
A6: 이동식말비계 | B6: H=2m, 1개월 | C6: 대 | D6: 6 | N6: 594AC524CC43DA7CECBAF5DDC59837 | Q6: 010101 | R6: T | S6: F | T6: F | AU6: 010101594AC524CC43DA7CECBAF5DDC59837 | AV6: 5
A7: 타일.석재면보양 | B7: 하드롱지 | C7: M2 | D7: 107 | N7: 594AC524CE4EBC748C9E85173498E7 | Q7: 010101 | R7: T | S7: F | T7: F | AU7: 010101594AC524CE4EBC748C9E85173498E7 | AV7: 6
A8: 건축물현장정리,운반 | C8: M2 | D8: 122 | N8: 594AC524C84422732D7E9572AE9E33 | Q8: 010101 | R8: T | S8: F | T8: F | AU8: 010101594AC524C84422732D7E9572AE9E33 | AV8: 90
A9: 준공청소 | C9: M2 | D9: 122 | N9: 594AC524C8442270599DC59159935E | Q9: 010101 | R9: T | S9: F | T9: F | AU9: 010101594AC524C8442270599DC59159935E | AV9: 91
A27: [ 합 계 ] | F27: =SUM(F5:F26) -> 0 | H27: =SUM(H5:H26) -> 0 | J27: =SUM(J5:J26) -> 0 | L27: =SUM(L5:L26) -> 0 | N27: TOTAL
A28: 010102 철근 CON'C공사 | Q28: 010102
A29: 인력비빔 콘크리트타설 | B29: 철근, 1:3:6, 재료비포함 | C29: M3 | D29: 1 | N29: 594AE56C5D48D27F7FF5D506BC9200 | Q29: 010102 | R29: T | S29: F | T29: F | AU29: 010102594AE56C5D48D27F7FF5D506BC9200 | AV29: 10
A30: U형철근보강 | B30: HD10(300+200+300) | C30: EA | D30: 60 | N30: 594AE56F2D4F1E74C23EB5CC3D9792 | Q30: 010102 | R30: T | S30: F | T30: F | AU30: 010102594AE56F2D4F1E74C23EB5CC3D9792 | AV30: 11
A31: U형철근보강 | B31: HD13(300+200+300) | C31: EA | D31: 18 | N31: 594AE56F2D4F1E74C23EB5F9859941 | Q31: 010102 | R31: T | S31: F | T31: F | AU31: 010102594AE56F2D4F1E74C23EB5F9859941 | AV31: 12
A32: 철근커팅 | B32: D10 | C32: EA | D32: 120 | N32: 594AE56F2E49867B77FE353B8B9DC1 | Q32: 010102 | R32: T | S32: F | T32: F | AU32: 010102594AE56F2E49867B77FE353B8B9DC1 | AV32: 13
A33: 철근커팅 | B33: D13 | C33: EA | D33: 36 | N33: 594AE56F2E49867B77FE353B8B9DC2 | Q33: 010102 | R33: T | S33: F | T33: F | AU33: 010102594AE56F2E49867B77FE353B8B9DC2 | AV33: 14
A34: 합판거푸집 설치.해체 | B34: 잡, 소규모 | C34: M2 | D34: 15 | N34: 594AE56E0443A873368035DA6F9E07 | Q34: 010102 | R34: T | S34: F | T34: F | AU34: 010102594AE56E0443A873368035DA6F9E07 | AV34: 15
A51: [ 합 계 ] | F51: =SUM(F29:F50) -> 0 | H51: =SUM(H29:H50) -> 0 | J51: =SUM(J29:J50) -> 0 | L51: =SUM(L29:L50) -> 0 | N51: TOTAL
A52: 010103 조 적 공 사 | Q52: 010103
A53: 시멘트벽돌 | B53: 190*57*90mm | C53: 매 | D53: 8571 | N53: 5E6E65C5BA406C71171F15B3FC988FC9D3AF9B | Q53: 010103 | R53: F | S53: F | T53: T | AU53: 0101035E6E65C5BA406C71171F15B3FC988FC9D3AF9B | AV53: 17
A54: 시멘트벽돌쌓기 | B54: 0.5B, 3.6m이하, 소운반포함 | C54: M2 | D54: 47 | N54: 594AB53873433B79355EC577E19E95 | Q54: 010103 | R54: T | S54: F | T54: F | AU54: 010103594AB53873433B79355EC577E19E95 | AV54: 18
A55: 시멘트벽돌쌓기 | B55: 1.0B, 3.6m이하, 소운반포함 | C55: M2 | D55: 31 | N55: 594AB53873433B7934B4858E4D9441 | Q55: 010103 | R55: T | S55: F | T55: F | AU55: 010103594AB53873433B7934B4858E4D9441 | AV55: 19
A75: [ 합 계 ] | F75: =SUM(F53:F74) -> 0 | H75: =SUM(H53:H74) -> 0 | J75: =SUM(J53:J74) -> 0 | L75: =SUM(L53:L74) -> 0 | N75: TOTAL
A76: 010104 방 수 공 사
A77: 시멘트액체방수 | B77: 바닥, 1종 | C77: M2 | D77: 107
A78: 시멘트액체방수 | B78: 벽, 2종 | C78: M2 | D78: 139
A79: 창호주위코킹 | B79: △10*10mm | C79: M | D79: 70
A80: 방균코킹 | B80: △5*5mm | C80: M | D80: 20
A99: [ 합 계 ] | F99: =SUM(F77:F98) -> 0 | H99: =SUM(H77:H98) -> 0 | J99: =SUM(J77:J98) -> 0 | L99: =SUM(L77:L98) -> 0 | N99: TOTAL
A100: 010105 타 일 공 사
A101: 자기질타일[논슬립] | B101: 300*300mm | C101: M2 | D101: 110
A102: 도기질타일 | B102: 300*600mm | C102: M2 | D102: 341
A103: 타일압착붙임 | B103: 바닥, 바탕42mm | C103: M2 | D103: 107
A104: 타일압착붙임 | B104: 벽, 바탕18mm | C104: M2 | D104: 325
A123: [ 합 계 ] | F123: =SUM(F101:F122) -> 0 | H123: =SUM(H101:H122) -> 0 | J123: =SUM(J101:J122) -> 0 | L123: =SUM(L101:L122) -> 0 | N123: TOTAL
A124: 010106 금 속 공 사 | Q124: 010106
A125: AL 몰딩설치 | B125: ㄷ형, 15*30*15*1.0mm | C125: m | D125: 107 | M125: 조달시공단가 | N125: 594A65B6354F7674E89FB57F6A9245 | Q125: 010106 | R125: T | S125: F | T125: F | AU125: 010106594A65B6354F7674E89FB57F6A9245 | AV125: 31
A126: 타일코너비드설치 | B126: SST, ㅁ10*10*0.5mm | C126: M | D126: 25 | N126: 594A65BD604EA57497A1A5F8539087 | Q126: 010106 | R126: T | S126: F | T126: F | AU126: 010106594A65BD604EA57497A1A5F8539087 | AV126: 32
A127: 재료분리대설치 | B127: 바닥, SST, W10*30*1.5t | C127: M | D127: 8 | N127: 594A65BC474BE87A85B43582B79978 | Q127: 010106 | R127: T | S127: F | T127: F | AU127: 010106594A65BC474BE87A85B43582B79978 | AV127: 33
A147: [ 합 계 ] | N147: TOTAL
...

Sheet 공종별내역서(기계)
A1: [ MAUM돌봄 융합교육센터 구축공사(건축,기계) ]
A2: 품 명 | B2: 규 격 | C2: 단위 | D2: 수량 | E2: 재 료 비 | G2: 노 무 비 | I2: 경 비 | K2: 합 계 | M2: 비 고 | N2: 품목코드 | O2: 변수 | P2: 설정 | Q2: 공종코드 | R2: 일위 | S2: 단산 | T2: 자재 | U2: 손료적용 | V2: 손료저장 | W2: 적용율 | X2: JUK1 | Y2: JUK2 | Z2: JUK3 | AA2: JUK4 | AB2: JUK5 | AC2: JUK6 | AD2: JUK7 | AE2: JUK8 | AF2: JUK9 | AG2: JUK10 | AH2: JUK11 | AI2: JUK12 | AJ2: JUK13 | AK2: JUK14 | AL2: JUK15 | AM2: JUK16 | AN2: JUK17 | AO2: JUK18 | AP2: JUK19 | AQ2: JUK20 | AR2: 자재구분 | AS2: 공종구분 | AT2: 공종레벨 | AU2: 공종+자재 | AV2: 고유번호
E3: 단 가 | F3: 금 액 | G3: 단 가 | H3: 금 액 | I3: 단 가 | J3: 금 액 | K3: 단 가 | L3: 금 액
A4: 010101 1.장비 및 위생기구 설치공사 | Q4: 010101
A5: 천정형전기온풍기 | B5: 1.5kw, 3~4평형 | C5: 대 | D5: 6 | N5: 55F4F2173C409E47979C55A7070747377F2A25 | Q5: 010101 | R5: F | S5: F | T5: T | AU5: 01010155F4F2173C409E47979C55A7070747377F2A25 | AV5: 4
A6: 양변기 | B6: KSC1210(L/T) | C6: 조 | D6: 20 | N6: 558002A7DA755D4B8D9F34420B87DE4B7BD4A8 | Q6: 010101 | R6: F | S6: F | T6: T | AU6: 010101558002A7DA755D4B8D9F34420B87DE4B7BD4A8 | AV6: 5
A7: 장애인용 양변기 | B7: RCP-2 | C7: 조 | D7: 2 | N7: 558002A7DA755D4B8D9F34420B87DE4B7BD5B4 | Q7: 010101 | R7: F | S7: F | T7: T | AU7: 010101558002A7DA755D4B8D9F34420B87DE4B7BD5B4 | AV7: 6
A8: 소변기 | B8: KSU-312,트랩부착,전기식센서내장형 | C8: 조 | D8: 6 | N8: 558002A7DA755D4B8D9F0F3B5F172CE85EC6AA | Q8: 010101 | R8: F | S8: F | T8: T | AU8: 010101558002A7DA755D4B8D9F0F3B5F172CE85EC6AA | AV8: 7
A9: 원형세면기(수전포함) | B9: KSL-1040 | C9: 대 | D9: 15 | N9: 558002A7DA755D4B8D9F2BD6EF37ACF464C79C | Q9: 010101 | R9: F | S9: F | T9: T | AU9: 010101558002A7DA755D4B8D9F2BD6EF37ACF464C79C | AV9: 8
A10: 청소수채 | B10: VS - 210 | C10: 조 | D10: 3 | N10: 558002A7DA755D4B84990515A2E784D9600047 | Q10: 010101 | R10: F | S10: F | T10: T | AU10: 010101558002A7DA755D4B84990515A2E784D9600047 | AV10: 9
A11: 장애인용 손잡이 | B11: 소변기용 | C11: 개 | D11: 3 | N11: 558012B73FCA654BE197E9BDB8475A48F64498 | Q11: 010101 | R11: F | S11: F | T11: T | AU11: 010101558012B73FCA654BE197E9BDB8475A48F64498 | AV11: 10
A12: 영유아용 거치대 | C12: 개 | D12: 2 | N12: 558012B73FCA654BE197E9BDB8475A48F6449F | Q12: 010101 | R12: F | S12: F | T12: T | AU12: 010101558012B73FCA654BE197E9BDB8475A48F6449F | AV12: 11
A13: 위생용품 수거함 | C13: 개 | D13: 14 | N13: 558012B73FCA654BE197E9BDB8475A48F6449C | Q13: 010101 | R13: F | S13: F | T13: T | AU13: 010101558012B73FCA654BE197E9BDB8475A48F6449C | AV13: 12
A14: 일반수전 | B14: D15 | C14: 개 | D14: 6 | N14: 558002A7DA755D4B8C9E6C93CE67CCB796C359 | Q14: 010101 | R14: F | S14: F | T14: T | AU14: 010101558002A7DA755D4B8C9E6C93CE67CCB796C359 | AV14: 13
A15: 인조대리석세면대 | B15: L - 1,500㎜ | C15: 대 | D15: 3 | N15: 558002A7DA755D4B8D9F2BD6EFB7E46BBA4EED | Q15: 010101 | R15: F | S15: F | T15: T | AU15: 010101558002A7DA755D4B8D9F2BD6EFB7E46BBA4EED | AV15: 14
A16: 인조대리석세면대 | B16: L - 3,000㎜ | C16: 대 | D16: 3 | N16: 558002A7DA755D4B8D9F2BD6EFB7E46BBB6E5A | Q16: 010101 | R16: F | S16: F | T16: T | AU16: 010101558002A7DA755D4B8D9F2BD6EFB7E46BBB6E5A | AV16: 15
A17: 수건걸이 | B17: STS제품 | C17: 개 | D17: 15 | N17: 558002A7DA755D4B8C9EF2AA226784309CAFFB | Q17: 010101 | R17: F | S17: F | T17: T | AU17: 010101558002A7DA755D4B8C9EF2AA226784309CAFFB | AV17: 16
A18: 휴지걸이 | B18: STS제품 | C18: 개 | D18: 24 | N18: 558002A7DA755D4B8E99D860A037EE3068B9F7 | Q18: 010101 | R18: F | S18: F | T18: T | AU18: 010101558002A7DA755D4B8E99D860A037EE3068B9F7 | AV18: 17
A19: 비누대 | B19: STS제품 | C19: EA | D19: 15 | N19: 558002A7DA755D4B8499E31055C7E48367093B | Q19: 010101 | R19: F | S19: F | T19: T | AU19: 010101558002A7DA755D4B8499E31055C7E48367093B | AV19: 18
A20: 화장경 | B20: 1500*900*5mm | C20: 개 | D20: 3 | N20: 55EAF2D769339146A4904495094746A05FE3FB | Q20: 010101 | R20: F | S20: F | T20: T | AU20: 01010155EAF2D769339146A4904495094746A05FE3FB | AV20: 19
A21: 화장경 | B21: 3000*900*5mm | C21: 개 | D21: 3 | N21: 55EAF2D769339146A4904495094746A05FECDB | Q21: 010101 | R21: F | S21: F | T21: T | AU21: 01010155EAF2D769339146A4904495094746A05FECDB | AV21: 20
A22: 핸드드라이어 | C22: 대 | D22: 6 | N22: 55809287931E5547429CD03720D75B5B247472 | Q22: 010101 | R22: F | S22: F | T22: T | AU22: 01010155809287931E5547429CD03720D75B5B247472 | AV22: 21
A23: 천정형배기휀(역류방지형) | B23: 3.5CMMx150Ax30W | C23: 대 | D23: 21 | N23: 55F4F2173C409E4944998E031547E524D50BAF | Q23: 010101 | R23: F | S23: F | T23: T | AU23: 01010155F4F2173C409E4944998E031547E524D50BAF | AV23: 22
A24: 보통인부 | B24: 일반공사 직종 | C24: 인 | D24: =#REF! -> #REF! | N24: 52736237DD314743669E82CBCB47AFF170A94A | Q24: 010101 | R24: F | S24: F | T24: T | X24: 1 | AU24: 01010152736237DD314743669E82CBCB47AFF170A94A | AV24: 23
A25: 배관공 | B25: 일반공사 직종 | C25: 인 | D25: =#REF! -> #REF! | N25: 52736237DD314743669E82CBCB47AFF170AA66 | Q25: 010101 | R25: F | S25: F | T25: T | X25: 1 | AU25: 01010152736237DD314743669E82CBCB47AFF170AA66 | AV25: 24
A26: 위생공 | B26: 일반공사 직종 | C26: 인 | D26: =#REF! -> #REF! | N26: 52736237DD314743669E82CBCB47AFF170AD21 | Q26: 010101 | R26: F | S26: F | T26: T | X26: 1 | AU26: 01010152736237DD314743669E82CBCB47AFF170AD21 | AV26: 25
A27: 기계설치공 | B27: 일반공사 직종 | C27: 인 | D27: =#REF! -> #REF! | N27: 52736237DD314743669E82CBCB47AFF170AC1D | Q27: 010101 | R27: F | S27: F | T27: T | X27: 1 | AU27: 01010152736237DD314743669E82CBCB47AFF170AC1D | AV27: 26
A28: 공구손료 | B28: 인력품의 3% | C28: 식 | D28: 1 | N28: 53B5C2D737AD9A43649AF0281587001 | Q28: 010101 | R28: F | S28: F | T28: F | U28: 1 | V28: 0 | W28: 0.03 | AU28: 01010153B5C2D737AD9A43649AF0281587001 | AV28: 215
A51: [ 합 계 ] | N51: TOTAL
A52: 010102 2.급수급탕배관공사 | Q52: 010102
A53: U볼트너트(절연) | B53: 65A | C53: 개 | D53: 6 | N53: 558012B73FCA544B929D8889B1C76CB17F7861 | Q53: 010102 | R53: F | S53: F | T53: T | AU53: 010102558012B73FCA544B929D8889B1C76CB17F7861 | AV53: 206
A54: 일반배관용스테인리스강관 | B54: STS관 (K-TYPE), D15 | C54: m | D54: 206 | N54: 55F4F2173C0AF444FB9DC90D3CF79B60D6BE68 | Q54: 010102 | R54: F | S54: F | T54: T | X54: 1 | AU54: 01010255F4F2173C0AF444FB9DC90D3CF79B60D6BE68 | AV54: 29
A55: 일반배관용스테인리스강관 | B55: STS관 (K-TYPE), D20 | C55: m | D55: 37 | N55: 55F4F2173C0AF444FB9DC90D3CF79B60D6BE69 | Q55: 010102 | R55: F | S55: F | T55: T | X55: 1 | AU55: 01010255F4F2173C0AF444FB9DC90D3CF79B60D6BE69 | AV55: 30
A56: 일반배관용스테인리스강관 | B56: STS관 (K-TYPE), D25 | C56: m | D56: 19 | N56: 55F4F2173C0AF444FB9DC90D3CF79B60D6BE66 | Q56: 010102 | R56: F | S56: F | T56: T | X56: 1 | AU56: 01010255F4F2173C0AF444FB9DC90D3CF79B60D6BE66 | AV56: 31
A57: 일반배관용스테인리스강관 | B57: STS관 (K-TYPE), D40 | C57: m | D57: 18 | N57: 55F4F2173C0AF444FB9DC90D3CF79B60D6BD48 | Q57: 010102 | R57: F | S57: F | T57: T | X57: 1 | AU57: 01010255F4F2173C0AF444FB9DC90D3CF79B60D6BD48 | AV57: 32
A58: 일반배관용스테인리스강관 | B58: STS관 (K-TYPE), D50 | C58: m | D58: 39 | N58: 55F4F2173C0AF444FB9DC90D3CF79B60D6BD49 | Q58: 010102 | R58: F | S58: F | T58: T | X58: 1 | AU58: 01010255F4F2173C0AF444FB9DC90D3CF79B60D6BD49 | AV58: 33
A59: 배관용스테인리스강관 | B59: SUS관, D65x3T | C59: m | D59: 19 | N59: 55F4F2173C0AF444FB9DC90D3CF79B60D011D5 | Q59: 010102 | R59: F | S59: F | T59: T | X59: 1 | AU59: 01010255F4F2173C0AF444FB9DC90D3CF79B60D011D5 | AV59: 34
A60: 잡재료비 | B60: 주재료비의 5% | C60: 식 | D60: 1 | N60: 53B5C2D737AD9A43649AF0281587001 | Q60: 010102 | R60: F | S60: F | T60: F | U60: 0 | V60: 0 | W60: 0.05 | AU60: 01010253B5C2D737AD9A43649AF0281587001 | AV60: 216
A61: 일반배관용스테인리스강관관이음쇠 | B61: 엘보(SUS 용접#10) D65 | C61: 개 | D61: 1 | N61: 55F4F2173C0AF446AF9C62531A67C5521B6341 | Q61: 010102 | R61: F | S61: F | T61: T | AU61: 01010255F4F2173C0AF446AF9C62531A67C5521B6341 | AV61: 35
A62: 일반배관용스테인리스강관관이음쇠 | B62: 티이 (SUS 용접 S#10) D65 | C62: 개 | D62: 3 | N62: 55F4F2173C0AF446AF9C62531A67C5521A5403 | Q62: 010102 | R62: F | S62: F | T62: T | AU62: 01010255F4F2173C0AF446AF9C62531A67C5521A5403 | AV62: 36
...
