Workbook

Sheet 겉표지
A1: =표지!A1 -> 見 積 書 | Z1: 견적가로형식-1
C18: 件 名: | D18: =표지!C13 -> MAUM돌봄 융합교육센터 구축 실시설계 용역
C20: 提 出 處: | D20: =표지!C4 -> 貴下
C22: 提 出 日: | D22: =표지!C6 -> 2023년 12월 15일
D36: =표지!I3 -> 대 한 민 국 주 식 회 사
D37: =표지!I4
D38: =표지!I5 -> ㅇ ㅇ 시 ㅇ ㅇ 구 ㅇ ㅇ 동
D39: =표지!I6
D40: =표지!I7 -> 대표이사 홍 길 동
D41: =표지!I8
D42: =표지!I9 -> 대표전화 (02) 0 0 0 - 0 0 0 0
D43: =표지!I10
D44: =표지!I11 -> 팩 스 (02) 0 0 0 - 0 0 0 0
D45: =표지!I12
D46: =표지!I13

Sheet 표지
A1: 見 積 書
I3: 대 한 민 국 주 식 회 사
B4: 제 출 처: | C4: 貴下
I5: ㅇ ㅇ 시 ㅇ ㅇ 구 ㅇ ㅇ 동
B6: 제 출 일: | C6: 2023년 12월 15일
I7: 대표이사 홍 길 동
B8: 아래와 같이 見積書를 제출합니다.
I9: 대표전화 (02) 0 0 0 - 0 0 0 0
I11: 팩 스 (02) 0 0 0 - 0 0 0 0
B13: 공 사 명: | C13: MAUM돌봄 융합교육센터 구축 실시설계 용역
B15: 공사금액: | C15: ="一金"&NUMBERSTRING(F40,2)&"원整("&DOLLAR(F40,0)&")" -> 一金零원整(₩0)
B17: 내 용 | D17: 단위 | E17: 수량 | F17: 금 액 | H17: 비 고 | M17: 요율 | N17: 금액 | O17: 이윤 | P17: 끝자리맞추기
B18: 재 료 비 | D18: 식 | E18: 1 | F18: =옵션!$B$2 -> 0 | N18: =E18*F18 -> 0
B19: 노 무 비 | D19: 식 | E19: 1 | F19: =옵션!$C$2 -> 0 | N19: =E19*F19 -> 0
B20: 간 접 노 무 비 | D20: 식 | E20: 1 | F20: =TRUNC((F19)*M20/100) -> 0 | H20: (직접 노무비) * 12.2 % | M20: 12.2 | N20: =E20*F20 -> 0
B21: ( 소 계 ) | F21: =SUM(F18:F20) -> 0 | N21: =E21*F21 -> 0
B22: 기 계 경 비 | D22: 식 | E22: 1 | F22: =옵션!$D$2 -> 0 | N22: =E22*F22 -> 0
B23: 산 재 보 험 료 | D23: 식 | E23: 1 | F23: =TRUNC((F19+F20)*M23/100) -> 0 | H23: (노무비) * 3.7 % | M23: 3.7 | N23: =E23*F23 -> 0
B24: 고 용 보 험 료 | D24: 식 | E24: 1 | F24: =TRUNC((F19+F20)*M24/100) -> 0 | H24: (노무비) * 1.01 % | M24: 1.01 | N24: =E24*F24 -> 0
B25: 건 강 보 험 료 | D25: 식 | E25: 1 | F25: =TRUNC((F19)*M25/100) -> 0 | H25: (직접 노무비) * 3.545 % | M25: 3.545 | N25: =E25*F25 -> 0
B26: 연 금 보 험 료 | D26: 식 | E26: 1 | F26: =TRUNC((F19)*M26/100) -> 0 | H26: (직접 노무비) * 4.5 % | M26: 4.5 | N26: =E26*F26 -> 0
B27: 퇴 직 금 공 제 | D27: 식 | E27: 1 | F27: =TRUNC((F19)*M27/100) -> 0 | H27: (직접 노무비) * 2.3 % | M27: 2.3 | N27: =E27*F27 -> 0
B28: 안 전 관 리 비 | D28: 식 | E28: 1 | F28: =TRUNC((F18+F19+0/1.1)*M28/100) -> 0 | H28: (재료+직노+관급재/1.1) * 2.93 % | M28: 2.93 | N28: =E28*F28 -> 0
B29: 기 타 경 비 | D29: 식 | E29: 1 | F29: =TRUNC((F21)*M29/100) -> 0 | H29: (재료+노무) * 5.8 % | M29: 5.8 | N29: =E29*F29 -> 0
B30: 노인장기요양보험 | D30: 식 | E30: 1 | F30: =TRUNC((F25)*M30/100) -> 0 | H30: (건강 보험료) * 12.81 % | M30: 12.81 | N30: =E30*F30 -> 0
B31: ( 소 계 ) | F31: =SUM(F22:F30) -> 0 | N31: =E31*F31 -> 0
B32: 일 반 관 리 비 | D32: 식 | E32: 1 | F32: =TRUNC((F21+F31)*M32/100) -> 0 | H32: (재료+노무+경비) * 6 % | M32: 6 | N32: =E32*F32 -> 0
B33: 이 윤 | D33: 식 | E33: 1 | F33: =O33-((SUM(N18:N32)+O33-TRUNC((SUM(N18:N32)+O33)/P33)*P33)) -> 0 | H33: (노무+경비+일반관리비) * 15 % | M33: 15 | N33: =E33*F33 -> 0 | O33: =TRUNC((F19+F20+F31+F32)*M33/100) -> 0 | P33: 100000
B34: ( 총 원 가 ) | F34: =SUM(N18:N33) -> 0 | N34: =E34*F34 -> 0
B35: 부 가 가 치 세 | D35: 식 | E35: 1 | F35: =TRUNC((F34)*M35/100) -> 0 | M35: 10 | N35: =E35*F35 -> 0
N36: =E36*F36 -> 0
N37: =E37*F37 -> 0
N38: =E38*F38 -> 0
N39: =E39*F39 -> 0
B40: ( 총 계 ) | F40: =N40 -> 0 | N40: =SUM(N18:N39) -> 0
B41: 1. 부가가치세 별도
B42: 2. 한전불입금 별도

Sheet 원가
A1: 원 가 계 산 서
A3: 공사명: | C3: MAUM돌봄 융합교육센터 구축공사(전기)
A4: 비 목 | C4: 구 분 | D4: 금 액 | E4: 구 성 비
B5: 재 료 비 | C5: 직 접 재 료 비
C6: 간 접 재 료 비
C7: ( 소 계 )
A8: 순 | B8: 노 무 비 | C8: 직 접 노 무 비
C9: 간 접 노 무 비 | E9: (직접 노무비) * 12.2 %
C10: ( 소 계 )
C11: 기 계 경 비
C12: 산 재 보 험 료 | D12: 692309 | E12: (노무비) * 3.7 %
A13: 공 | C13: 고 용 보 험 료 | D13: 188981 | E13: (노무비) * 1.01 %
B14: 경 | C14: 안 전 관 리 비 | D14: 560982 | E14: (재료+직노+관급재/1.1) * 2.93 %
C15: 건 강 보 험 료 | D15: 591182 | E15: (직접 노무비) * 3.545 %
C16: 연 금 보 험 료 | D16: 750443 | E16: (직접 노무비) * 4.5 %
C17: 노인장기요양보험료 | D17: 75730 | E17: (건강보험료) * 12.81 %
A18: 사 | C18: 기 타 경 비 | E18: (재료+노무) * 5.8 %
B22: 비
A23: 비
C25: ( 소 계 )
B26: ( 순 공 사 비 계 )
A27: 일 반 관 리 비 | E27: (재료+노무+경비) * 6 %
A28: 이 윤 | E28: (노무+경비+일반관리비) * 15 %
A29: ( 총 원 가 )
A30: 부 가 가 치 세
A35: ( 총 계 )

Sheet 총괄표
A1: 총줄수-> | B1: 29 | C1: 2.0 | D1: [ MAUM돌봄 융합교육센터 구축공사(전기) ] | AA1: 연속견적가로형식
A2: 번호 | B2: 공종코드 | C2: … | D2: 공 종 명 | E2: 규격 | F2: 단위 | G2: 수량 | H2: 재료비 | J2: 노무비 | M2: 경비 | P2: 계 | Q2: 비고
H3: 단가 | I3: 금액 | J3: 수량 | K3: 단가 | L3: 금액 | M3: 단가 | N3: 금액 | O3: 단가
B4: 공종줄 | D4: [MAUM돌봄 융합교육센터 구축 실시설계 용역]
B5: 001 | D5: 1.전열설비공사 | F5: 식 | G5: 1 | H5: =내역서!I29 -> 0 | I5: =G5*H5 -> 0 | K5: =내역서!L29 -> 0 | L5: =G5*K5 -> 0 | M5: =내역서!N29 -> 0 | N5: =G5*M5 -> 0 | P5: =SUM(I5,L5,N5) -> 0
B6: 002 | D6: 2.전등설비공사 | F6: 식 | G6: 1 | H6: =내역서!I55 -> 0 | I6: =G6*H6 -> 0 | K6: =내역서!L55 -> 0 | L6: =G6*K6 -> 0 | M6: =내역서!N55 -> 0 | N6: =G6*M6 -> 0 | P6: =SUM(I6,L6,N6) -> 0
B7: 003 | D7: 3.비상벨설비공사 | F7: 식 | G7: 1 | H7: =내역서!I81 -> 0 | I7: =G7*H7 -> 0 | K7: =내역서!L81 -> 0 | L7: =G7*K7 -> 0 | M7: =내역서!N81 -> 0 | N7: =G7*M7 -> 0 | P7: =SUM(I7,L7,N7) -> 0
I8: =G8*H8 -> 0 | L8: =G8*K8 -> 0 | N8: =G8*M8 -> 0 | P8: =SUM(I8,L8,N8) -> 0
I9: =G9*H9 -> 0 | L9: =G9*K9 -> 0 | N9: =G9*M9 -> 0 | P9: =SUM(I9,L9,N9) -> 0
I10: =G10*H10 -> 0 | L10: =G10*K10 -> 0 | N10: =G10*M10 -> 0 | P10: =SUM(I10,L10,N10) -> 0
I11: =G11*H11 -> 0 | L11: =G11*K11 -> 0 | N11: =G11*M11 -> 0 | P11: =SUM(I11,L11,N11) -> 0
I12: =G12*H12 -> 0 | L12: =G12*K12 -> 0 | N12: =G12*M12 -> 0 | P12: =SUM(I12,L12,N12) -> 0
I13: =G13*H13 -> 0 | L13: =G13*K13 -> 0 | N13: =G13*M13 -> 0 | P13: =SUM(I13,L13,N13) -> 0
I14: =G14*H14 -> 0 | L14: =G14*K14 -> 0 | N14: =G14*M14 -> 0 | P14: =SUM(I14,L14,N14) -> 0
I15: =G15*H15 -> 0 | L15: =G15*K15 -> 0 | N15: =G15*M15 -> 0 | P15: =SUM(I15,L15,N15) -> 0
I16: =G16*H16 -> 0 | L16: =G16*K16 -> 0 | N16: =G16*M16 -> 0 | P16: =SUM(I16,L16,N16) -> 0
I17: =G17*H17 -> 0 | L17: =G17*K17 -> 0 | N17: =G17*M17 -> 0 | P17: =SUM(I17,L17,N17) -> 0
I18: =G18*H18 -> 0 | L18: =G18*K18 -> 0 | N18: =G18*M18 -> 0 | P18: =SUM(I18,L18,N18) -> 0
I19: =G19*H19 -> 0 | L19: =G19*K19 -> 0 | N19: =G19*M19 -> 0 | P19: =SUM(I19,L19,N19) -> 0
... I28: =G28*H28 -> 0 | L28: =G28*K28 -> 0 | N28: =G28*M28 -> 0 | P28: =SUM(I28,L28,N28) -> 0
C29: Total | D29: ( 합 계 ) | I29: =TRUNC(SUM(I4:I28)) -> 0 | L29: =TRUNC(SUM(L4:L28)) -> 0 | N29: =TRUNC(SUM(N4:N28)) -> 0 | P29: =TRUNC(SUM(P4:P28)) -> 0

Sheet 내역서
A1: 총줄수-> | B1: 81 | C1: 2.0 | D1: [ MAUM돌봄 융합교육센터 구축공사(전기) ] | W1: 노임 계산 정보 | AA1: 부속재 및 손료
A2: 번호 | B2: 공종코드 | C2: 코드 | D2: 명 칭 | E2: 규 격 | F2: 단위 | G2: 수량 | H2: 재료비 | J2: 노무비 | M2: 경비 | P2: 계 | Q2: 비고 | W2: 노임계 | X2: 전체(%) | Y2: 공종별(%) | Z2: 노임 소수 | AA2: CD배관재 | AB2: 일반배관재 | AC2: 소모재 | AD2: 자재계 | AE2: 노임계
H3: 단가 | I3: 금액 | J3: 수량 | K3: 단가 | L3: 금액 | M3: 단가 | N3: 금액 | O3: 단가 | AD3: =IF(옵션!$C$11 =0, "1", 옵션!$C$11) -> 1 | AE3: =IF(옵션!$C$12 =0, "1", 옵션!$C$12) -> 1
B4: 공종줄 | D4: 1.전열설비공사
A5: 59753097003 | B5: 001 | C5: 3913170610035665 | D5: 합성수지제 가요전선관 | E5: CD-난연성 22㎜ | F5: m | G5: 94 | AA5: =I5 -> 0 | AC5: =G5*H5 -> 0
A6: A0600000000 | B6: 001 | C6: RENT000000000001 | D6: [ 배관 부속재 ] | E6: CD 전선관의 40 % | F6: 식 | G6: 1 | AA6: =TRUNC(SUM(AA4:AA5)) -> 0
A7: 59753017004 | B7: 001 | C7: 3913170620174411 | D7: 1종금속제가요전선관 | E7: 22 mm 일반-비방수 | F7: m | G7: 94 | AC7: =G7*H7 -> 0
A8: 59753017044 | B8: 001 | C8: 3913170620174435 | D8: 1종금속제가요전선관 | E8: 커넥터, 22 mm 일반-비방수 | F8: 개 | G8: 166
A9: 59753767011 | B9: 001 | C9: 3912130810035750 | D9: 아우트렛박스 | E9: 8각 54㎜ | F9: 개 | G9: 10
A10: 59753777111 | B10: 001 | C10: 3912130610035781 | D10: 스위치박스 | E10: 2 개용 54 mm | F10: 개 | G10: 15
A11: MM300040259 | B11: 001 | C11: 3912130610035785 | D11: 스위치박스 | E11: 승압용 54mm | F11: 개 | G11: 8
A12: 59753767201 | B12: 001 | C12: 3912130820174710 | D12: 아우트렛박스 커버 | E12: 커버, 8각, 평형 | F12: 개 | G12: 10
A13: 59753767281 | B13: 001 | C13: 3912130820174718 | D13: 아우트렛박스 커버 | E13: 커버, 4각,2개용S/W (오목) | F13: 개 | G13: 15
A14: E1450667003 | B14: 001 | C14: 2612162922076728 | D14: 450/750V 내열비닐절연전선 | E14: HFIX 2.25mm(4㎟) | F14: m | G14: 425 | AC14: =G14*H14 -> 0
A15: 59350317121 | B15: 001 | C15: 3912140620170834 | D15: 콘센트 | E15: 노출-접지형, 250V 원형 | F15: 개 | G15: 4 | Z15: 노임계
A16: 59350317208 | B16: 001 | C16: 3912140621030228 | D16: 방우콘센트 | E16: 매입-접지형, 250V 2구 | F16: 개 | G16: 23
A17: MM486858100 | B17: 001 | C17: 3912140620171863 | D17: 콘센트 부 누전차단기 | E17: 250V 2구 | F17: 개 | G17: 8 | Q17: 철거자재
A18: MM300020604 | B18: 001 | C18: 3912161420167114 | D18: 누전차단기(32KGRc) | E18: 2P 30AF 20AT | F18: EA | G18: 4
A19: 59400247002 | B19: 001 | C19: 3912140920171333 | D19: 와이어콘넥터 | E19: 6 ㎟ x 2가닥 | F19: 개 | G19: 45
A20: 56959100801 | B20: 001 | C20: EAB110211000 | D20: 배관용 홈파기 | E20: Φ22이하 | F20: m | G20: 49 | AE20: =L20 -> 0
A21: A0100000000 | B21: 001 | C21: RENT000000000003 | D21: [ 소모 잡자재 ] | E21: 전선, 전선관의 2 % | F21: 식 | G21: 1 | AC21: =TRUNC(TRUNC(SUM(AC4:AC20))*옵션!$B$33/100) -> 0 | AD21: =TRUNC(SUM(I4:I20))+TRUNC(SUM(N4:N20)) -> 0
A22: 56900017016 | B22: 001 | C22: L001010101000075 | D22: 노 무 비 | E22: 내선전공 | F22: 인 | G22: 22 | AE22: =L22 -> 0
A23: A0300000000 | B23: 001 | C23: RENT000000000006 | D23: [ 공 구 손 료 ] | E23: 노무비의 3 % | F23: 식 | G23: 1
AC24: =TRUNC(AE24*옵션!$B$36/100) -> 0 | AD24: =TRUNC(SUM(L4:L22)) -> 0 | AE24: =TRUNC(SUM(AE4:AE23)) -> 0
I25: =TRUNC(G25*H25) -> 0 | L25: =TRUNC(G25*K25) -> 0 | N25: =TRUNC(G25*M25) -> 0 | P25: =SUM(I25,L25,N25) -> 0
I26: =TRUNC(G26*H26) -> 0 | L26: =TRUNC(G26*K26) -> 0 | N26: =TRUNC(G26*M26) -> 0 | P26: =SUM(I26,L26,N26) -> 0
I27: =TRUNC(G27*H27) -> 0 | L27: =TRUNC(G27*K27) -> 0 | N27: =TRUNC(G27*M27) -> 0 | P27: =SUM(I27,L27,N27) -> 0
I28: =TRUNC(G28*H28) -> 0 | L28: =TRUNC(G28*K28) -> 0 | N28: =TRUNC(G28*M28) -> 0 | P28: =SUM(I28,L28,N28) -> 0
B29: 합계줄 | D29: ( 합 계 ) | I29: =TRUNC(SUM(I4:I28)) -> 0 | L29: =TRUNC(SUM(L4:L28)) -> 0 | N29: =TRUNC(SUM(N4:N28)) -> 0 | P29: =TRUNC(SUM(P4:P28)) -> 0
B30: 공종줄 | D30: 2.전등설비공사
A31: 59753097002 | B31: 002 | C31: 3913170610035664 | D31: 합성수지제 가요전선관 | E31: CD-난연성 16㎜ | F31: m | G31: 157 | AA31: =I31 -> 0 | AC31: =G31*H31 -> 0
A32: A0600000000 | B32: 002 | C32: RENT000000000001 | D32: [ 배관 부속재 ] | E32: CD 전선관의 40 % | F32: 식 | G32: 1 | AA32: =TRUNC(SUM(AA30:AA31)) -> 0
A33: 59753017003 | B33: 002 | C33: 3913170620174410 | D33: 1종금속제가요전선관 | E33: 16 mm 일반-비방수 | F33: m | G33: 79 | AC33: =G33*H33 -> 0
A34: 59753017043 | B34: 002 | C34: 3913170620174434 | D34: 1종금속제가요전선관 | E34: 커넥터, 16 mm 일반-비방수 | F34: 개 | G34: 144
A35: 59753767011 | B35: 002 | C35: 3912130810035750 | D35: 아우트렛박스 | E35: 8각 54㎜ | F35: 개 | G35: 27
A36: 59753767041 | B36: 002 | C36: 3912130810035753 | D36: 아우트렛박스 | E36: 중형4각 54㎜ | F36: 개 | G36: 45
A37: 59753777102 | B37: 002 | C37: 3912130610035778 | D37: 스위치박스 | E37: 1 개용 54 mm | F37: 개 | G37: 6
A38: 59753767201 | B38: 002 | C38: 3912130820174710 | D38: 아우트렛박스 커버 | E38: 커버, 8각, 평형 | F38: 개 | G38: 27
A39: 59753767231 | B39: 002 | C39: 3912130820174713 | D39: 아우트렛박스 커버 | E39: 커버, 4각, 평형 | F39: 개 | G39: 45
A40: MM481669624 | B40: 002 | C40: 2612162922076727 | D40: 450/750V 내열비닐절연전선 | E40: HFIX 1.78mm(2.5㎟) | F40: m | G40: 757 | AC40: =G40*H40 -> 0
...

Sheet 합산자재
A1: 총줄수-> | B1: 55 | C1: [ MAUM돌봄 융합교육센터 구축 실시설계 용역 ] - 합산자재목록
A2: 번호 | B2: … | C2: 코드 | D2: 명 칭 | E2: 규 격 | F2: 단위 | G2: 수량 | H2: 재료비 | I2: 노무비 | J2: 경비 | K2: 지급비 | L2: 계 | M2: 비고
C4: 3913170610035664 | D4: 합성수지제 가요전선관 | E4: CD-난연성 16㎜ | F4: m | H4: =TRUNC(#REF!*옵션!$D$11) -> #REF! | L4: =SUM(H4,I4,J4) -> #REF!
C5: 3913170610035665 | D5: 합성수지제 가요전선관 | E5: CD-난연성 22㎜ | F5: m | H5: =TRUNC(#REF!*옵션!$D$11) -> #REF! | L5: =SUM(H5,I5,J5) -> #REF!
C6: 3913170620174410 | D6: 1종금속제가요전선관 | E6: 16 mm 일반-비방수 | F6: m | H6: =TRUNC(#REF!*옵션!$D$11) -> #REF! | L6: =SUM(H6,I6,J6) -> #REF!
C7: 3913170620174411 | D7: 1종금속제가요전선관 | E7: 22 mm 일반-비방수 | F7: m | H7: =TRUNC(#REF!*옵션!$D$11) -> #REF! | L7: =SUM(H7,I7,J7) -> #REF!
C8: 3913170620174434 | D8: 1종금속제가요전선관 | E8: 커넥터, 16 mm 일반-비방수 | F8: 개 | H8: =TRUNC(#REF!*옵션!$D$11) -> #REF! | L8: =SUM(H8,I8,J8) -> #REF!
C9: 3913170620174435 | D9: 1종금속제가요전선관 | E9: 커넥터, 22 mm 일반-비방수 | F9: 개 | H9: =TRUNC(#REF!*옵션!$D$11) -> #REF! | L9: =SUM(H9,I9,J9) -> #REF!
C10: 3912130810035750 | D10: 아우트렛박스 | E10: 8각 54㎜ | F10: 개 | H10: =TRUNC(#REF!*옵션!$D$11) -> #REF! | L10: =SUM(H10,I10,J10) -> #REF!
C11: 3912130810035753 | D11: 아우트렛박스 | E11: 중형4각 54㎜ | F11: 개 | H11: =TRUNC(#REF!*옵션!$D$11) -> #REF! | L11: =SUM(H11,I11,J11) -> #REF!
C12: 3912130610035778 | D12: 스위치박스 | E12: 1 개용 54 mm | F12: 개 | H12: =TRUNC(#REF!*옵션!$D$11) -> #REF! | L12: =SUM(H12,I12,J12) -> #REF!
C13: 3912130610035781 | D13: 스위치박스 | E13: 2 개용 54 mm | F13: 개 | H13: =TRUNC(#REF!*옵션!$D$11) -> #REF! | L13: =SUM(H13,I13,J13) -> #REF!
C14: 3912130610035785 | D14: 스위치박스 | E14: 승압용 54mm | F14: 개 | H14: =TRUNC(#REF!*옵션!$D$11) -> #REF! | L14: =SUM(H14,I14,J14) -> #REF!
C15: 3912130820174710 | D15: 아우트렛박스 커버 | E15: 커버, 8각, 평형 | F15: 개 | H15: =TRUNC(#REF!*옵션!$D$11) -> #REF! | L15: =SUM(H15,I15,J15) -> #REF!
... C28: 3912140920171333 | D28: 와이어콘넥터 | E28: 6 ㎟ x 2가닥 | F28: 개 | H28: =TRUNC(#REF!*옵션!$D$11) -> #REF! | L28: =SUM(H28,I28,J28) -> #REF!
C29: 391115ZZ701Z0001 | D29: 비상벨(무선) | F29: 개 | H29: =TRUNC(#REF!*옵션!$D$11) -> #REF! | L29: =SUM(H29,I29,J29) -> #REF!
C30: 391115ZZ701Z0002 | D30: 비상벨 주장치(무선) | F30: 개 | H30: =TRUNC(#REF!*옵션!$D$11) -> #REF! | L30: =SUM(H30,I30,J30) -> #REF!
C31: ECA565826062 | D31: 코어드릴 | E31: 15.24cm | F31: 시간 | H31: =#REF! -> #REF! | I31: =#REF! -> #REF! | J31: =#REF! -> #REF! | L31: =SUM(H31,I31,J31) -> #REF! | M31: 종합적산705
C32: L001010101000075 | D32: 노 무 비 | E32: 내선전공 | F32: 인 | I32: =TRUNC(#REF!) -> #REF! | L32: =SUM(H32,I32,J32) -> #REF!
C33: L001010101000086 | D33: 노 무 비 | E33: 통신내선공 | F33: 인 | I33: =TRUNC(#REF!) -> #REF! | L33: =SUM(H33,I33,J33) -> #REF!
C34: L001010101000002 | D34: 노 무 비 | E34: 보통인부 | F34: 인 | I34: =TRUNC(#REF!) -> #REF! | L34: =SUM(H34,I34,J34) -> #REF!
C35: L001010101000015 | D35: 노 무 비 | E35: 착암공 | F35: 인 | I35: =TRUNC(#REF!) -> #REF! | L35: =SUM(H35,I35,J35) -> #REF!
L36: =SUM(H36,I36,J36) -> 0
L37: =SUM(H37,I37,J37) -> 0
L38: =SUM(H38,I38,J38) -> 0
L39: =SUM(H39,I39,J39) -> 0
L40: =SUM(H40,I40,J40) -> 0
L41: =SUM(H41,I41,J41) -> 0
L42: =SUM(H42,I42,J42) -> 0
L43: =SUM(H43,I43,J43) -> 0
L44: =SUM(H44,I44,J44) -> 0
L45: =SUM(H45,I45,J45) -> 0
L46: =SUM(H46,I46,J46) -> 0
L47: =SUM(H47,I47,J47) -> 0
... L55: =SUM(H55,I55,J55) -> 0

Sheet 옵션
B1: 재료비 | C1: 노무비 | D1: 경비 | F1: 계
A2: 총 급 액 | B2: =총괄표!I29 -> 0 | C2: =총괄표!L29 -> 0 | D2: =총괄표!N29 -> 0 | F2: =SUM(B2,C2,D2) -> 0
A3: 관급 자재비 | F3: =SUM(B3,C3,D3) -> 0 | H3: 금액조정이 안되나요?
H6: 이지테크에서 변환할 때 2번 옵션을 지정하여 다시 해보세요
H9: 시트를 삭제할 때 에러가 뜨면 1번 옵션으로 하면 됩니다.
B10: 적용율(%) | C10: 끝자리 | D10: 적용율(%)/100 | E10: 일위대가소수
A11: 전체자재 적용율(%)(공종/일위대가) | B11: 100 | C11: 1 | D11: =$B$11/100 -> 1
A12: 전체노임 적용율(%)(공종) | B12: 100 | C12: 1 | D12: =$B$12/100 -> 1 | E12: 2 | H12: 2번 옵션으로 변환했을 때에는 결과값이 다를 수 있습니다.
A13: 전체노임 적용율(%)(일위대가) | B13: 100 | C13: 1 | D13: =$B$13/100 -> 1 | E13: 5
A20: *(그룹별 자재 단가 추가 할증)* | B20: 적용율(%) | D20: 적용율(%)/100
A21: Cable(CAB) 할증(%) | B21: =B11 -> 100 | D21: =$B$21/100 -> 1
A22: Wire (WIR) 할증(%) | B22: =B11 -> 100 | D22: =$B$22/100 -> 1
A23: Pipe (PIP) 할증(%) | B23: =B11 -> 100 | D23: =$B$23/100 -> 1
A24: 제 4그룹 할증(%) | B24: =B11 -> 100 | D24: =$B$24/100 -> 1
A25: 제 5그룹 할증(%) | B25: =B11 -> 100 | D25: =$B$25/100 -> 1
A30: *(그룹별 노임 추가 할증)* | B30: 적용율(%) | C30: 자동부속재(전기) | D30: 자동부속재(통신)
A31: 배관부속재(%) | B31: 15 | C31: 15 | D31: 20
A32: CD관부속재(%) | B32: 40 | C32: 40 | D32: 40
A33: 소모잡자재(%) | B33: 2 | H33: 본 파일은 이지테크에서 2번 옵션으로 만들었습니다.
A34: 방폭할증(%)
A35: 고소할증(%) | B35: 2
A36: 공구손료(%) | B36: 3
A40: *(공종별 노임 적용율(%))* | B40: 적용율(%) | C40: 소수자릿수
A41: 1.전열설비공사 | B41: 100 | C41: 0
A42: 2.전등설비공사 | B42: 100 | C42: 0
A43: 3.비상벨설비공사 | B43: 100 | C43: 0

Sheet 사용설명
B1: ** 반드시 다음 사항을 숙지하신 다음 수정 작업을 하십시오 **
A2: 1. | B2: 산출 양식은 공식이 연결되어 있지 않습니다.
B3: 수정 작업은 본 프로그램에서 하신 후 다시 작성(엑셀파일) 하십시오.
A4: 2. | B4: 본 파일의 내용을 인쇄할 경우, 미리보기를 통하여 페이지 절선을 확인 후 인쇄하십시오.
A5: 3. | B5: 페이지 절선이 맞지 않으면 다음을 참고하십시오.
B17: a. 해당시트의 셀 전체를 선택합니다.
B18: b. 행높이를 적절히 가감하면 페이지 절선을 맞출 수 있습니다.
